BEGIN:VCALENDAR
VERSION:2.0
PRODID:-//Church on the Rock - ECPv6.15.20//NONSGML v1.0//EN
CALSCALE:GREGORIAN
METHOD:PUBLISH
X-ORIGINAL-URL:https://cotrgtwn.org
X-WR-CALDESC:Events for Church on the Rock
REFRESH-INTERVAL;VALUE=DURATION:PT1H
X-Robots-Tag:noindex
X-PUBLISHED-TTL:PT1H
BEGIN:VTIMEZONE
TZID:America/Chicago
BEGIN:DAYLIGHT
TZOFFSETFROM:-0600
TZOFFSETTO:-0500
TZNAME:CDT
DTSTART:20250309T080000
END:DAYLIGHT
BEGIN:STANDARD
TZOFFSETFROM:-0500
TZOFFSETTO:-0600
TZNAME:CST
DTSTART:20251102T070000
END:STANDARD
BEGIN:DAYLIGHT
TZOFFSETFROM:-0600
TZOFFSETTO:-0500
TZNAME:CDT
DTSTART:20260308T080000
END:DAYLIGHT
BEGIN:STANDARD
TZOFFSETFROM:-0500
TZOFFSETTO:-0600
TZNAME:CST
DTSTART:20261101T070000
END:STANDARD
BEGIN:DAYLIGHT
TZOFFSETFROM:-0600
TZOFFSETTO:-0500
TZNAME:CDT
DTSTART:20270314T080000
END:DAYLIGHT
BEGIN:STANDARD
TZOFFSETFROM:-0500
TZOFFSETTO:-0600
TZNAME:CST
DTSTART:20271107T070000
END:STANDARD
END:VTIMEZONE
BEGIN:VEVENT
DTSTART;TZID=America/Chicago:20260201T100000
DTEND;TZID=America/Chicago:20260201T120000
DTSTAMP:20260422T202456
CREATED:20251113T192650Z
LAST-MODIFIED:20251113T213508Z
UID:46599-1769940000-1769947200@cotrgtwn.org
SUMMARY:Sunday Morning Service
DESCRIPTION:Group: Our Church
URL:https://cotrgtwn.org/calendar-event/sunday-morning-service-11/
LOCATION:Church on the Rock\, 925 Golden Oaks Dr\, Georgetown\, TX\, 78626\, United States
END:VEVENT
BEGIN:VEVENT
DTSTART;TZID=America/Chicago:20260201T100000
DTEND;TZID=America/Chicago:20260201T120000
DTSTAMP:20260422T202456
CREATED:20260106T200447Z
LAST-MODIFIED:20260106T200447Z
UID:166894-1769940000-1769947200@cotrgtwn.org
SUMMARY:Pastor Nancy Dufresne Ministering
DESCRIPTION:Group: Our Church
URL:https://cotrgtwn.org/calendar-event/pastor-nancy-dufresne-ministering/
LOCATION:Church on the Rock\, 925 Golden Oaks Dr\, Georgetown\, TX\, 78626\, United States
END:VEVENT
BEGIN:VEVENT
DTSTART;TZID=America/Chicago:20260201T140000
DTEND;TZID=America/Chicago:20260201T170000
DTSTAMP:20260422T202456
CREATED:20251113T192650Z
LAST-MODIFIED:20251206T221250Z
UID:46600-1769954400-1769965200@cotrgtwn.org
SUMMARY:Family Sunday
DESCRIPTION:Group: Our Church \nDetails to come.
URL:https://cotrgtwn.org/calendar-event/family-sunday-3/
LOCATION:TX
END:VEVENT
BEGIN:VEVENT
DTSTART;TZID=America/Chicago:20260201T180000
DTEND;TZID=America/Chicago:20260201T200000
DTSTAMP:20260422T202456
CREATED:20260106T200447Z
LAST-MODIFIED:20260106T200447Z
UID:166895-1769968800-1769976000@cotrgtwn.org
SUMMARY:Pastor Nancy Dufresne Ministering
DESCRIPTION:Group: Our Church
URL:https://cotrgtwn.org/calendar-event/pastor-nancy-dufresne-ministering-2/
LOCATION:TX
END:VEVENT
BEGIN:VEVENT
DTSTART;TZID=America/Chicago:20260202T190000
DTEND;TZID=America/Chicago:20260202T210000
DTSTAMP:20260422T202456
CREATED:20260106T200447Z
LAST-MODIFIED:20260106T200447Z
UID:166896-1770058800-1770066000@cotrgtwn.org
SUMMARY:Pastor Nancy Dufresne Ministering
DESCRIPTION:Group: Our Church
URL:https://cotrgtwn.org/calendar-event/pastor-nancy-dufresne-ministering-3/
LOCATION:TX
END:VEVENT
BEGIN:VEVENT
DTSTART;TZID=America/Chicago:20260203T183000
DTEND;TZID=America/Chicago:20260203T203000
DTSTAMP:20260422T202456
CREATED:20260122T211525Z
LAST-MODIFIED:20260122T211525Z
UID:167482-1770143400-1770150600@cotrgtwn.org
SUMMARY:Department Team Lead Meeting
DESCRIPTION:Group: Our Church
URL:https://cotrgtwn.org/calendar-event/department-team-lead-meeting/
LOCATION:TX
END:VEVENT
BEGIN:VEVENT
DTSTART;TZID=America/Chicago:20260204T190000
DTEND;TZID=America/Chicago:20260204T203000
DTSTAMP:20260422T202456
CREATED:20251113T192650Z
LAST-MODIFIED:20251206T221253Z
UID:46602-1770231600-1770237000@cotrgtwn.org
SUMMARY:Wednesday Night Service
DESCRIPTION:Group: Our Church
URL:https://cotrgtwn.org/calendar-event/wednesday-night-service-11/
LOCATION:Church on the Rock\, 925 Golden Oaks Dr\, Georgetown\, TX\, 78626\, United States
END:VEVENT
BEGIN:VEVENT
DTSTART;TZID=America/Chicago:20260205T180000
DTEND;TZID=America/Chicago:20260205T190000
DTSTAMP:20260422T202456
CREATED:20251113T192651Z
LAST-MODIFIED:20251206T221256Z
UID:46604-1770314400-1770318000@cotrgtwn.org
SUMMARY:Usher Team Cleaning
DESCRIPTION:Group: Ushers
URL:https://cotrgtwn.org/calendar-event/usher-team-cleaning/
LOCATION:Church on the Rock\, 925 Golden Oaks Dr\, Georgetown\, TX\, 78626\, United States
END:VEVENT
BEGIN:VEVENT
DTSTART;TZID=America/Chicago:20260205T190000
DTEND;TZID=America/Chicago:20260205T200000
DTSTAMP:20260422T202456
CREATED:20251113T192651Z
LAST-MODIFIED:20251206T221259Z
UID:46603-1770318000-1770321600@cotrgtwn.org
SUMMARY:Usher Training
DESCRIPTION:Group: Ushers
URL:https://cotrgtwn.org/calendar-event/usher-training/
LOCATION:Church on the Rock\, 925 Golden Oaks Dr\, Georgetown\, TX\, 78626\, United States
END:VEVENT
BEGIN:VEVENT
DTSTART;TZID=America/Chicago:20260206T190000
DTEND;TZID=America/Chicago:20260206T210000
DTSTAMP:20260422T202456
CREATED:20251113T192651Z
LAST-MODIFIED:20251206T221259Z
UID:46605-1770404400-1770411600@cotrgtwn.org
SUMMARY:Ladies Night
DESCRIPTION:Group: Ladies’ Ministry \nDetails to come.
URL:https://cotrgtwn.org/calendar-event/ladies-night-2/
LOCATION:TX
END:VEVENT
BEGIN:VEVENT
DTSTART;TZID=America/Chicago:20260207T100000
DTEND;TZID=America/Chicago:20260207T120000
DTSTAMP:20260422T202456
CREATED:20251113T192651Z
LAST-MODIFIED:20251206T221302Z
UID:46607-1770458400-1770465600@cotrgtwn.org
SUMMARY:Children's Ministry Classroom Deep Clean
DESCRIPTION:Group: Children’s Ministry Team
URL:https://cotrgtwn.org/calendar-event/childrens-ministry-classroom-deep-clean/
LOCATION:Church on the Rock\, 925 Golden Oaks Dr\, Georgetown\, TX\, 78626\, United States
END:VEVENT
BEGIN:VEVENT
DTSTART;TZID=America/Chicago:20260208T081500
DTEND;TZID=America/Chicago:20260208T084500
DTSTAMP:20260422T202456
CREATED:20251113T192651Z
LAST-MODIFIED:20251206T221306Z
UID:46608-1770538500-1770540300@cotrgtwn.org
SUMMARY:Pre-Service Prayer
DESCRIPTION:Group: Our Church
URL:https://cotrgtwn.org/calendar-event/pre-service-prayer-22/
LOCATION:Church on the Rock\, 925 Golden Oaks Dr\, Georgetown\, TX\, 78626\, United States
END:VEVENT
BEGIN:VEVENT
DTSTART;TZID=America/Chicago:20260208T100000
DTEND;TZID=America/Chicago:20260208T120000
DTSTAMP:20260422T202456
CREATED:20251113T192651Z
LAST-MODIFIED:20251113T213509Z
UID:46609-1770544800-1770552000@cotrgtwn.org
SUMMARY:Sunday Morning Service
DESCRIPTION:Group: Our Church
URL:https://cotrgtwn.org/calendar-event/sunday-morning-service-12/
LOCATION:Church on the Rock\, 925 Golden Oaks Dr\, Georgetown\, TX\, 78626\, United States
END:VEVENT
BEGIN:VEVENT
DTSTART;TZID=America/Chicago:20260208T150000
DTEND;TZID=America/Chicago:20260208T163000
DTSTAMP:20260422T202456
CREATED:20251113T192652Z
LAST-MODIFIED:20251206T221311Z
UID:46611-1770562800-1770568200@cotrgtwn.org
SUMMARY:Praise Team Practice
DESCRIPTION:Group: Praise Team \nMeet in Sanctuary
URL:https://cotrgtwn.org/calendar-event/praise-team-practice-6/
LOCATION:Church on the Rock\, 925 Golden Oaks Dr\, Georgetown\, TX\, 78626\, United States
END:VEVENT
BEGIN:VEVENT
DTSTART;TZID=America/Chicago:20260208T180000
DTEND;TZID=America/Chicago:20260208T200000
DTSTAMP:20260422T202456
CREATED:20251113T192652Z
LAST-MODIFIED:20251206T221316Z
UID:46612-1770573600-1770580800@cotrgtwn.org
SUMMARY:Sunday Evening Service
DESCRIPTION:Group: Our Church
URL:https://cotrgtwn.org/calendar-event/sunday-evening-service-5/
LOCATION:Church on the Rock\, 925 Golden Oaks Dr\, Georgetown\, TX\, 78626\, United States
END:VEVENT
BEGIN:VEVENT
DTSTART;TZID=America/Chicago:20260208T180000
DTEND;TZID=America/Chicago:20260208T200000
DTSTAMP:20260422T202456
CREATED:20251204T001130Z
LAST-MODIFIED:20251206T221313Z
UID:162713-1770573600-1770580800@cotrgtwn.org
SUMMARY:Youth Service
DESCRIPTION:Group: Youth Group
URL:https://cotrgtwn.org/calendar-event/youth-service-16/
LOCATION:Church on the Rock\, 925 Golden Oaks Dr\, Georgetown\, TX\, 78626\, United States
END:VEVENT
BEGIN:VEVENT
DTSTART;TZID=America/Chicago:20260211T190000
DTEND;TZID=America/Chicago:20260211T203000
DTSTAMP:20260422T202456
CREATED:20251113T192652Z
LAST-MODIFIED:20251206T221318Z
UID:46613-1770836400-1770841800@cotrgtwn.org
SUMMARY:Wednesday Night Service
DESCRIPTION:Group: Our Church
URL:https://cotrgtwn.org/calendar-event/wednesday-night-service-12/
LOCATION:Church on the Rock\, 925 Golden Oaks Dr\, Georgetown\, TX\, 78626\, United States
END:VEVENT
BEGIN:VEVENT
DTSTART;TZID=America/Chicago:20260213T183000
DTEND;TZID=America/Chicago:20260213T203000
DTSTAMP:20260422T202456
CREATED:20251113T192653Z
LAST-MODIFIED:20251206T221320Z
UID:46623-1771007400-1771014600@cotrgtwn.org
SUMMARY:KOTR Movie Night
DESCRIPTION:Group: KOTR Serving Team \nDetails to come.
URL:https://cotrgtwn.org/calendar-event/kotr-event-2/
LOCATION:Church on the Rock\, 925 Golden Oaks Dr\, Georgetown\, TX\, 78626\, United States
END:VEVENT
BEGIN:VEVENT
DTSTART;TZID=America/Chicago:20260215T081500
DTEND;TZID=America/Chicago:20260215T084500
DTSTAMP:20260422T202456
CREATED:20251113T192652Z
LAST-MODIFIED:20251206T221323Z
UID:46615-1771143300-1771145100@cotrgtwn.org
SUMMARY:Pre-Service Prayer
DESCRIPTION:Group: Our Church
URL:https://cotrgtwn.org/calendar-event/pre-service-prayer-23/
LOCATION:Church on the Rock\, 925 Golden Oaks Dr\, Georgetown\, TX\, 78626\, United States
END:VEVENT
BEGIN:VEVENT
DTSTART;TZID=America/Chicago:20260215T100000
DTEND;TZID=America/Chicago:20260215T120000
DTSTAMP:20260422T202456
CREATED:20251113T192653Z
LAST-MODIFIED:20251113T213524Z
UID:46620-1771149600-1771156800@cotrgtwn.org
SUMMARY:Sunday Morning Service
DESCRIPTION:Group: Our Church
URL:https://cotrgtwn.org/calendar-event/sunday-morning-service-13/
LOCATION:Church on the Rock\, 925 Golden Oaks Dr\, Georgetown\, TX\, 78626\, United States
END:VEVENT
BEGIN:VEVENT
DTSTART;TZID=America/Chicago:20260215T120000
DTEND;TZID=America/Chicago:20260215T123000
DTSTAMP:20260422T202456
CREATED:20251113T192652Z
LAST-MODIFIED:20251206T221327Z
UID:46617-1771156800-1771158600@cotrgtwn.org
SUMMARY:Medical Response Team Meeting
DESCRIPTION:Group: Medical Response \nMeet in Sanctuary
URL:https://cotrgtwn.org/calendar-event/medical-response-team-meeting/
LOCATION:Church on the Rock\, 925 Golden Oaks Dr\, Georgetown\, TX\, 78626\, United States
END:VEVENT
BEGIN:VEVENT
DTSTART;TZID=America/Chicago:20260215T120000
DTEND;TZID=America/Chicago:20260215T123000
DTSTAMP:20260422T202456
CREATED:20251113T192653Z
LAST-MODIFIED:20251206T221332Z
UID:46618-1771156800-1771158600@cotrgtwn.org
SUMMARY:Audio/Visual Team Meeting
DESCRIPTION:Group: Audio/Visual \nMeet in Sanctuary
URL:https://cotrgtwn.org/calendar-event/audio-visual-team-meeting/
LOCATION:Church on the Rock\, 925 Golden Oaks Dr\, Georgetown\, TX\, 78626\, United States
END:VEVENT
BEGIN:VEVENT
DTSTART;TZID=America/Chicago:20260215T180000
DTEND;TZID=America/Chicago:20260215T190000
DTSTAMP:20260422T202456
CREATED:20260106T200510Z
LAST-MODIFIED:20260106T200510Z
UID:166897-1771178400-1771182000@cotrgtwn.org
SUMMARY:Growing In God Class
DESCRIPTION:Group: Our Church
URL:https://cotrgtwn.org/calendar-event/growing-in-god-class/
LOCATION:TX
END:VEVENT
BEGIN:VEVENT
DTSTART;TZID=America/Chicago:20260216T183000
DTEND;TZID=America/Chicago:20260216T200000
DTSTAMP:20260422T202456
CREATED:20260126T210444Z
LAST-MODIFIED:20260126T210444Z
UID:167583-1771266600-1771272000@cotrgtwn.org
SUMMARY:FCA Parent FACTS Meeting
DESCRIPTION:Group: FCA Staff\, Parents\, & Students \nMeet in the Fellowship Hall
URL:https://cotrgtwn.org/calendar-event/fca-parent-facts-meeting/
LOCATION:Church on the Rock\, 925 Golden Oaks Dr\, Georgetown\, TX\, 78626\, United States
END:VEVENT
BEGIN:VEVENT
DTSTART;VALUE=DATE:20260218
DTEND;VALUE=DATE:20260219
DTSTAMP:20260422T202456
CREATED:20260205T183957Z
LAST-MODIFIED:20260205T183957Z
UID:167830-1771372800-1771459199@cotrgtwn.org
SUMMARY:No Midweek Service
DESCRIPTION:Group: Our Church
URL:https://cotrgtwn.org/calendar-event/no-midweek-service-14/
LOCATION:TX
END:VEVENT
BEGIN:VEVENT
DTSTART;TZID=America/Chicago:20260218T190000
DTEND;TZID=America/Chicago:20260218T203000
DTSTAMP:20260422T202456
CREATED:20251113T192653Z
LAST-MODIFIED:20251206T221335Z
UID:46622-1771441200-1771446600@cotrgtwn.org
SUMMARY:Wednesday Night Service
DESCRIPTION:Group: Our Church
URL:https://cotrgtwn.org/calendar-event/wednesday-night-service-13/
LOCATION:Church on the Rock\, 925 Golden Oaks Dr\, Georgetown\, TX\, 78626\, United States
END:VEVENT
BEGIN:VEVENT
DTSTART;TZID=America/Chicago:20260222T081500
DTEND;TZID=America/Chicago:20260222T084500
DTSTAMP:20260422T202456
CREATED:20251113T192653Z
LAST-MODIFIED:20251206T221337Z
UID:46625-1771748100-1771749900@cotrgtwn.org
SUMMARY:Pre-Service Prayer
DESCRIPTION:Group: Our Church
URL:https://cotrgtwn.org/calendar-event/pre-service-prayer-24/
LOCATION:Church on the Rock\, 925 Golden Oaks Dr\, Georgetown\, TX\, 78626\, United States
END:VEVENT
BEGIN:VEVENT
DTSTART;TZID=America/Chicago:20260222T100000
DTEND;TZID=America/Chicago:20260222T120000
DTSTAMP:20260422T202457
CREATED:20251113T192653Z
LAST-MODIFIED:20251113T213524Z
UID:46626-1771754400-1771761600@cotrgtwn.org
SUMMARY:Sunday Morning Service
DESCRIPTION:Group: Our Church
URL:https://cotrgtwn.org/calendar-event/sunday-morning-service-14/
LOCATION:Church on the Rock\, 925 Golden Oaks Dr\, Georgetown\, TX\, 78626\, United States
END:VEVENT
BEGIN:VEVENT
DTSTART;TZID=America/Chicago:20260222T150000
DTEND;TZID=America/Chicago:20260222T163000
DTSTAMP:20260422T202457
CREATED:20251113T192654Z
LAST-MODIFIED:20251206T221342Z
UID:46628-1771772400-1771777800@cotrgtwn.org
SUMMARY:Praise Team Practice
DESCRIPTION:Group: Praise Team \nMeet in Sanctuary
URL:https://cotrgtwn.org/calendar-event/praise-team-practice-7/
LOCATION:Church on the Rock\, 925 Golden Oaks Dr\, Georgetown\, TX\, 78626\, United States
END:VEVENT
BEGIN:VEVENT
DTSTART;TZID=America/Chicago:20260222T180000
DTEND;TZID=America/Chicago:20260222T200000
DTSTAMP:20260422T202457
CREATED:20251113T192655Z
LAST-MODIFIED:20251206T221345Z
UID:46629-1771783200-1771790400@cotrgtwn.org
SUMMARY:Sunday Evening Service
DESCRIPTION:Group: Our Church
URL:https://cotrgtwn.org/calendar-event/sunday-evening-service-6/
LOCATION:Church on the Rock\, 925 Golden Oaks Dr\, Georgetown\, TX\, 78626\, United States
END:VEVENT
END:VCALENDAR