BEGIN:VCALENDAR
VERSION:2.0
PRODID:-//Church on the Rock - ECPv6.15.20//NONSGML v1.0//EN
CALSCALE:GREGORIAN
METHOD:PUBLISH
X-ORIGINAL-URL:https://cotrgtwn.org
X-WR-CALDESC:Events for Church on the Rock
REFRESH-INTERVAL;VALUE=DURATION:PT1H
X-Robots-Tag:noindex
X-PUBLISHED-TTL:PT1H
BEGIN:VTIMEZONE
TZID:America/Chicago
BEGIN:DAYLIGHT
TZOFFSETFROM:-0600
TZOFFSETTO:-0500
TZNAME:CDT
DTSTART:20250309T080000
END:DAYLIGHT
BEGIN:STANDARD
TZOFFSETFROM:-0500
TZOFFSETTO:-0600
TZNAME:CST
DTSTART:20251102T070000
END:STANDARD
BEGIN:DAYLIGHT
TZOFFSETFROM:-0600
TZOFFSETTO:-0500
TZNAME:CDT
DTSTART:20260308T080000
END:DAYLIGHT
BEGIN:STANDARD
TZOFFSETFROM:-0500
TZOFFSETTO:-0600
TZNAME:CST
DTSTART:20261101T070000
END:STANDARD
BEGIN:DAYLIGHT
TZOFFSETFROM:-0600
TZOFFSETTO:-0500
TZNAME:CDT
DTSTART:20270314T080000
END:DAYLIGHT
BEGIN:STANDARD
TZOFFSETFROM:-0500
TZOFFSETTO:-0600
TZNAME:CST
DTSTART:20271107T070000
END:STANDARD
END:VTIMEZONE
BEGIN:VEVENT
DTSTART;TZID=America/Chicago:20261011T180000
DTEND;TZID=America/Chicago:20261011T200000
DTSTAMP:20260422T181104
CREATED:20260106T200521Z
LAST-MODIFIED:20260106T200521Z
UID:166910-1791741600-1791748800@cotrgtwn.org
SUMMARY:Growing In God Class
DESCRIPTION:Group: Our Church
URL:https://cotrgtwn.org/calendar-event/growing-in-god-class-14/
LOCATION:Church on the Rock\, 925 Golden Oaks Dr\, Georgetown\, TX\, 78626\, United States
END:VEVENT
BEGIN:VEVENT
DTSTART;TZID=America/Chicago:20261014T190000
DTEND;TZID=America/Chicago:20261014T210000
DTSTAMP:20260422T181104
CREATED:20251113T213545Z
LAST-MODIFIED:20260402T163330Z
UID:47512-1792004400-1792011600@cotrgtwn.org
SUMMARY:Wednesday Night Service
DESCRIPTION:Group: Our Church
URL:https://cotrgtwn.org/calendar-event/wednesday-night-service-43/
LOCATION:Church on the Rock\, 925 Golden Oaks Dr\, Georgetown\, TX\, 78626\, United States
END:VEVENT
BEGIN:VEVENT
DTSTART;TZID=America/Chicago:20261015T183000
DTEND;TZID=America/Chicago:20261015T203000
DTSTAMP:20260422T181104
CREATED:20251204T170156Z
LAST-MODIFIED:20260402T145920Z
UID:163353-1792089000-1792096200@cotrgtwn.org
SUMMARY:Youth Service
DESCRIPTION:Group: Youth Group
URL:https://cotrgtwn.org/calendar-event/youth-service-52/
LOCATION:TX
END:VEVENT
BEGIN:VEVENT
DTSTART;TZID=America/Chicago:20261016T190000
DTEND;TZID=America/Chicago:20261016T210000
DTSTAMP:20260422T181104
CREATED:20251113T213546Z
LAST-MODIFIED:20251206T222130Z
UID:47514-1792177200-1792184400@cotrgtwn.org
SUMMARY:Ladies' Night
DESCRIPTION:Group: Ladies’ Ministry \nDetails to come.
URL:https://cotrgtwn.org/calendar-event/ladies-night-4/
LOCATION:Church on the Rock\, 925 Golden Oaks Dr\, Georgetown\, TX\, 78626\, United States
END:VEVENT
BEGIN:VEVENT
DTSTART;TZID=America/Chicago:20261018T081500
DTEND;TZID=America/Chicago:20261018T084500
DTSTAMP:20260422T181104
CREATED:20251113T213546Z
LAST-MODIFIED:20251206T222132Z
UID:47515-1792311300-1792313100@cotrgtwn.org
SUMMARY:Pre-Service Prayer
DESCRIPTION:Group: Our Church
URL:https://cotrgtwn.org/calendar-event/pre-service-prayer-57/
LOCATION:Church on the Rock\, 925 Golden Oaks Dr\, Georgetown\, TX\, 78626\, United States
END:VEVENT
BEGIN:VEVENT
DTSTART;TZID=America/Chicago:20261018T100000
DTEND;TZID=America/Chicago:20261018T120000
DTSTAMP:20260422T181104
CREATED:20251113T213546Z
LAST-MODIFIED:20251113T213546Z
UID:47519-1792317600-1792324800@cotrgtwn.org
SUMMARY:Sunday Morning Service
DESCRIPTION:Group: Our Church
URL:https://cotrgtwn.org/calendar-event/sunday-morning-service-47/
LOCATION:Church on the Rock\, 925 Golden Oaks Dr\, Georgetown\, TX\, 78626\, United States
END:VEVENT
BEGIN:VEVENT
DTSTART;TZID=America/Chicago:20261018T120000
DTEND;TZID=America/Chicago:20261018T123000
DTSTAMP:20260422T181104
CREATED:20251113T213546Z
LAST-MODIFIED:20251206T222135Z
UID:47517-1792324800-1792326600@cotrgtwn.org
SUMMARY:Children's Ministry Quarterly & Creativity Meeting
DESCRIPTION:Group: Children’s Ministry Team \nMeet in Sanctuary
URL:https://cotrgtwn.org/calendar-event/childrens-ministry-quarterly-creativity-meeting-4/
LOCATION:Church on the Rock\, 925 Golden Oaks Dr\, Georgetown\, TX\, 78626\, United States
END:VEVENT
BEGIN:VEVENT
DTSTART;TZID=America/Chicago:20261018T150000
DTEND;TZID=America/Chicago:20261018T163000
DTSTAMP:20260422T181104
CREATED:20251113T213547Z
LAST-MODIFIED:20251206T222140Z
UID:47526-1792335600-1792341000@cotrgtwn.org
SUMMARY:Praise Team Practice
DESCRIPTION:Group: Praise Team \nMeet in Sanctuary
URL:https://cotrgtwn.org/calendar-event/praise-team-practice-23/
LOCATION:Church on the Rock\, 925 Golden Oaks Dr\, Georgetown\, TX\, 78626\, United States
END:VEVENT
BEGIN:VEVENT
DTSTART;TZID=America/Chicago:20261021T190000
DTEND;TZID=America/Chicago:20261021T210000
DTSTAMP:20260422T181104
CREATED:20251113T213547Z
LAST-MODIFIED:20260402T163357Z
UID:47521-1792609200-1792616400@cotrgtwn.org
SUMMARY:Wednesday Night Service
DESCRIPTION:Group: Our Church
URL:https://cotrgtwn.org/calendar-event/wednesday-night-service-44/
LOCATION:Church on the Rock\, 925 Golden Oaks Dr\, Georgetown\, TX\, 78626\, United States
END:VEVENT
BEGIN:VEVENT
DTSTART;VALUE=DATE:20261024
DTEND;VALUE=DATE:20261025
DTSTAMP:20260422T181104
CREATED:20251204T170217Z
LAST-MODIFIED:20251206T222144Z
UID:163356-1792800000-1792886399@cotrgtwn.org
SUMMARY:Youth Event
DESCRIPTION:Group: Youth Group \nDetails to come!
URL:https://cotrgtwn.org/calendar-event/youth-event/
LOCATION:TX
END:VEVENT
BEGIN:VEVENT
DTSTART;TZID=America/Chicago:20261025T081500
DTEND;TZID=America/Chicago:20261025T084500
DTSTAMP:20260422T181104
CREATED:20251113T213547Z
LAST-MODIFIED:20251206T222147Z
UID:47523-1792916100-1792917900@cotrgtwn.org
SUMMARY:Pre-Service Prayer
DESCRIPTION:Group: Our Church
URL:https://cotrgtwn.org/calendar-event/pre-service-prayer-58/
LOCATION:Church on the Rock\, 925 Golden Oaks Dr\, Georgetown\, TX\, 78626\, United States
END:VEVENT
BEGIN:VEVENT
DTSTART;TZID=America/Chicago:20261025T100000
DTEND;TZID=America/Chicago:20261025T120000
DTSTAMP:20260422T181104
CREATED:20251113T213547Z
LAST-MODIFIED:20251113T213547Z
UID:47524-1792922400-1792929600@cotrgtwn.org
SUMMARY:Sunday Morning Service
DESCRIPTION:Group: Our Church
URL:https://cotrgtwn.org/calendar-event/sunday-morning-service-48/
LOCATION:Church on the Rock\, 925 Golden Oaks Dr\, Georgetown\, TX\, 78626\, United States
END:VEVENT
BEGIN:VEVENT
DTSTART;TZID=America/Chicago:20261025T180000
DTEND;TZID=America/Chicago:20261025T190000
DTSTAMP:20260422T181104
CREATED:20260106T200521Z
LAST-MODIFIED:20260106T200521Z
UID:166911-1792951200-1792954800@cotrgtwn.org
SUMMARY:Growing In God Class
DESCRIPTION:Group: Our Church
URL:https://cotrgtwn.org/calendar-event/growing-in-god-class-15/
LOCATION:TX
END:VEVENT
BEGIN:VEVENT
DTSTART;VALUE=DATE:20261026
DTEND;VALUE=DATE:20261027
DTSTAMP:20260422T181104
CREATED:20251113T213548Z
LAST-MODIFIED:20251206T222152Z
UID:47528-1792972800-1793059199@cotrgtwn.org
SUMMARY:COTR Fall Break
DESCRIPTION:Group: Our Church
URL:https://cotrgtwn.org/calendar-event/church-on-the-rock-fall-break/
LOCATION:Church on the Rock\, 925 Golden Oaks Dr\, Georgetown\, TX\, 78626\, United States
END:VEVENT
BEGIN:VEVENT
DTSTART;VALUE=DATE:20261027
DTEND;VALUE=DATE:20261028
DTSTAMP:20260422T181104
CREATED:20251113T213548Z
LAST-MODIFIED:20251206T222200Z
UID:47529-1793059200-1793145599@cotrgtwn.org
SUMMARY:COTR Fall Break
DESCRIPTION:Group: Our Church
URL:https://cotrgtwn.org/calendar-event/church-on-the-rock-fall-break-2/
LOCATION:Church on the Rock\, 925 Golden Oaks Dr\, Georgetown\, TX\, 78626\, United States
END:VEVENT
BEGIN:VEVENT
DTSTART;VALUE=DATE:20261028
DTEND;VALUE=DATE:20261029
DTSTAMP:20260422T181104
CREATED:20251113T213548Z
LAST-MODIFIED:20251206T222154Z
UID:47531-1793145600-1793231999@cotrgtwn.org
SUMMARY:COTR Fall Break
DESCRIPTION:Group: Our Church
URL:https://cotrgtwn.org/calendar-event/church-on-the-rock-fall-break-4/
LOCATION:Church on the Rock\, 925 Golden Oaks Dr\, Georgetown\, TX\, 78626\, United States
END:VEVENT
BEGIN:VEVENT
DTSTART;VALUE=DATE:20261028
DTEND;VALUE=DATE:20261029
DTSTAMP:20260422T181104
CREATED:20251113T213549Z
LAST-MODIFIED:20251206T222157Z
UID:47532-1793145600-1793231999@cotrgtwn.org
SUMMARY:No Midweek Service
DESCRIPTION:Group: Our Church
URL:https://cotrgtwn.org/calendar-event/no-midweek-service-11/
LOCATION:Church on the Rock\, 925 Golden Oaks Dr\, Georgetown\, TX\, 78626\, United States
END:VEVENT
BEGIN:VEVENT
DTSTART;VALUE=DATE:20261029
DTEND;VALUE=DATE:20261030
DTSTAMP:20260422T181104
CREATED:20251113T213548Z
LAST-MODIFIED:20251206T222203Z
UID:47530-1793232000-1793318399@cotrgtwn.org
SUMMARY:COTR Fall Break
DESCRIPTION:Group: Our Church
URL:https://cotrgtwn.org/calendar-event/church-on-the-rock-fall-break-3/
LOCATION:Church on the Rock\, 925 Golden Oaks Dr\, Georgetown\, TX\, 78626\, United States
END:VEVENT
BEGIN:VEVENT
DTSTART;VALUE=DATE:20261030
DTEND;VALUE=DATE:20261031
DTSTAMP:20260422T181104
CREATED:20251113T213549Z
LAST-MODIFIED:20251206T222207Z
UID:47533-1793318400-1793404799@cotrgtwn.org
SUMMARY:COTR Fall Break
DESCRIPTION:Group: Our Church
URL:https://cotrgtwn.org/calendar-event/church-on-the-rock-fall-break-5/
LOCATION:Church on the Rock\, 925 Golden Oaks Dr\, Georgetown\, TX\, 78626\, United States
END:VEVENT
BEGIN:VEVENT
DTSTART;TZID=America/Chicago:20261101T081500
DTEND;TZID=America/Chicago:20261101T084500
DTSTAMP:20260422T181104
CREATED:20251113T213549Z
LAST-MODIFIED:20251206T222209Z
UID:47534-1793520900-1793522700@cotrgtwn.org
SUMMARY:Pre-Service Prayer
DESCRIPTION:Group: Our Church
URL:https://cotrgtwn.org/calendar-event/pre-service-prayer-59/
LOCATION:Church on the Rock\, 925 Golden Oaks Dr\, Georgetown\, TX\, 78626\, United States
END:VEVENT
BEGIN:VEVENT
DTSTART;TZID=America/Chicago:20261101T100000
DTEND;TZID=America/Chicago:20261101T120000
DTSTAMP:20260422T181104
CREATED:20251113T213549Z
LAST-MODIFIED:20251113T213549Z
UID:47535-1793527200-1793534400@cotrgtwn.org
SUMMARY:Sunday Morning Service
DESCRIPTION:Group: Our Church
URL:https://cotrgtwn.org/calendar-event/sunday-morning-service-49/
LOCATION:Church on the Rock\, 925 Golden Oaks Dr\, Georgetown\, TX\, 78626\, United States
END:VEVENT
BEGIN:VEVENT
DTSTART;TZID=America/Chicago:20261101T150000
DTEND;TZID=America/Chicago:20261101T163000
DTSTAMP:20260422T181104
CREATED:20251113T213549Z
LAST-MODIFIED:20251206T222212Z
UID:47536-1793545200-1793550600@cotrgtwn.org
SUMMARY:Praise Team Practice
DESCRIPTION:Group: Praise Team \nMeet in Sanctuary
URL:https://cotrgtwn.org/calendar-event/praise-team-practice-24/
LOCATION:TX
END:VEVENT
BEGIN:VEVENT
DTSTART;TZID=America/Chicago:20261101T180000
DTEND;TZID=America/Chicago:20261101T190000
DTSTAMP:20260422T181104
CREATED:20260402T154045Z
LAST-MODIFIED:20260402T154045Z
UID:169314-1793556000-1793559600@cotrgtwn.org
SUMMARY:Growing In God Class
DESCRIPTION:Group: Our Church
URL:https://cotrgtwn.org/calendar-event/growing-in-god-class-17/
LOCATION:Church on the Rock\, 925 Golden Oaks Dr\, Georgetown\, TX\, 78626\, United States
END:VEVENT
BEGIN:VEVENT
DTSTART;TZID=America/Chicago:20261104T190000
DTEND;TZID=America/Chicago:20261104T210000
DTSTAMP:20260422T181104
CREATED:20251113T213550Z
LAST-MODIFIED:20260402T163626Z
UID:47539-1793818800-1793826000@cotrgtwn.org
SUMMARY:Wednesday Night Service
DESCRIPTION:Group: Our Church
URL:https://cotrgtwn.org/calendar-event/wednesday-night-service-45/
LOCATION:Church on the Rock\, 925 Golden Oaks Dr\, Georgetown\, TX\, 78626\, United States
END:VEVENT
BEGIN:VEVENT
DTSTART;TZID=America/Chicago:20261106T180000
DTEND;TZID=America/Chicago:20261106T200000
DTSTAMP:20260422T181104
CREATED:20251113T213550Z
LAST-MODIFIED:20251206T222217Z
UID:47540-1793988000-1793995200@cotrgtwn.org
SUMMARY:JOY Group
DESCRIPTION:Group: JOY Group \nDetails to come.
URL:https://cotrgtwn.org/calendar-event/joy-group-15/
LOCATION:TX
END:VEVENT
BEGIN:VEVENT
DTSTART;TZID=America/Chicago:20261106T190000
DTEND;TZID=America/Chicago:20261106T210000
DTSTAMP:20260422T181104
CREATED:20251113T213550Z
LAST-MODIFIED:20251206T222217Z
UID:47541-1793991600-1793998800@cotrgtwn.org
SUMMARY:New Group
DESCRIPTION:Group: NEW Group \nDetails to come.
URL:https://cotrgtwn.org/calendar-event/new-group-10/
LOCATION:TX
END:VEVENT
BEGIN:VEVENT
DTSTART;TZID=America/Chicago:20261108T081500
DTEND;TZID=America/Chicago:20261108T084500
DTSTAMP:20260422T181104
CREATED:20251113T213550Z
LAST-MODIFIED:20251206T222220Z
UID:47543-1794125700-1794127500@cotrgtwn.org
SUMMARY:Pre-Service Prayer
DESCRIPTION:Group: Our Church
URL:https://cotrgtwn.org/calendar-event/pre-service-prayer-60/
LOCATION:Church on the Rock\, 925 Golden Oaks Dr\, Georgetown\, TX\, 78626\, United States
END:VEVENT
BEGIN:VEVENT
DTSTART;TZID=America/Chicago:20261108T100000
DTEND;TZID=America/Chicago:20261108T120000
DTSTAMP:20260422T181104
CREATED:20251113T213551Z
LAST-MODIFIED:20251113T213551Z
UID:47544-1794132000-1794139200@cotrgtwn.org
SUMMARY:Sunday Morning Service
DESCRIPTION:Group: Our Church
URL:https://cotrgtwn.org/calendar-event/sunday-morning-service-50/
LOCATION:Church on the Rock\, 925 Golden Oaks Dr\, Georgetown\, TX\, 78626\, United States
END:VEVENT
BEGIN:VEVENT
DTSTART;TZID=America/Chicago:20261108T140000
DTEND;TZID=America/Chicago:20261108T170000
DTSTAMP:20260422T181104
CREATED:20251113T213551Z
LAST-MODIFIED:20251206T222225Z
UID:47545-1794146400-1794157200@cotrgtwn.org
SUMMARY:Family Sunday
DESCRIPTION:Group: Our Church \nDetails to come.
URL:https://cotrgtwn.org/calendar-event/family-sunday-16/
LOCATION:Church on the Rock\, 925 Golden Oaks Dr\, Georgetown\, TX\, 78626\, United States
END:VEVENT
BEGIN:VEVENT
DTSTART;TZID=America/Chicago:20261111T190000
DTEND;TZID=America/Chicago:20261111T210000
DTSTAMP:20260422T181104
CREATED:20251113T213551Z
LAST-MODIFIED:20260402T163655Z
UID:47547-1794423600-1794430800@cotrgtwn.org
SUMMARY:Wednesday Night Service
DESCRIPTION:Group: Our Church
URL:https://cotrgtwn.org/calendar-event/wednesday-night-service-46/
LOCATION:Church on the Rock\, 925 Golden Oaks Dr\, Georgetown\, TX\, 78626\, United States
END:VEVENT
END:VCALENDAR