BEGIN:VCALENDAR
VERSION:2.0
PRODID:-//Church on the Rock - ECPv6.15.20//NONSGML v1.0//EN
CALSCALE:GREGORIAN
METHOD:PUBLISH
X-ORIGINAL-URL:https://cotrgtwn.org
X-WR-CALDESC:Events for Church on the Rock
REFRESH-INTERVAL;VALUE=DURATION:PT1H
X-Robots-Tag:noindex
X-PUBLISHED-TTL:PT1H
BEGIN:VTIMEZONE
TZID:America/Chicago
BEGIN:DAYLIGHT
TZOFFSETFROM:-0600
TZOFFSETTO:-0500
TZNAME:CDT
DTSTART:20250309T080000
END:DAYLIGHT
BEGIN:STANDARD
TZOFFSETFROM:-0500
TZOFFSETTO:-0600
TZNAME:CST
DTSTART:20251102T070000
END:STANDARD
BEGIN:DAYLIGHT
TZOFFSETFROM:-0600
TZOFFSETTO:-0500
TZNAME:CDT
DTSTART:20260308T080000
END:DAYLIGHT
BEGIN:STANDARD
TZOFFSETFROM:-0500
TZOFFSETTO:-0600
TZNAME:CST
DTSTART:20261101T070000
END:STANDARD
BEGIN:DAYLIGHT
TZOFFSETFROM:-0600
TZOFFSETTO:-0500
TZNAME:CDT
DTSTART:20270314T080000
END:DAYLIGHT
BEGIN:STANDARD
TZOFFSETFROM:-0500
TZOFFSETTO:-0600
TZNAME:CST
DTSTART:20271107T070000
END:STANDARD
END:VTIMEZONE
BEGIN:VEVENT
DTSTART;TZID=America/Chicago:20260830T120000
DTEND;TZID=America/Chicago:20260830T123000
DTSTAMP:20260422T181103
CREATED:20251113T192720Z
LAST-MODIFIED:20260402T164324Z
UID:46819-1788091200-1788093000@cotrgtwn.org
SUMMARY:Housekeeping Team Meeting
DESCRIPTION:Group: Housekeeping \nMeet in Sanctuary
URL:https://cotrgtwn.org/calendar-event/housekeeping-team-meeting-5/
LOCATION:Church on the Rock\, 925 Golden Oaks Dr\, Georgetown\, TX\, 78626\, United States
END:VEVENT
BEGIN:VEVENT
DTSTART;TZID=America/Chicago:20260830T120000
DTEND;TZID=America/Chicago:20260830T123000
DTSTAMP:20260422T181103
CREATED:20251113T192726Z
LAST-MODIFIED:20260402T203859Z
UID:46862-1788091200-1788093000@cotrgtwn.org
SUMMARY:Welcome Team Meeting
DESCRIPTION:Group: Welcome Team \nMeet in Sanctuary
URL:https://cotrgtwn.org/calendar-event/welcome-team-meeting-3/
LOCATION:Church on the Rock\, 925 Golden Oaks Dr\, Georgetown\, TX\, 78626\, United States
END:VEVENT
BEGIN:VEVENT
DTSTART;TZID=America/Chicago:20260830T150000
DTEND;TZID=America/Chicago:20260830T163000
DTSTAMP:20260422T181103
CREATED:20251113T192733Z
LAST-MODIFIED:20251206T222010Z
UID:46915-1788102000-1788107400@cotrgtwn.org
SUMMARY:Praise Team Practice
DESCRIPTION:Group: Praise Team \nMeet in Sanctuary
URL:https://cotrgtwn.org/calendar-event/praise-team-practice-19/
LOCATION:Church on the Rock\, 925 Golden Oaks Dr\, Georgetown\, TX\, 78626\, United States
END:VEVENT
BEGIN:VEVENT
DTSTART;TZID=America/Chicago:20260902T190000
DTEND;TZID=America/Chicago:20260902T210000
DTSTAMP:20260422T181103
CREATED:20251113T192733Z
LAST-MODIFIED:20260402T162637Z
UID:46916-1788375600-1788382800@cotrgtwn.org
SUMMARY:Wednesday Night Service
DESCRIPTION:Group: Our Church
URL:https://cotrgtwn.org/calendar-event/wednesday-night-service-37/
LOCATION:Church on the Rock\, 925 Golden Oaks Dr\, Georgetown\, TX\, 78626\, United States
END:VEVENT
BEGIN:VEVENT
DTSTART;TZID=America/Chicago:20260904T190000
DTEND;TZID=America/Chicago:20260904T210000
DTSTAMP:20260422T181103
CREATED:20251113T192734Z
LAST-MODIFIED:20260402T204634Z
UID:46917-1788548400-1788555600@cotrgtwn.org
SUMMARY:New Group Volleyball Event
DESCRIPTION:Group: NEW Group \nDetails to come.
URL:https://cotrgtwn.org/calendar-event/new-group-9/
LOCATION:TX
END:VEVENT
BEGIN:VEVENT
DTSTART;TZID=America/Chicago:20260904T190000
DTEND;TZID=America/Chicago:20260904T210000
DTSTAMP:20260422T181103
CREATED:20251204T170044Z
LAST-MODIFIED:20251206T222014Z
UID:163337-1788548400-1788555600@cotrgtwn.org
SUMMARY:Youth Volleyball Event
DESCRIPTION:Group: Youth Group \nDetails to come!
URL:https://cotrgtwn.org/calendar-event/youth-volleyball-event/
LOCATION:TX
END:VEVENT
BEGIN:VEVENT
DTSTART;TZID=America/Chicago:20260905T080000
DTEND;TZID=America/Chicago:20260905T110000
DTSTAMP:20260422T181103
CREATED:20251113T192735Z
LAST-MODIFIED:20251206T222014Z
UID:46918-1788595200-1788606000@cotrgtwn.org
SUMMARY:Safety Team Training
DESCRIPTION:Group: Safety
URL:https://cotrgtwn.org/calendar-event/safety-team-training-7/
LOCATION:TX
END:VEVENT
BEGIN:VEVENT
DTSTART;TZID=America/Chicago:20260906T081500
DTEND;TZID=America/Chicago:20260906T084500
DTSTAMP:20260422T181103
CREATED:20251113T213526Z
LAST-MODIFIED:20251206T222017Z
UID:47457-1788682500-1788684300@cotrgtwn.org
SUMMARY:Pre-Service Prayer
DESCRIPTION:Group: Our Church
URL:https://cotrgtwn.org/calendar-event/pre-service-prayer-51/
LOCATION:Church on the Rock\, 925 Golden Oaks Dr\, Georgetown\, TX\, 78626\, United States
END:VEVENT
BEGIN:VEVENT
DTSTART;TZID=America/Chicago:20260906T100000
DTEND;TZID=America/Chicago:20260906T120000
DTSTAMP:20260422T181103
CREATED:20251113T213526Z
LAST-MODIFIED:20251113T213526Z
UID:47458-1788688800-1788696000@cotrgtwn.org
SUMMARY:Sunday Morning Service
DESCRIPTION:Group: Our Church
URL:https://cotrgtwn.org/calendar-event/sunday-morning-service-41/
LOCATION:Church on the Rock\, 925 Golden Oaks Dr\, Georgetown\, TX\, 78626\, United States
END:VEVENT
BEGIN:VEVENT
DTSTART;TZID=America/Chicago:20260906T150000
DTEND;TZID=America/Chicago:20260906T163000
DTSTAMP:20260422T181103
CREATED:20251113T213543Z
LAST-MODIFIED:20251206T222022Z
UID:47495-1788706800-1788712200@cotrgtwn.org
SUMMARY:Praise Team Practice
DESCRIPTION:Group: Praise Team
URL:https://cotrgtwn.org/calendar-event/praise-team-practice-21/
LOCATION:Church on the Rock\, 925 Golden Oaks Dr\, Georgetown\, TX\, 78626\, United States
END:VEVENT
BEGIN:VEVENT
DTSTART;TZID=America/Chicago:20260906T180000
DTEND;TZID=America/Chicago:20260906T200000
DTSTAMP:20260422T181103
CREATED:20260106T200520Z
LAST-MODIFIED:20260106T200520Z
UID:166908-1788717600-1788724800@cotrgtwn.org
SUMMARY:Growing In God Class
DESCRIPTION:Group: Our Church
URL:https://cotrgtwn.org/calendar-event/growing-in-god-class-12/
LOCATION:Church on the Rock\, 925 Golden Oaks Dr\, Georgetown\, TX\, 78626\, United States
END:VEVENT
BEGIN:VEVENT
DTSTART;TZID=America/Chicago:20260909T190000
DTEND;TZID=America/Chicago:20260909T210000
DTSTAMP:20260422T181103
CREATED:20251113T213527Z
LAST-MODIFIED:20260402T162705Z
UID:47461-1788980400-1788987600@cotrgtwn.org
SUMMARY:Wednesday Night Service
DESCRIPTION:Group: Our Church
URL:https://cotrgtwn.org/calendar-event/wednesday-night-service-38/
LOCATION:Church on the Rock\, 925 Golden Oaks Dr\, Georgetown\, TX\, 78626\, United States
END:VEVENT
BEGIN:VEVENT
DTSTART;TZID=America/Chicago:20260911T180000
DTEND;TZID=America/Chicago:20260911T200000
DTSTAMP:20260422T181103
CREATED:20251113T213527Z
LAST-MODIFIED:20251206T222027Z
UID:47463-1789149600-1789156800@cotrgtwn.org
SUMMARY:JOY Group
DESCRIPTION:Group: JOY Group \nDetails to come.
URL:https://cotrgtwn.org/calendar-event/joy-group-14/
LOCATION:TX
END:VEVENT
BEGIN:VEVENT
DTSTART;TZID=America/Chicago:20260911T190000
DTEND;TZID=America/Chicago:20260911T210000
DTSTAMP:20260422T181103
CREATED:20251113T213527Z
LAST-MODIFIED:20260402T204846Z
UID:47462-1789153200-1789160400@cotrgtwn.org
SUMMARY:Young Adults
DESCRIPTION:Group: Young Adults \nDetails to come.
URL:https://cotrgtwn.org/calendar-event/young-adults-6/
LOCATION:TX
END:VEVENT
BEGIN:VEVENT
DTSTART;TZID=America/Chicago:20260911T190000
DTEND;TZID=America/Chicago:20260911T210000
DTSTAMP:20260422T181103
CREATED:20251113T213527Z
LAST-MODIFIED:20251206T222027Z
UID:47464-1789153200-1789160400@cotrgtwn.org
SUMMARY:LIFE Group
DESCRIPTION:Group: LIFE Group \nDetails to come.
URL:https://cotrgtwn.org/calendar-event/life-group-5/
LOCATION:TX
END:VEVENT
BEGIN:VEVENT
DTSTART;TZID=America/Chicago:20260913T081500
DTEND;TZID=America/Chicago:20260913T084500
DTSTAMP:20260422T181103
CREATED:20251113T213527Z
LAST-MODIFIED:20251206T222030Z
UID:47466-1789287300-1789289100@cotrgtwn.org
SUMMARY:Pre-Service Prayer
DESCRIPTION:Group: Our Church
URL:https://cotrgtwn.org/calendar-event/pre-service-prayer-52/
LOCATION:Church on the Rock\, 925 Golden Oaks Dr\, Georgetown\, TX\, 78626\, United States
END:VEVENT
BEGIN:VEVENT
DTSTART;TZID=America/Chicago:20260913T100000
DTEND;TZID=America/Chicago:20260913T120000
DTSTAMP:20260422T181103
CREATED:20251113T213539Z
LAST-MODIFIED:20251113T213539Z
UID:47471-1789293600-1789300800@cotrgtwn.org
SUMMARY:Sunday Morning Service
DESCRIPTION:Group: Our Church
URL:https://cotrgtwn.org/calendar-event/sunday-morning-service-42/
LOCATION:Church on the Rock\, 925 Golden Oaks Dr\, Georgetown\, TX\, 78626\, United States
END:VEVENT
BEGIN:VEVENT
DTSTART;TZID=America/Chicago:20260913T120000
DTEND;TZID=America/Chicago:20260913T123000
DTSTAMP:20260422T181103
CREATED:20251113T213541Z
LAST-MODIFIED:20260402T165236Z
UID:47481-1789300800-1789302600@cotrgtwn.org
SUMMARY:Event Crew Meeting
DESCRIPTION:Group: Event Set Up & Tear Down Crew \n 
URL:https://cotrgtwn.org/calendar-event/event-crew-meeting-6/
LOCATION:Church on the Rock\, 925 Golden Oaks Dr\, Georgetown\, TX\, 78626\, United States
END:VEVENT
BEGIN:VEVENT
DTSTART;TZID=America/Chicago:20260913T150000
DTEND;TZID=America/Chicago:20260913T163000
DTSTAMP:20260422T181103
CREATED:20251113T213540Z
LAST-MODIFIED:20251206T222035Z
UID:47473-1789311600-1789317000@cotrgtwn.org
SUMMARY:Praise Team Practice
DESCRIPTION:Group: Praise Team \nMeet in Sanctuary
URL:https://cotrgtwn.org/calendar-event/praise-team-practice-20/
LOCATION:Church on the Rock\, 925 Golden Oaks Dr\, Georgetown\, TX\, 78626\, United States
END:VEVENT
BEGIN:VEVENT
DTSTART;TZID=America/Chicago:20260916T190000
DTEND;TZID=America/Chicago:20260916T210000
DTSTAMP:20260422T181103
CREATED:20251113T213540Z
LAST-MODIFIED:20260402T162734Z
UID:47476-1789585200-1789592400@cotrgtwn.org
SUMMARY:Wednesday Night Service
DESCRIPTION:Group: Our Church
URL:https://cotrgtwn.org/calendar-event/wednesday-night-service-39/
LOCATION:Church on the Rock\, 925 Golden Oaks Dr\, Georgetown\, TX\, 78626\, United States
END:VEVENT
BEGIN:VEVENT
DTSTART;TZID=America/Chicago:20260917T183000
DTEND;TZID=America/Chicago:20260917T203000
DTSTAMP:20260422T181103
CREATED:20251204T170115Z
LAST-MODIFIED:20251206T222044Z
UID:163343-1789669800-1789677000@cotrgtwn.org
SUMMARY:Youth Service
DESCRIPTION:Group: Youth Group
URL:https://cotrgtwn.org/calendar-event/youth-service-50/
LOCATION:TX
END:VEVENT
BEGIN:VEVENT
DTSTART;TZID=America/Chicago:20260919T100000
DTEND;TZID=America/Chicago:20260919T120000
DTSTAMP:20260422T181103
CREATED:20251113T213540Z
LAST-MODIFIED:20251206T222046Z
UID:47477-1789812000-1789819200@cotrgtwn.org
SUMMARY:Children’s Ministry Training
DESCRIPTION:Group: Children’s Ministry Team
URL:https://cotrgtwn.org/calendar-event/childrens-ministry-training/
LOCATION:Church on the Rock\, 925 Golden Oaks Dr\, Georgetown\, TX\, 78626\, United States
END:VEVENT
BEGIN:VEVENT
DTSTART;TZID=America/Chicago:20260920T081500
DTEND;TZID=America/Chicago:20260920T084500
DTSTAMP:20260422T181103
CREATED:20251113T213541Z
LAST-MODIFIED:20251206T222049Z
UID:47479-1789892100-1789893900@cotrgtwn.org
SUMMARY:Pre-Service Prayer
DESCRIPTION:Group: Our Church
URL:https://cotrgtwn.org/calendar-event/pre-service-prayer-53/
LOCATION:Church on the Rock\, 925 Golden Oaks Dr\, Georgetown\, TX\, 78626\, United States
END:VEVENT
BEGIN:VEVENT
DTSTART;TZID=America/Chicago:20260920T100000
DTEND;TZID=America/Chicago:20260920T120000
DTSTAMP:20260422T181103
CREATED:20251113T213541Z
LAST-MODIFIED:20251113T213541Z
UID:47483-1789898400-1789905600@cotrgtwn.org
SUMMARY:Sunday Morning Service
DESCRIPTION:Group: Our Church
URL:https://cotrgtwn.org/calendar-event/sunday-morning-service-43/
LOCATION:Church on the Rock\, 925 Golden Oaks Dr\, Georgetown\, TX\, 78626\, United States
END:VEVENT
BEGIN:VEVENT
DTSTART;VALUE=DATE:20260921
DTEND;VALUE=DATE:20260922
DTSTAMP:20260422T181103
CREATED:20251113T213541Z
LAST-MODIFIED:20251206T222054Z
UID:47484-1789948800-1790035199@cotrgtwn.org
SUMMARY:Men's Retreat
DESCRIPTION:Group: Men’s Ministry \nDetails to come
URL:https://cotrgtwn.org/calendar-event/mens-retreat-2/
LOCATION:TX
END:VEVENT
BEGIN:VEVENT
DTSTART;VALUE=DATE:20260922
DTEND;VALUE=DATE:20260923
DTSTAMP:20260422T181103
CREATED:20251113T213542Z
LAST-MODIFIED:20251206T222054Z
UID:47485-1790035200-1790121599@cotrgtwn.org
SUMMARY:Men's Retreat
DESCRIPTION:Group: Men’s Ministry \nDetails to come
URL:https://cotrgtwn.org/calendar-event/mens-retreat-3/
LOCATION:TX
END:VEVENT
BEGIN:VEVENT
DTSTART;VALUE=DATE:20260923
DTEND;VALUE=DATE:20260924
DTSTAMP:20260422T181103
CREATED:20251113T213542Z
LAST-MODIFIED:20251206T222058Z
UID:47487-1790121600-1790207999@cotrgtwn.org
SUMMARY:Men's Retreat
DESCRIPTION:Group: Men’s Ministry \nDetails to come
URL:https://cotrgtwn.org/calendar-event/mens-retreat-5/
LOCATION:TX
END:VEVENT
BEGIN:VEVENT
DTSTART;TZID=America/Chicago:20260923T190000
DTEND;TZID=America/Chicago:20260923T210000
DTSTAMP:20260422T181103
CREATED:20251113T213542Z
LAST-MODIFIED:20260402T162758Z
UID:47489-1790190000-1790197200@cotrgtwn.org
SUMMARY:Wednesday Night Service
DESCRIPTION:Group: Our Church
URL:https://cotrgtwn.org/calendar-event/wednesday-night-service-40/
LOCATION:Church on the Rock\, 925 Golden Oaks Dr\, Georgetown\, TX\, 78626\, United States
END:VEVENT
BEGIN:VEVENT
DTSTART;VALUE=DATE:20260924
DTEND;VALUE=DATE:20260925
DTSTAMP:20260422T181103
CREATED:20251113T213542Z
LAST-MODIFIED:20251206T222058Z
UID:47486-1790208000-1790294399@cotrgtwn.org
SUMMARY:Men's Retreat
DESCRIPTION:Group: Men’s Ministry \nDetails to come
URL:https://cotrgtwn.org/calendar-event/mens-retreat-4/
LOCATION:TX
END:VEVENT
BEGIN:VEVENT
DTSTART;VALUE=DATE:20260925
DTEND;VALUE=DATE:20260926
DTSTAMP:20260422T181103
CREATED:20251113T213542Z
LAST-MODIFIED:20251206T222058Z
UID:47490-1790294400-1790380799@cotrgtwn.org
SUMMARY:Men's Retreat
DESCRIPTION:Group: Men’s Ministry \nDetails to come
URL:https://cotrgtwn.org/calendar-event/mens-retreat-6/
LOCATION:TX
END:VEVENT
END:VCALENDAR