BEGIN:VCALENDAR
VERSION:2.0
PRODID:-//Church on the Rock - ECPv6.15.20//NONSGML v1.0//EN
CALSCALE:GREGORIAN
METHOD:PUBLISH
X-WR-CALNAME:Church on the Rock
X-ORIGINAL-URL:https://cotrgtwn.org
X-WR-CALDESC:Events for Church on the Rock
REFRESH-INTERVAL;VALUE=DURATION:PT1H
X-Robots-Tag:noindex
X-PUBLISHED-TTL:PT1H
BEGIN:VTIMEZONE
TZID:America/Chicago
BEGIN:DAYLIGHT
TZOFFSETFROM:-0600
TZOFFSETTO:-0500
TZNAME:CDT
DTSTART:20260308T080000
END:DAYLIGHT
BEGIN:STANDARD
TZOFFSETFROM:-0500
TZOFFSETTO:-0600
TZNAME:CST
DTSTART:20261101T070000
END:STANDARD
BEGIN:DAYLIGHT
TZOFFSETFROM:-0600
TZOFFSETTO:-0500
TZNAME:CDT
DTSTART:20270314T080000
END:DAYLIGHT
BEGIN:STANDARD
TZOFFSETFROM:-0500
TZOFFSETTO:-0600
TZNAME:CST
DTSTART:20271107T070000
END:STANDARD
BEGIN:DAYLIGHT
TZOFFSETFROM:-0600
TZOFFSETTO:-0500
TZNAME:CDT
DTSTART:20280312T080000
END:DAYLIGHT
BEGIN:STANDARD
TZOFFSETFROM:-0500
TZOFFSETTO:-0600
TZNAME:CST
DTSTART:20281105T070000
END:STANDARD
END:VTIMEZONE
BEGIN:VEVENT
DTSTART;TZID=America/Chicago:20270321T100000
DTEND;TZID=America/Chicago:20270321T120000
DTSTAMP:20260422T175404
CREATED:20260115T215419Z
LAST-MODIFIED:20260115T215419Z
UID:167228-1805623200-1805630400@cotrgtwn.org
SUMMARY:Sunday Morning Service
DESCRIPTION:Group: Our Church
URL:https://cotrgtwn.org/calendar-event/sunday-morning-service-264/
LOCATION:Church on the Rock\, 925 Golden Oaks Dr\, Georgetown\, TX\, 78626\, United States
END:VEVENT
BEGIN:VEVENT
DTSTART;TZID=America/Chicago:20270321T100000
DTEND;TZID=America/Chicago:20270321T120000
DTSTAMP:20260422T175404
CREATED:20251113T224003Z
LAST-MODIFIED:20251206T222612Z
UID:48302-1805623200-1805630400@cotrgtwn.org
SUMMARY:Sunday Morning Service
DESCRIPTION:Group: Our Church
URL:https://cotrgtwn.org/calendar-event/sunday-morning-service-170/
LOCATION:Church on the Rock\, 925 Golden Oaks Dr\, Georgetown\, TX\, 78626\, United States
END:VEVENT
BEGIN:VEVENT
DTSTART;TZID=America/Chicago:20270321T100000
DTEND;TZID=America/Chicago:20270321T120000
DTSTAMP:20260422T175404
CREATED:20251113T213614Z
LAST-MODIFIED:20251113T213614Z
UID:47686-1805623200-1805630400@cotrgtwn.org
SUMMARY:Sunday Morning Service
DESCRIPTION:Group: Our Church
URL:https://cotrgtwn.org/calendar-event/sunday-morning-service-69/
LOCATION:Church on the Rock\, 925 Golden Oaks Dr\, Georgetown\, TX\, 78626\, United States
END:VEVENT
BEGIN:VEVENT
DTSTART;TZID=America/Chicago:20270321T081500
DTEND;TZID=America/Chicago:20270321T084500
DTSTAMP:20260422T175404
CREATED:20251113T213613Z
LAST-MODIFIED:20251206T222609Z
UID:47685-1805616900-1805618700@cotrgtwn.org
SUMMARY:Pre-Service Prayer
DESCRIPTION:Group: Our Church
URL:https://cotrgtwn.org/calendar-event/pre-service-prayer-79/
LOCATION:Church on the Rock\, 925 Golden Oaks Dr\, Georgetown\, TX\, 78626\, United States
END:VEVENT
BEGIN:VEVENT
DTSTART;TZID=America/Chicago:20270317T190000
DTEND;TZID=America/Chicago:20270317T203000
DTSTAMP:20260422T175404
CREATED:20260115T215419Z
LAST-MODIFIED:20260115T215419Z
UID:167227-1805310000-1805315400@cotrgtwn.org
SUMMARY:Wednesday Night Service
DESCRIPTION:Group: Our Church
URL:https://cotrgtwn.org/calendar-event/wednesday-night-service-152/
LOCATION:Church on the Rock\, 925 Golden Oaks Dr\, Georgetown\, TX\, 78626\, United States
END:VEVENT
BEGIN:VEVENT
DTSTART;TZID=America/Chicago:20270317T190000
DTEND;TZID=America/Chicago:20270317T203000
DTSTAMP:20260422T175404
CREATED:20251113T213613Z
LAST-MODIFIED:20251206T222605Z
UID:47683-1805310000-1805315400@cotrgtwn.org
SUMMARY:Wednesday Night Service
DESCRIPTION:Group: Our Church
URL:https://cotrgtwn.org/calendar-event/wednesday-night-service-62/
LOCATION:Church on the Rock\, 925 Golden Oaks Dr\, Georgetown\, TX\, 78626\, United States
END:VEVENT
BEGIN:VEVENT
DTSTART;TZID=America/Chicago:20270314T180000
DTEND;TZID=America/Chicago:20270314T200000
DTSTAMP:20260422T175404
CREATED:20251113T213613Z
LAST-MODIFIED:20251206T222603Z
UID:47682-1805047200-1805054400@cotrgtwn.org
SUMMARY:Sunday Evening Service
DESCRIPTION:Group: Our Church
URL:https://cotrgtwn.org/calendar-event/sunday-evening-service-31/
LOCATION:Church on the Rock\, 925 Golden Oaks Dr\, Georgetown\, TX\, 78626\, United States
END:VEVENT
BEGIN:VEVENT
DTSTART;TZID=America/Chicago:20270314T100000
DTEND;TZID=America/Chicago:20270314T120000
DTSTAMP:20260422T175404
CREATED:20260115T215419Z
LAST-MODIFIED:20260115T215419Z
UID:167226-1805018400-1805025600@cotrgtwn.org
SUMMARY:Sunday Morning Service
DESCRIPTION:Group: Our Church
URL:https://cotrgtwn.org/calendar-event/sunday-morning-service-263/
LOCATION:Church on the Rock\, 925 Golden Oaks Dr\, Georgetown\, TX\, 78626\, United States
END:VEVENT
BEGIN:VEVENT
DTSTART;TZID=America/Chicago:20270314T100000
DTEND;TZID=America/Chicago:20270314T120000
DTSTAMP:20260422T175404
CREATED:20251113T224003Z
LAST-MODIFIED:20251206T222600Z
UID:48296-1805018400-1805025600@cotrgtwn.org
SUMMARY:Sunday Morning Service
DESCRIPTION:Group: Our Church
URL:https://cotrgtwn.org/calendar-event/sunday-morning-service-169/
LOCATION:Church on the Rock\, 925 Golden Oaks Dr\, Georgetown\, TX\, 78626\, United States
END:VEVENT
BEGIN:VEVENT
DTSTART;TZID=America/Chicago:20270314T100000
DTEND;TZID=America/Chicago:20270314T120000
DTSTAMP:20260422T175404
CREATED:20251113T213613Z
LAST-MODIFIED:20251113T213613Z
UID:47680-1805018400-1805025600@cotrgtwn.org
SUMMARY:Sunday Morning Service
DESCRIPTION:Group: Our Church
URL:https://cotrgtwn.org/calendar-event/sunday-morning-service-68/
LOCATION:Church on the Rock\, 925 Golden Oaks Dr\, Georgetown\, TX\, 78626\, United States
END:VEVENT
BEGIN:VEVENT
DTSTART;TZID=America/Chicago:20270314T081500
DTEND;TZID=America/Chicago:20270314T084500
DTSTAMP:20260422T175404
CREATED:20251113T213612Z
LAST-MODIFIED:20251206T222557Z
UID:47679-1805012100-1805013900@cotrgtwn.org
SUMMARY:Pre-Service Prayer
DESCRIPTION:Group: Our Church
URL:https://cotrgtwn.org/calendar-event/pre-service-prayer-78/
LOCATION:Church on the Rock\, 925 Golden Oaks Dr\, Georgetown\, TX\, 78626\, United States
END:VEVENT
BEGIN:VEVENT
DTSTART;TZID=America/Chicago:20270310T190000
DTEND;TZID=America/Chicago:20270310T203000
DTSTAMP:20260422T175404
CREATED:20260115T215418Z
LAST-MODIFIED:20260115T215418Z
UID:167225-1804705200-1804710600@cotrgtwn.org
SUMMARY:Wednesday Night Service
DESCRIPTION:Group: Our Church
URL:https://cotrgtwn.org/calendar-event/wednesday-night-service-151/
LOCATION:Church on the Rock\, 925 Golden Oaks Dr\, Georgetown\, TX\, 78626\, United States
END:VEVENT
BEGIN:VEVENT
DTSTART;TZID=America/Chicago:20270310T190000
DTEND;TZID=America/Chicago:20270310T203000
DTSTAMP:20260422T175404
CREATED:20251113T213612Z
LAST-MODIFIED:20251206T222554Z
UID:47677-1804705200-1804710600@cotrgtwn.org
SUMMARY:Wednesday Night Service
DESCRIPTION:Group: Our Church
URL:https://cotrgtwn.org/calendar-event/wednesday-night-service-61/
LOCATION:Church on the Rock\, 925 Golden Oaks Dr\, Georgetown\, TX\, 78626\, United States
END:VEVENT
BEGIN:VEVENT
DTSTART;TZID=America/Chicago:20270307T180000
DTEND;TZID=America/Chicago:20270307T200000
DTSTAMP:20260422T175404
CREATED:20251113T213612Z
LAST-MODIFIED:20251206T222552Z
UID:47676-1804442400-1804449600@cotrgtwn.org
SUMMARY:Sunday Evening Service
DESCRIPTION:Group: Our Church
URL:https://cotrgtwn.org/calendar-event/sunday-evening-service-30/
LOCATION:Church on the Rock\, 925 Golden Oaks Dr\, Georgetown\, TX\, 78626\, United States
END:VEVENT
BEGIN:VEVENT
DTSTART;TZID=America/Chicago:20270307T100000
DTEND;TZID=America/Chicago:20270307T120000
DTSTAMP:20260422T175404
CREATED:20260115T215418Z
LAST-MODIFIED:20260115T215418Z
UID:167224-1804413600-1804420800@cotrgtwn.org
SUMMARY:Sunday Morning Service
DESCRIPTION:Group: Our Church
URL:https://cotrgtwn.org/calendar-event/sunday-morning-service-262/
LOCATION:Church on the Rock\, 925 Golden Oaks Dr\, Georgetown\, TX\, 78626\, United States
END:VEVENT
BEGIN:VEVENT
DTSTART;TZID=America/Chicago:20270307T100000
DTEND;TZID=America/Chicago:20270307T120000
DTSTAMP:20260422T175404
CREATED:20251113T224002Z
LAST-MODIFIED:20251206T222549Z
UID:48290-1804413600-1804420800@cotrgtwn.org
SUMMARY:Sunday Morning Service
DESCRIPTION:Group: Our Church
URL:https://cotrgtwn.org/calendar-event/sunday-morning-service-168/
LOCATION:Church on the Rock\, 925 Golden Oaks Dr\, Georgetown\, TX\, 78626\, United States
END:VEVENT
BEGIN:VEVENT
DTSTART;TZID=America/Chicago:20270307T100000
DTEND;TZID=America/Chicago:20270307T120000
DTSTAMP:20260422T175404
CREATED:20251113T213612Z
LAST-MODIFIED:20251113T213612Z
UID:47674-1804413600-1804420800@cotrgtwn.org
SUMMARY:Sunday Morning Service
DESCRIPTION:Group: Our Church
URL:https://cotrgtwn.org/calendar-event/sunday-morning-service-67/
LOCATION:Church on the Rock\, 925 Golden Oaks Dr\, Georgetown\, TX\, 78626\, United States
END:VEVENT
BEGIN:VEVENT
DTSTART;TZID=America/Chicago:20270307T081500
DTEND;TZID=America/Chicago:20270307T084500
DTSTAMP:20260422T175404
CREATED:20251113T213611Z
LAST-MODIFIED:20251206T222547Z
UID:47673-1804407300-1804409100@cotrgtwn.org
SUMMARY:Pre-Service Prayer
DESCRIPTION:Group: Our Church
URL:https://cotrgtwn.org/calendar-event/pre-service-prayer-77/
LOCATION:Church on the Rock\, 925 Golden Oaks Dr\, Georgetown\, TX\, 78626\, United States
END:VEVENT
BEGIN:VEVENT
DTSTART;TZID=America/Chicago:20270303T190000
DTEND;TZID=America/Chicago:20270303T203000
DTSTAMP:20260422T175404
CREATED:20260115T215418Z
LAST-MODIFIED:20260115T215418Z
UID:167223-1804100400-1804105800@cotrgtwn.org
SUMMARY:Wednesday Night Service
DESCRIPTION:Group: Our Church
URL:https://cotrgtwn.org/calendar-event/wednesday-night-service-150/
LOCATION:Church on the Rock\, 925 Golden Oaks Dr\, Georgetown\, TX\, 78626\, United States
END:VEVENT
BEGIN:VEVENT
DTSTART;TZID=America/Chicago:20270303T190000
DTEND;TZID=America/Chicago:20270303T203000
DTSTAMP:20260422T175404
CREATED:20251113T213611Z
LAST-MODIFIED:20251206T222543Z
UID:47671-1804100400-1804105800@cotrgtwn.org
SUMMARY:Wednesday Night Service
DESCRIPTION:Group: Our Church
URL:https://cotrgtwn.org/calendar-event/wednesday-night-service-60/
LOCATION:Church on the Rock\, 925 Golden Oaks Dr\, Georgetown\, TX\, 78626\, United States
END:VEVENT
BEGIN:VEVENT
DTSTART;TZID=America/Chicago:20270228T180000
DTEND;TZID=America/Chicago:20270228T200000
DTSTAMP:20260422T175404
CREATED:20251113T213611Z
LAST-MODIFIED:20251206T222540Z
UID:47670-1803837600-1803844800@cotrgtwn.org
SUMMARY:Sunday Evening Service
DESCRIPTION:Group: Our Church
URL:https://cotrgtwn.org/calendar-event/sunday-evening-service-29/
LOCATION:Church on the Rock\, 925 Golden Oaks Dr\, Georgetown\, TX\, 78626\, United States
END:VEVENT
BEGIN:VEVENT
DTSTART;TZID=America/Chicago:20270228T100000
DTEND;TZID=America/Chicago:20270228T120000
DTSTAMP:20260422T175404
CREATED:20260115T215418Z
LAST-MODIFIED:20260115T215418Z
UID:167222-1803808800-1803816000@cotrgtwn.org
SUMMARY:Sunday Morning Service
DESCRIPTION:Group: Our Church
URL:https://cotrgtwn.org/calendar-event/sunday-morning-service-261/
LOCATION:Church on the Rock\, 925 Golden Oaks Dr\, Georgetown\, TX\, 78626\, United States
END:VEVENT
BEGIN:VEVENT
DTSTART;TZID=America/Chicago:20270228T100000
DTEND;TZID=America/Chicago:20270228T120000
DTSTAMP:20260422T175404
CREATED:20251113T224001Z
LAST-MODIFIED:20251206T222537Z
UID:48284-1803808800-1803816000@cotrgtwn.org
SUMMARY:Sunday Morning Service
DESCRIPTION:Group: Our Church
URL:https://cotrgtwn.org/calendar-event/sunday-morning-service-167/
LOCATION:Church on the Rock\, 925 Golden Oaks Dr\, Georgetown\, TX\, 78626\, United States
END:VEVENT
BEGIN:VEVENT
DTSTART;TZID=America/Chicago:20270228T100000
DTEND;TZID=America/Chicago:20270228T120000
DTSTAMP:20260422T175404
CREATED:20251113T213611Z
LAST-MODIFIED:20251113T213611Z
UID:47668-1803808800-1803816000@cotrgtwn.org
SUMMARY:Sunday Morning Service
DESCRIPTION:Group: Our Church
URL:https://cotrgtwn.org/calendar-event/sunday-morning-service-66/
LOCATION:Church on the Rock\, 925 Golden Oaks Dr\, Georgetown\, TX\, 78626\, United States
END:VEVENT
BEGIN:VEVENT
DTSTART;TZID=America/Chicago:20270228T081500
DTEND;TZID=America/Chicago:20270228T084500
DTSTAMP:20260422T175404
CREATED:20251113T213610Z
LAST-MODIFIED:20251206T222534Z
UID:47667-1803802500-1803804300@cotrgtwn.org
SUMMARY:Pre-Service Prayer
DESCRIPTION:Group: Our Church
URL:https://cotrgtwn.org/calendar-event/pre-service-prayer-76/
LOCATION:Church on the Rock\, 925 Golden Oaks Dr\, Georgetown\, TX\, 78626\, United States
END:VEVENT
BEGIN:VEVENT
DTSTART;TZID=America/Chicago:20270224T190000
DTEND;TZID=America/Chicago:20270224T203000
DTSTAMP:20260422T175404
CREATED:20260115T215417Z
LAST-MODIFIED:20260115T215417Z
UID:167221-1803495600-1803501000@cotrgtwn.org
SUMMARY:Wednesday Night Service
DESCRIPTION:Group: Our Church
URL:https://cotrgtwn.org/calendar-event/wednesday-night-service-149/
LOCATION:Church on the Rock\, 925 Golden Oaks Dr\, Georgetown\, TX\, 78626\, United States
END:VEVENT
BEGIN:VEVENT
DTSTART;TZID=America/Chicago:20270224T190000
DTEND;TZID=America/Chicago:20270224T203000
DTSTAMP:20260422T175404
CREATED:20251113T213610Z
LAST-MODIFIED:20251206T222531Z
UID:47665-1803495600-1803501000@cotrgtwn.org
SUMMARY:Wednesday Night Service
DESCRIPTION:Group: Our Church
URL:https://cotrgtwn.org/calendar-event/wednesday-night-service-59/
LOCATION:Church on the Rock\, 925 Golden Oaks Dr\, Georgetown\, TX\, 78626\, United States
END:VEVENT
BEGIN:VEVENT
DTSTART;TZID=America/Chicago:20270221T180000
DTEND;TZID=America/Chicago:20270221T200000
DTSTAMP:20260422T175404
CREATED:20251113T213610Z
LAST-MODIFIED:20251206T222529Z
UID:47664-1803232800-1803240000@cotrgtwn.org
SUMMARY:Sunday Evening Service
DESCRIPTION:Group: Our Church
URL:https://cotrgtwn.org/calendar-event/sunday-evening-service-28/
LOCATION:Church on the Rock\, 925 Golden Oaks Dr\, Georgetown\, TX\, 78626\, United States
END:VEVENT
BEGIN:VEVENT
DTSTART;TZID=America/Chicago:20270221T100000
DTEND;TZID=America/Chicago:20270221T120000
DTSTAMP:20260422T175404
CREATED:20260115T215417Z
LAST-MODIFIED:20260115T215417Z
UID:167220-1803204000-1803211200@cotrgtwn.org
SUMMARY:Sunday Morning Service
DESCRIPTION:Group: Our Church
URL:https://cotrgtwn.org/calendar-event/sunday-morning-service-260/
LOCATION:Church on the Rock\, 925 Golden Oaks Dr\, Georgetown\, TX\, 78626\, United States
END:VEVENT
BEGIN:VEVENT
DTSTART;TZID=America/Chicago:20270221T100000
DTEND;TZID=America/Chicago:20270221T120000
DTSTAMP:20260422T175404
CREATED:20251113T224000Z
LAST-MODIFIED:20251206T222526Z
UID:48278-1803204000-1803211200@cotrgtwn.org
SUMMARY:Sunday Morning Service
DESCRIPTION:Group: Our Church
URL:https://cotrgtwn.org/calendar-event/sunday-morning-service-166/
LOCATION:Church on the Rock\, 925 Golden Oaks Dr\, Georgetown\, TX\, 78626\, United States
END:VEVENT
END:VCALENDAR