BEGIN:VCALENDAR
VERSION:2.0
PRODID:-//Church on the Rock - ECPv6.15.20//NONSGML v1.0//EN
CALSCALE:GREGORIAN
METHOD:PUBLISH
X-ORIGINAL-URL:https://cotrgtwn.org
X-WR-CALDESC:Events for Church on the Rock
REFRESH-INTERVAL;VALUE=DURATION:PT1H
X-Robots-Tag:noindex
X-PUBLISHED-TTL:PT1H
BEGIN:VTIMEZONE
TZID:America/Chicago
BEGIN:DAYLIGHT
TZOFFSETFROM:-0600
TZOFFSETTO:-0500
TZNAME:CDT
DTSTART:20240310T080000
END:DAYLIGHT
BEGIN:STANDARD
TZOFFSETFROM:-0500
TZOFFSETTO:-0600
TZNAME:CST
DTSTART:20241103T070000
END:STANDARD
BEGIN:DAYLIGHT
TZOFFSETFROM:-0600
TZOFFSETTO:-0500
TZNAME:CDT
DTSTART:20250309T080000
END:DAYLIGHT
BEGIN:STANDARD
TZOFFSETFROM:-0500
TZOFFSETTO:-0600
TZNAME:CST
DTSTART:20251102T070000
END:STANDARD
BEGIN:DAYLIGHT
TZOFFSETFROM:-0600
TZOFFSETTO:-0500
TZNAME:CDT
DTSTART:20260308T080000
END:DAYLIGHT
BEGIN:STANDARD
TZOFFSETFROM:-0500
TZOFFSETTO:-0600
TZNAME:CST
DTSTART:20261101T070000
END:STANDARD
END:VTIMEZONE
BEGIN:VEVENT
DTSTART;TZID=America/Chicago:20251123T150000
DTEND;TZID=America/Chicago:20251123T160000
DTSTAMP:20260422T064813
CREATED:20251113T192635Z
LAST-MODIFIED:20251117T183053Z
UID:46477-1763910000-1763913600@cotrgtwn.org
SUMMARY:Praise Team Practice
DESCRIPTION:Group: Praise Team \nMeet in sanctuary.
URL:https://cotrgtwn.org/calendar-event/praise-team-practice-2/
LOCATION:Church on the Rock\, 925 Golden Oaks Dr\, Georgetown\, TX\, 78626\, United States
END:VEVENT
BEGIN:VEVENT
DTSTART;TZID=America/Chicago:20251123T180000
DTEND;TZID=America/Chicago:20251123T200000
DTSTAMP:20260422T064813
CREATED:20251113T192636Z
LAST-MODIFIED:20251124T010528Z
UID:46486-1763920800-1763928000@cotrgtwn.org
SUMMARY:Sunday Evening Service
DESCRIPTION:Group: Our Church
URL:https://cotrgtwn.org/calendar-event/sunday-evening-service/
LOCATION:Church on the Rock\, 925 Golden Oaks Dr\, Georgetown\, TX\, 78626\, United States
END:VEVENT
BEGIN:VEVENT
DTSTART;TZID=America/Chicago:20251125T183000
DTEND;TZID=America/Chicago:20251125T203000
DTSTAMP:20260422T064813
CREATED:20251113T192636Z
LAST-MODIFIED:20251126T015635Z
UID:46487-1764095400-1764102600@cotrgtwn.org
SUMMARY:COTR and FCA Staff Thanksgiving Dinner
DESCRIPTION:Group: Church Staff \nDetails to come.
URL:https://cotrgtwn.org/calendar-event/cotr-and-fca-staff-thanksgiving-dinner/
END:VEVENT
BEGIN:VEVENT
DTSTART;VALUE=DATE:20251126
DTEND;VALUE=DATE:20251127
DTSTAMP:20260422T064813
CREATED:20251113T192636Z
LAST-MODIFIED:20251126T225054Z
UID:46488-1764115200-1764201599@cotrgtwn.org
SUMMARY:COTR Thanksgiving Break
DESCRIPTION:Group: Our Church
URL:https://cotrgtwn.org/calendar-event/cotr-thanksgiving-break/
LOCATION:Church on the Rock\, 925 Golden Oaks Dr\, Georgetown\, TX\, 78626\, United States
END:VEVENT
BEGIN:VEVENT
DTSTART;TZID=America/Chicago:20251126T190000
DTEND;TZID=America/Chicago:20251126T203000
DTSTAMP:20260422T064813
CREATED:20251113T192636Z
LAST-MODIFIED:20251127T013045Z
UID:46489-1764183600-1764189000@cotrgtwn.org
SUMMARY:Wednesday Night Service
DESCRIPTION:Group: Our Church
URL:https://cotrgtwn.org/calendar-event/wednesday-night-service-2/
LOCATION:Church on the Rock\, 925 Golden Oaks Dr\, Georgetown\, TX\, 78626\, United States
END:VEVENT
BEGIN:VEVENT
DTSTART;VALUE=DATE:20251127
DTEND;VALUE=DATE:20251128
DTSTAMP:20260422T064813
CREATED:20251113T192636Z
LAST-MODIFIED:20251127T233349Z
UID:46490-1764201600-1764287999@cotrgtwn.org
SUMMARY:COTR Thanksgiving Break
DESCRIPTION:Group: Our Church
URL:https://cotrgtwn.org/calendar-event/cotr-thanksgiving-break-2/
LOCATION:Church on the Rock\, 925 Golden Oaks Dr\, Georgetown\, TX\, 78626\, United States
END:VEVENT
BEGIN:VEVENT
DTSTART;VALUE=DATE:20251128
DTEND;VALUE=DATE:20251129
DTSTAMP:20260422T064813
CREATED:20251113T192637Z
LAST-MODIFIED:20251128T234751Z
UID:46491-1764288000-1764374399@cotrgtwn.org
SUMMARY:COTR Thanksgiving Break
DESCRIPTION:Group: Our Church
URL:https://cotrgtwn.org/calendar-event/cotr-thanksgiving-break-3/
LOCATION:Church on the Rock\, 925 Golden Oaks Dr\, Georgetown\, TX\, 78626\, United States
END:VEVENT
BEGIN:VEVENT
DTSTART;TZID=America/Chicago:20251130T081500
DTEND;TZID=America/Chicago:20251130T084500
DTSTAMP:20260422T064813
CREATED:20251113T192637Z
LAST-MODIFIED:20251130T143914Z
UID:46493-1764490500-1764492300@cotrgtwn.org
SUMMARY:Pre-Service Prayer
DESCRIPTION:Group: Our Church
URL:https://cotrgtwn.org/calendar-event/pre-service-prayer-13/
LOCATION:Church on the Rock\, 925 Golden Oaks Dr\, Georgetown\, TX\, 78626\, United States
END:VEVENT
BEGIN:VEVENT
DTSTART;TZID=America/Chicago:20251130T100000
DTEND;TZID=America/Chicago:20251130T120000
DTSTAMP:20260422T064813
CREATED:20251113T192637Z
LAST-MODIFIED:20251113T213450Z
UID:46494-1764496800-1764504000@cotrgtwn.org
SUMMARY:Sunday Morning Service
DESCRIPTION:Group: Our Church
URL:https://cotrgtwn.org/calendar-event/sunday-morning-service-3/
LOCATION:Church on the Rock\, 925 Golden Oaks Dr\, Georgetown\, TX\, 78626\, United States
END:VEVENT
BEGIN:VEVENT
DTSTART;TZID=America/Chicago:20251130T100000
DTEND;TZID=America/Chicago:20251130T120000
DTSTAMP:20260422T064813
CREATED:20251113T223717Z
LAST-MODIFIED:20251130T173459Z
UID:47911-1764496800-1764504000@cotrgtwn.org
SUMMARY:Sunday Morning Service
DESCRIPTION:Group: Our Church
URL:https://cotrgtwn.org/calendar-event/sunday-morning-service-104/
LOCATION:Church on the Rock\, 925 Golden Oaks Dr\, Georgetown\, TX\, 78626\, United States
END:VEVENT
BEGIN:VEVENT
DTSTART;TZID=America/Chicago:20251130T140000
DTEND;TZID=America/Chicago:20251130T160000
DTSTAMP:20260422T064813
CREATED:20251113T192637Z
LAST-MODIFIED:20251130T204711Z
UID:46496-1764511200-1764518400@cotrgtwn.org
SUMMARY:Pushpay Ministry of Helps Training
DESCRIPTION:Group: Our Church
URL:https://cotrgtwn.org/calendar-event/pushpay-ministry-of-helps-training/
LOCATION:Church on the Rock\, 925 Golden Oaks Dr\, Georgetown\, TX\, 78626\, United States
END:VEVENT
BEGIN:VEVENT
DTSTART;TZID=America/Chicago:20251201T183000
DTEND;TZID=America/Chicago:20251201T203000
DTSTAMP:20260422T064813
CREATED:20251113T192637Z
LAST-MODIFIED:20251202T005908Z
UID:46497-1764613800-1764621000@cotrgtwn.org
SUMMARY:Christmas Musical Rehearsals
DESCRIPTION:Group: Christmas Musical \nCast Needed: All Cast
URL:https://cotrgtwn.org/calendar-event/christmas-musical-rehearsals/
LOCATION:Church on the Rock\, 925 Golden Oaks Dr\, Georgetown\, TX\, 78626\, United States
END:VEVENT
BEGIN:VEVENT
DTSTART;TZID=America/Chicago:20251202T183000
DTEND;TZID=America/Chicago:20251202T203000
DTSTAMP:20260422T064813
CREATED:20251113T192638Z
LAST-MODIFIED:20251203T013128Z
UID:46498-1764700200-1764707400@cotrgtwn.org
SUMMARY:Christmas Musical Rehearsals
DESCRIPTION:Group: Christmas Musical \nCast Needed: All Cast
URL:https://cotrgtwn.org/calendar-event/christmas-musical-rehearsals-2/
LOCATION:Church on the Rock\, 925 Golden Oaks Dr\, Georgetown\, TX\, 78626\, United States
END:VEVENT
BEGIN:VEVENT
DTSTART;TZID=America/Chicago:20251203T190000
DTEND;TZID=America/Chicago:20251203T203000
DTSTAMP:20260422T064813
CREATED:20251113T192638Z
LAST-MODIFIED:20251204T012752Z
UID:46499-1764788400-1764793800@cotrgtwn.org
SUMMARY:Wednesday Night Service
DESCRIPTION:Group: Our Church
URL:https://cotrgtwn.org/calendar-event/wednesday-night-service-3/
LOCATION:Church on the Rock\, 925 Golden Oaks Dr\, Georgetown\, TX\, 78626\, United States
END:VEVENT
BEGIN:VEVENT
DTSTART;TZID=America/Chicago:20251204T183000
DTEND;TZID=America/Chicago:20251204T203000
DTSTAMP:20260422T064813
CREATED:20251113T192638Z
LAST-MODIFIED:20251205T012205Z
UID:46500-1764873000-1764880200@cotrgtwn.org
SUMMARY:Christmas Musical Rehearsals
DESCRIPTION:Group: Christmas Musical \nCast Needed: All Cast
URL:https://cotrgtwn.org/calendar-event/christmas-musical-rehearsals-3/
LOCATION:Church on the Rock\, 925 Golden Oaks Dr\, Georgetown\, TX\, 78626\, United States
END:VEVENT
BEGIN:VEVENT
DTSTART;TZID=America/Chicago:20251207T081500
DTEND;TZID=America/Chicago:20251207T084500
DTSTAMP:20260422T064813
CREATED:20251113T192638Z
LAST-MODIFIED:20251207T132939Z
UID:46502-1765095300-1765097100@cotrgtwn.org
SUMMARY:Pre-Service Prayer
DESCRIPTION:Group: Our Church
URL:https://cotrgtwn.org/calendar-event/pre-service-prayer-14/
LOCATION:Church on the Rock\, 925 Golden Oaks Dr\, Georgetown\, TX\, 78626\, United States
END:VEVENT
BEGIN:VEVENT
DTSTART;TZID=America/Chicago:20251207T100000
DTEND;TZID=America/Chicago:20251207T120000
DTSTAMP:20260422T064813
CREATED:20251113T192638Z
LAST-MODIFIED:20251113T213451Z
UID:46503-1765101600-1765108800@cotrgtwn.org
SUMMARY:Sunday Morning Service
DESCRIPTION:Group: Our Church
URL:https://cotrgtwn.org/calendar-event/sunday-morning-service-4/
LOCATION:Church on the Rock\, 925 Golden Oaks Dr\, Georgetown\, TX\, 78626\, United States
END:VEVENT
BEGIN:VEVENT
DTSTART;TZID=America/Chicago:20251207T100000
DTEND;TZID=America/Chicago:20251207T120000
DTSTAMP:20260422T064813
CREATED:20251113T223731Z
LAST-MODIFIED:20251207T173449Z
UID:47914-1765101600-1765108800@cotrgtwn.org
SUMMARY:Sunday Morning Service
DESCRIPTION:Group: Our Church
URL:https://cotrgtwn.org/calendar-event/sunday-morning-service-105/
LOCATION:Church on the Rock\, 925 Golden Oaks Dr\, Georgetown\, TX\, 78626\, United States
END:VEVENT
BEGIN:VEVENT
DTSTART;TZID=America/Chicago:20251207T180000
DTEND;TZID=America/Chicago:20251207T200000
DTSTAMP:20260422T064813
CREATED:20251113T192639Z
LAST-MODIFIED:20251208T013730Z
UID:46506-1765130400-1765137600@cotrgtwn.org
SUMMARY:Sunday Evening Service
DESCRIPTION:Group: Our Church
URL:https://cotrgtwn.org/calendar-event/sunday-evening-service-2/
LOCATION:Church on the Rock\, 925 Golden Oaks Dr\, Georgetown\, TX\, 78626\, United States
END:VEVENT
BEGIN:VEVENT
DTSTART;TZID=America/Chicago:20251207T180000
DTEND;TZID=America/Chicago:20251207T200000
DTSTAMP:20260422T064813
CREATED:20251113T192639Z
LAST-MODIFIED:20251208T013727Z
UID:46508-1765130400-1765137600@cotrgtwn.org
SUMMARY:Youth Service
DESCRIPTION:Group: Youth Leaders \nDetails to come!
URL:https://cotrgtwn.org/calendar-event/youth-service-13/
LOCATION:Ignite Room\, 599 Golden Oaks Dr\, Georgetown\, TX\, United States
END:VEVENT
BEGIN:VEVENT
DTSTART;TZID=America/Chicago:20251208T183000
DTEND;TZID=America/Chicago:20251208T203000
DTSTAMP:20260422T064813
CREATED:20251113T192639Z
LAST-MODIFIED:20251209T015309Z
UID:46509-1765218600-1765225800@cotrgtwn.org
SUMMARY:Christmas Musical Rehearsals
DESCRIPTION:Group: Christmas Musical \nCast Needed: All Cast
URL:https://cotrgtwn.org/calendar-event/christmas-musical-rehearsals-4/
LOCATION:Church on the Rock\, 925 Golden Oaks Dr\, Georgetown\, TX\, 78626\, United States
END:VEVENT
BEGIN:VEVENT
DTSTART;TZID=America/Chicago:20251209T183000
DTEND;TZID=America/Chicago:20251209T203000
DTSTAMP:20260422T064813
CREATED:20251113T192639Z
LAST-MODIFIED:20251210T015843Z
UID:46510-1765305000-1765312200@cotrgtwn.org
SUMMARY:Christmas Musical Rehearsals
DESCRIPTION:Group: Christmas Musical \nCast Needed: All Cast
URL:https://cotrgtwn.org/calendar-event/christmas-musical-rehearsals-5/
LOCATION:Church on the Rock\, 925 Golden Oaks Dr\, Georgetown\, TX\, 78626\, United States
END:VEVENT
BEGIN:VEVENT
DTSTART;TZID=America/Chicago:20251210T190000
DTEND;TZID=America/Chicago:20251210T203000
DTSTAMP:20260422T064813
CREATED:20251113T192640Z
LAST-MODIFIED:20251210T140122Z
UID:46511-1765393200-1765398600@cotrgtwn.org
SUMMARY:Wednesday Night Service
DESCRIPTION:Group: Our Church
URL:https://cotrgtwn.org/calendar-event/wednesday-night-service-4/
LOCATION:Church on the Rock\, 925 Golden Oaks Dr\, Georgetown\, TX\, 78626\, United States
END:VEVENT
BEGIN:VEVENT
DTSTART;TZID=America/Chicago:20251211T183000
DTEND;TZID=America/Chicago:20251211T203000
DTSTAMP:20260422T064813
CREATED:20251113T192640Z
LAST-MODIFIED:20251210T140127Z
UID:46512-1765477800-1765485000@cotrgtwn.org
SUMMARY:Christmas Musical Rehearsals
DESCRIPTION:Group: Christmas Musical \nCast Needed: All Cast
URL:https://cotrgtwn.org/calendar-event/christmas-musical-rehearsals-6/
LOCATION:Church on the Rock\, 925 Golden Oaks Dr\, Georgetown\, TX\, 78626\, United States
END:VEVENT
BEGIN:VEVENT
DTSTART;TZID=America/Chicago:20251214T081500
DTEND;TZID=America/Chicago:20251214T084500
DTSTAMP:20260422T064813
CREATED:20251113T192640Z
LAST-MODIFIED:20251210T140131Z
UID:46515-1765700100-1765701900@cotrgtwn.org
SUMMARY:Pre-Service Prayer
DESCRIPTION:Group: Our Church
URL:https://cotrgtwn.org/calendar-event/pre-service-prayer-15/
LOCATION:Church on the Rock\, 925 Golden Oaks Dr\, Georgetown\, TX\, 78626\, United States
END:VEVENT
BEGIN:VEVENT
DTSTART;TZID=America/Chicago:20251214T100000
DTEND;TZID=America/Chicago:20251214T120000
DTSTAMP:20260422T064813
CREATED:20251113T192640Z
LAST-MODIFIED:20251113T213452Z
UID:46516-1765706400-1765713600@cotrgtwn.org
SUMMARY:Sunday Morning Service
DESCRIPTION:Group: Our Church
URL:https://cotrgtwn.org/calendar-event/sunday-morning-service-5/
LOCATION:Church on the Rock\, 925 Golden Oaks Dr\, Georgetown\, TX\, 78626\, United States
END:VEVENT
BEGIN:VEVENT
DTSTART;TZID=America/Chicago:20251214T100000
DTEND;TZID=America/Chicago:20251214T120000
DTSTAMP:20260422T064813
CREATED:20251113T223745Z
LAST-MODIFIED:20251210T140136Z
UID:47917-1765706400-1765713600@cotrgtwn.org
SUMMARY:Sunday Morning Service
DESCRIPTION:Group: Our Church
URL:https://cotrgtwn.org/calendar-event/sunday-morning-service-106/
LOCATION:Church on the Rock\, 925 Golden Oaks Dr\, Georgetown\, TX\, 78626\, United States
END:VEVENT
BEGIN:VEVENT
DTSTART;TZID=America/Chicago:20251214T133000
DTEND;TZID=America/Chicago:20251214T150000
DTSTAMP:20260422T064813
CREATED:20251113T192639Z
LAST-MODIFIED:20251210T140141Z
UID:46505-1765719000-1765724400@cotrgtwn.org
SUMMARY:Praise Team Practice
DESCRIPTION:Group: Praise Team \nMeet in Sanctuary.
URL:https://cotrgtwn.org/calendar-event/praise-team-practice-3/
LOCATION:Church on the Rock\, 925 Golden Oaks Dr\, Georgetown\, TX\, 78626\, United States
END:VEVENT
BEGIN:VEVENT
DTSTART;TZID=America/Chicago:20251214T170000
DTEND;TZID=America/Chicago:20251214T190000
DTSTAMP:20260422T064813
CREATED:20251113T192640Z
LAST-MODIFIED:20251210T140144Z
UID:46518-1765731600-1765738800@cotrgtwn.org
SUMMARY:Christmas Cookie Exchange & Parade
DESCRIPTION:Group: Our Church \nWe will have our annual Christmas Parade and Cookie Exchange on Sunday\, December 14\, at 6:00 pm. We had over 15 vehicles last year\, and the Golden Oaks neighborhood came out in full force to watch the parade! If you would like to enter a vehicle in the parade\, please call the church office to let us know. We are asking each family to leave a dozen cookies on the kitchen counter before morning service on December 14\, so we can sort and set them out before everyone arrives. You can bring lawn chairs or park in the grass area to watch the parade. Please register your family online so we have enough coffee and hot chocolate for everyone! \n \nREGISTER Here
URL:https://cotrgtwn.org/calendar-event/christmas-parade-2/
LOCATION:Church on the Rock\, 925 Golden Oaks Dr\, Georgetown\, TX\, 78626\, United States
END:VEVENT
BEGIN:VEVENT
DTSTART;TZID=America/Chicago:20251215T183000
DTEND;TZID=America/Chicago:20251215T203000
DTSTAMP:20260422T064813
CREATED:20251113T192641Z
LAST-MODIFIED:20251210T140147Z
UID:46519-1765823400-1765830600@cotrgtwn.org
SUMMARY:Christmas Musical Rehearsals
DESCRIPTION:Group: Christmas Musical \nCast Needed: All Cast (Including Extras)
URL:https://cotrgtwn.org/calendar-event/christmas-musical-rehearsals-7/
LOCATION:Church on the Rock\, 925 Golden Oaks Dr\, Georgetown\, TX\, 78626\, United States
END:VEVENT
END:VCALENDAR