BEGIN:VCALENDAR
VERSION:2.0
PRODID:-//Church on the Rock - ECPv6.15.20//NONSGML v1.0//EN
CALSCALE:GREGORIAN
METHOD:PUBLISH
X-WR-CALNAME:Church on the Rock
X-ORIGINAL-URL:https://cotrgtwn.org
X-WR-CALDESC:Events for Church on the Rock
REFRESH-INTERVAL;VALUE=DURATION:PT1H
X-Robots-Tag:noindex
X-PUBLISHED-TTL:PT1H
BEGIN:VTIMEZONE
TZID:America/Chicago
BEGIN:DAYLIGHT
TZOFFSETFROM:-0600
TZOFFSETTO:-0500
TZNAME:CDT
DTSTART:20250309T080000
END:DAYLIGHT
BEGIN:STANDARD
TZOFFSETFROM:-0500
TZOFFSETTO:-0600
TZNAME:CST
DTSTART:20251102T070000
END:STANDARD
BEGIN:DAYLIGHT
TZOFFSETFROM:-0600
TZOFFSETTO:-0500
TZNAME:CDT
DTSTART:20260308T080000
END:DAYLIGHT
BEGIN:STANDARD
TZOFFSETFROM:-0500
TZOFFSETTO:-0600
TZNAME:CST
DTSTART:20261101T070000
END:STANDARD
BEGIN:DAYLIGHT
TZOFFSETFROM:-0600
TZOFFSETTO:-0500
TZNAME:CDT
DTSTART:20270314T080000
END:DAYLIGHT
BEGIN:STANDARD
TZOFFSETFROM:-0500
TZOFFSETTO:-0600
TZNAME:CST
DTSTART:20271107T070000
END:STANDARD
END:VTIMEZONE
BEGIN:VEVENT
DTSTART;VALUE=DATE:20260316
DTEND;VALUE=DATE:20260317
DTSTAMP:20260422T015848
CREATED:20251113T192658Z
LAST-MODIFIED:20260316T233248Z
UID:46654-1773619200-1773705599@cotrgtwn.org
SUMMARY:Church on the Rock Spring Break
DESCRIPTION:Group: Our Church
URL:https://cotrgtwn.org/calendar-event/church-on-the-rock-spring-break-2/
LOCATION:TX
END:VEVENT
BEGIN:VEVENT
DTSTART;VALUE=DATE:20260317
DTEND;VALUE=DATE:20260318
DTSTAMP:20260422T015848
CREATED:20251113T192658Z
LAST-MODIFIED:20260317T230745Z
UID:46653-1773705600-1773791999@cotrgtwn.org
SUMMARY:Church on the Rock Spring Break
DESCRIPTION:Group: Our Church
URL:https://cotrgtwn.org/calendar-event/church-on-the-rock-spring-break/
LOCATION:TX
END:VEVENT
BEGIN:VEVENT
DTSTART;VALUE=DATE:20260318
DTEND;VALUE=DATE:20260319
DTSTAMP:20260422T015848
CREATED:20251113T192658Z
LAST-MODIFIED:20260318T234632Z
UID:46655-1773792000-1773878399@cotrgtwn.org
SUMMARY:No Midweek Service
DESCRIPTION:Group: Our Church
URL:https://cotrgtwn.org/calendar-event/no-midweek-service-7/
LOCATION:TX
END:VEVENT
BEGIN:VEVENT
DTSTART;VALUE=DATE:20260318
DTEND;VALUE=DATE:20260319
DTSTAMP:20260422T015848
CREATED:20251113T192659Z
LAST-MODIFIED:20260318T234633Z
UID:46657-1773792000-1773878399@cotrgtwn.org
SUMMARY:Church on the Rock Spring Break
DESCRIPTION:Group: Our Church
URL:https://cotrgtwn.org/calendar-event/church-on-the-rock-spring-break-4/
LOCATION:TX
END:VEVENT
BEGIN:VEVENT
DTSTART;VALUE=DATE:20260319
DTEND;VALUE=DATE:20260320
DTSTAMP:20260422T015848
CREATED:20251113T192658Z
LAST-MODIFIED:20260319T230926Z
UID:46656-1773878400-1773964799@cotrgtwn.org
SUMMARY:Church on the Rock Spring Break
DESCRIPTION:Group: Our Church
URL:https://cotrgtwn.org/calendar-event/church-on-the-rock-spring-break-3/
LOCATION:TX
END:VEVENT
BEGIN:VEVENT
DTSTART;VALUE=DATE:20260320
DTEND;VALUE=DATE:20260321
DTSTAMP:20260422T015848
CREATED:20251113T192659Z
LAST-MODIFIED:20260320T210301Z
UID:46658-1773964800-1774051199@cotrgtwn.org
SUMMARY:Church on the Rock Spring Break
DESCRIPTION:Group: Our Church
URL:https://cotrgtwn.org/calendar-event/church-on-the-rock-spring-break-5/
LOCATION:TX
END:VEVENT
BEGIN:VEVENT
DTSTART;TZID=America/Chicago:20260322T081500
DTEND;TZID=America/Chicago:20260322T084500
DTSTAMP:20260422T015848
CREATED:20251113T192659Z
LAST-MODIFIED:20251206T221423Z
UID:46659-1774167300-1774169100@cotrgtwn.org
SUMMARY:Pre-Service Prayer
DESCRIPTION:Group: Our Church
URL:https://cotrgtwn.org/calendar-event/pre-service-prayer-28/
LOCATION:Church on the Rock\, 925 Golden Oaks Dr\, Georgetown\, TX\, 78626\, United States
END:VEVENT
BEGIN:VEVENT
DTSTART;TZID=America/Chicago:20260322T100000
DTEND;TZID=America/Chicago:20260322T120000
DTSTAMP:20260422T015848
CREATED:20251113T192659Z
LAST-MODIFIED:20251113T213606Z
UID:46660-1774173600-1774180800@cotrgtwn.org
SUMMARY:Sunday Morning Service
DESCRIPTION:Group: Our Church
URL:https://cotrgtwn.org/calendar-event/sunday-morning-service-18/
LOCATION:Church on the Rock\, 925 Golden Oaks Dr\, Georgetown\, TX\, 78626\, United States
END:VEVENT
BEGIN:VEVENT
DTSTART;TZID=America/Chicago:20260322T120000
DTEND;TZID=America/Chicago:20260322T130000
DTSTAMP:20260422T015848
CREATED:20251113T192704Z
LAST-MODIFIED:20260402T131311Z
UID:46703-1774180800-1774184400@cotrgtwn.org
SUMMARY:Children's Ministry Quarterly & Creativity Meeting
DESCRIPTION:Group: Children’s Ministry Team \nMeet in Sanctuary
URL:https://cotrgtwn.org/calendar-event/childrens-ministry-quarterly-creativity-meeting-2/
LOCATION:Church on the Rock\, 925 Golden Oaks Dr\, Georgetown\, TX\, 78626\, United States
END:VEVENT
BEGIN:VEVENT
DTSTART;TZID=America/Chicago:20260322T150000
DTEND;TZID=America/Chicago:20260322T163000
DTSTAMP:20260422T015848
CREATED:20251113T192659Z
LAST-MODIFIED:20251206T221430Z
UID:46662-1774191600-1774197000@cotrgtwn.org
SUMMARY:Praise Team Practice
DESCRIPTION:Group: Praise Team \nMeet in Sanctuary
URL:https://cotrgtwn.org/calendar-event/praise-team-practice-9/
LOCATION:Church on the Rock\, 925 Golden Oaks Dr\, Georgetown\, TX\, 78626\, United States
END:VEVENT
BEGIN:VEVENT
DTSTART;TZID=America/Chicago:20260322T180000
DTEND;TZID=America/Chicago:20260322T200000
DTSTAMP:20260422T015848
CREATED:20251113T192659Z
LAST-MODIFIED:20251206T221432Z
UID:46663-1774202400-1774209600@cotrgtwn.org
SUMMARY:Sunday Evening Service
DESCRIPTION:Group: Our Church
URL:https://cotrgtwn.org/calendar-event/sunday-evening-service-8/
LOCATION:Church on the Rock\, 925 Golden Oaks Dr\, Georgetown\, TX\, 78626\, United States
END:VEVENT
BEGIN:VEVENT
DTSTART;TZID=America/Chicago:20260325T190000
DTEND;TZID=America/Chicago:20260325T203000
DTSTAMP:20260422T015848
CREATED:20251113T192700Z
LAST-MODIFIED:20251206T221435Z
UID:46664-1774465200-1774470600@cotrgtwn.org
SUMMARY:Wednesday Night Service
DESCRIPTION:Group: Our Church
URL:https://cotrgtwn.org/calendar-event/wednesday-night-service-17/
LOCATION:Church on the Rock\, 925 Golden Oaks Dr\, Georgetown\, TX\, 78626\, United States
END:VEVENT
BEGIN:VEVENT
DTSTART;TZID=America/Chicago:20260326T183000
DTEND;TZID=America/Chicago:20260326T203000
DTSTAMP:20260422T015848
CREATED:20251204T001246Z
LAST-MODIFIED:20260327T012218Z
UID:162730-1774549800-1774557000@cotrgtwn.org
SUMMARY:Youth Service
DESCRIPTION:Group: Youth Group \nYouth! Join us at Pastors’ house this Thursday\, March 26\, at 6:30 pm for a powerful message from Bro. Josh. Afterwards\, we will play a fun game of dodgeball\, so come dressed in athletic clothes and bring some water to stay hydrated. We can’t wait to see you there!
URL:https://cotrgtwn.org/calendar-event/youth-service-42/
LOCATION:Pastors’ House
END:VEVENT
BEGIN:VEVENT
DTSTART;TZID=America/Chicago:20260328T190000
DTEND;TZID=America/Chicago:20260328T210000
DTSTAMP:20260422T015848
CREATED:20260106T210922Z
LAST-MODIFIED:20260106T210922Z
UID:166914-1774724400-1774731600@cotrgtwn.org
SUMMARY:Rev. Randy Grier Ministering
DESCRIPTION:Group: Our Church
URL:https://cotrgtwn.org/calendar-event/rev-randy-grier-ministering/
LOCATION:TX
END:VEVENT
BEGIN:VEVENT
DTSTART;TZID=America/Chicago:20260329T081500
DTEND;TZID=America/Chicago:20260329T084500
DTSTAMP:20260422T015848
CREATED:20251113T192700Z
LAST-MODIFIED:20251206T221441Z
UID:46667-1774772100-1774773900@cotrgtwn.org
SUMMARY:Pre-Service Prayer
DESCRIPTION:Group: Our Church
URL:https://cotrgtwn.org/calendar-event/pre-service-prayer-29/
LOCATION:Church on the Rock\, 925 Golden Oaks Dr\, Georgetown\, TX\, 78626\, United States
END:VEVENT
BEGIN:VEVENT
DTSTART;TZID=America/Chicago:20260329T100000
DTEND;TZID=America/Chicago:20260329T120000
DTSTAMP:20260422T015848
CREATED:20251113T192700Z
LAST-MODIFIED:20251113T213618Z
UID:46668-1774778400-1774785600@cotrgtwn.org
SUMMARY:Sunday Morning Service
DESCRIPTION:Group: Our Church
URL:https://cotrgtwn.org/calendar-event/sunday-morning-service-19/
LOCATION:Church on the Rock\, 925 Golden Oaks Dr\, Georgetown\, TX\, 78626\, United States
END:VEVENT
BEGIN:VEVENT
DTSTART;TZID=America/Chicago:20260329T100000
DTEND;TZID=America/Chicago:20260329T120000
DTSTAMP:20260422T015848
CREATED:20260106T210923Z
LAST-MODIFIED:20260106T210923Z
UID:166915-1774778400-1774785600@cotrgtwn.org
SUMMARY:Rev. Randy Grier Ministering
DESCRIPTION:Group: Our Church
URL:https://cotrgtwn.org/calendar-event/rev-randy-grier-ministering-2/
LOCATION:Church on the Rock\, 925 Golden Oaks Dr\, Georgetown\, TX\, 78626\, United States
END:VEVENT
BEGIN:VEVENT
DTSTART;TZID=America/Chicago:20260329T180000
DTEND;TZID=America/Chicago:20260329T200000
DTSTAMP:20260422T015848
CREATED:20260106T210923Z
LAST-MODIFIED:20260330T003834Z
UID:166916-1774807200-1774814400@cotrgtwn.org
SUMMARY:Rev. Randy Grier Ministering
DESCRIPTION:Group: Our Church
URL:https://cotrgtwn.org/calendar-event/rev-randy-grier-ministering-3/
LOCATION:TX
END:VEVENT
BEGIN:VEVENT
DTSTART;TZID=America/Chicago:20260401T190000
DTEND;TZID=America/Chicago:20260401T210000
DTSTAMP:20260422T015848
CREATED:20260115T215202Z
LAST-MODIFIED:20260402T133837Z
UID:167135-1775070000-1775077200@cotrgtwn.org
SUMMARY:Wednesday Night Service
DESCRIPTION:Group: Our Church
URL:https://cotrgtwn.org/calendar-event/wednesday-night-service-109/
LOCATION:Church on the Rock\, 925 Golden Oaks Dr\, Georgetown\, TX\, 78626\, United States
END:VEVENT
BEGIN:VEVENT
DTSTART;TZID=America/Chicago:20260404T100000
DTEND;TZID=America/Chicago:20260404T180000
DTSTAMP:20260422T015848
CREATED:20260404T194609Z
LAST-MODIFIED:20260404T194609Z
UID:169498-1775296800-1775325600@cotrgtwn.org
SUMMARY:VBS Prep/Work Day
DESCRIPTION:Group: VBS 2026: Emerald Crossing
URL:https://cotrgtwn.org/calendar-event/vbs-prep-work-day/
LOCATION:Church on the Rock\, 925 Golden Oaks Dr\, Georgetown\, TX\, 78626\, United States
END:VEVENT
BEGIN:VEVENT
DTSTART;TZID=America/Chicago:20260405T081500
DTEND;TZID=America/Chicago:20260405T084500
DTSTAMP:20260422T015848
CREATED:20251113T192701Z
LAST-MODIFIED:20251206T221449Z
UID:46676-1775376900-1775378700@cotrgtwn.org
SUMMARY:Pre-Service Prayer
DESCRIPTION:Group: Our Church
URL:https://cotrgtwn.org/calendar-event/pre-service-prayer-30/
LOCATION:Church on the Rock\, 925 Golden Oaks Dr\, Georgetown\, TX\, 78626\, United States
END:VEVENT
BEGIN:VEVENT
DTSTART;TZID=America/Chicago:20260405T100000
DTEND;TZID=America/Chicago:20260405T120000
DTSTAMP:20260422T015848
CREATED:20260115T215202Z
LAST-MODIFIED:20260115T215202Z
UID:167136-1775383200-1775390400@cotrgtwn.org
SUMMARY:Sunday Morning Service
DESCRIPTION:Group: Our Church
URL:https://cotrgtwn.org/calendar-event/sunday-morning-service-215/
LOCATION:Church on the Rock\, 925 Golden Oaks Dr\, Georgetown\, TX\, 78626\, United States
END:VEVENT
BEGIN:VEVENT
DTSTART;TZID=America/Chicago:20260405T123000
DTEND;TZID=America/Chicago:20260405T140000
DTSTAMP:20260422T015848
CREATED:20260210T171155Z
LAST-MODIFIED:20260210T171155Z
UID:167939-1775392200-1775397600@cotrgtwn.org
SUMMARY:Water Baptism
DESCRIPTION:Group: Our Church
URL:https://cotrgtwn.org/calendar-event/water-baptism-2/
LOCATION:TX
END:VEVENT
BEGIN:VEVENT
DTSTART;TZID=America/Chicago:20260408T190000
DTEND;TZID=America/Chicago:20260408T210000
DTSTAMP:20260422T015848
CREATED:20260115T215203Z
LAST-MODIFIED:20260402T132245Z
UID:167137-1775674800-1775682000@cotrgtwn.org
SUMMARY:Wednesday Night Service
DESCRIPTION:Group: Our Church
URL:https://cotrgtwn.org/calendar-event/wednesday-night-service-110/
LOCATION:Church on the Rock\, 925 Golden Oaks Dr\, Georgetown\, TX\, 78626\, United States
END:VEVENT
BEGIN:VEVENT
DTSTART;TZID=America/Chicago:20260409T183000
DTEND;TZID=America/Chicago:20260409T203000
DTSTAMP:20260422T015848
CREATED:20260401T204932Z
LAST-MODIFIED:20260407T164721Z
UID:169209-1775759400-1775766600@cotrgtwn.org
SUMMARY:Youth Service
DESCRIPTION:Youth! Join us at Pastors’ house this Thursday\, April 9\, at 6:30 pm. Come ready to receive from Dr. Hattabaugh and play a competitive game of volleyball. Wear athletic clothes and bring a water bottle and your favorite candy to make a candy salad. We can’t wait to see you!
URL:https://cotrgtwn.org/calendar-event/youth-service/
LOCATION:Pastors’ House
END:VEVENT
BEGIN:VEVENT
DTSTART;TZID=America/Chicago:20260410T080000
DTEND;TZID=America/Chicago:20260410T130000
DTSTAMP:20260422T015848
CREATED:20260225T175826Z
LAST-MODIFIED:20260410T174743Z
UID:168183-1775808000-1775826000@cotrgtwn.org
SUMMARY:Men's Golf Scramble
DESCRIPTION:Group: Men’s Ministry \nThe Men’s Ministry will have a golf scramble at the Berry Creek Country Club on Friday\, April 10\, with the first team teeing off at 8:30 am. The green fee is $75 per person\, payable upon arrival. Berry Springs Country Club does not offer golf club rentals\, so you will need to bring your own clubs. Please list in the “Items Bringing” section if you are an A (75-85)\, B (86-90)\, C (91-99)\, or D (over 100) player. This will help us determine the teams. We are not making a reservation\, but you are welcome to stay and have lunch at the Clubhouse Dining Room after golfing.  Please visit the club’s website at theclubatberrycreek.com/rules to review the club rules and dress code. The registration deadline is Friday\, March 27. \n \nREGISTER here
URL:https://cotrgtwn.org/calendar-event/mens-golf-scramble/
LOCATION:Berry Creek Country Club\, 30500 Berry Creek Dr\, Georgetown\, TX\, United States
END:VEVENT
BEGIN:VEVENT
DTSTART;TZID=America/Chicago:20260412T081500
DTEND;TZID=America/Chicago:20260412T084500
DTSTAMP:20260422T015848
CREATED:20251113T192702Z
LAST-MODIFIED:20251206T221459Z
UID:46693-1775981700-1775983500@cotrgtwn.org
SUMMARY:Pre-Service Prayer
DESCRIPTION:Group: Our Church
URL:https://cotrgtwn.org/calendar-event/pre-service-prayer-31/
LOCATION:Church on the Rock\, 925 Golden Oaks Dr\, Georgetown\, TX\, 78626\, United States
END:VEVENT
BEGIN:VEVENT
DTSTART;TZID=America/Chicago:20260412T100000
DTEND;TZID=America/Chicago:20260412T120000
DTSTAMP:20260422T015848
CREATED:20260115T215216Z
LAST-MODIFIED:20260115T215216Z
UID:167138-1775988000-1775995200@cotrgtwn.org
SUMMARY:Sunday Morning Service
DESCRIPTION:Group: Our Church
URL:https://cotrgtwn.org/calendar-event/sunday-morning-service-216/
LOCATION:Church on the Rock\, 925 Golden Oaks Dr\, Georgetown\, TX\, 78626\, United States
END:VEVENT
BEGIN:VEVENT
DTSTART;TZID=America/Chicago:20260412T153000
DTEND;TZID=America/Chicago:20260412T170000
DTSTAMP:20260422T015848
CREATED:20251113T192704Z
LAST-MODIFIED:20260402T131135Z
UID:46707-1776007800-1776013200@cotrgtwn.org
SUMMARY:Praise Team Practice
DESCRIPTION:Group: Praise Team \nMeet in Sanctuary
URL:https://cotrgtwn.org/calendar-event/praise-team-practice-10/
LOCATION:Church on the Rock\, 925 Golden Oaks Dr\, Georgetown\, TX\, 78626\, United States
END:VEVENT
BEGIN:VEVENT
DTSTART;TZID=America/Chicago:20260412T180000
DTEND;TZID=America/Chicago:20260412T190000
DTSTAMP:20260422T015848
CREATED:20260106T200518Z
LAST-MODIFIED:20260402T131420Z
UID:166901-1776016800-1776020400@cotrgtwn.org
SUMMARY:Growing In God Class
DESCRIPTION:Group: Our Church
URL:https://cotrgtwn.org/calendar-event/growing-in-god-class-5/
LOCATION:Church on the Rock\, 925 Golden Oaks Dr\, Georgetown\, TX\, 78626\, United States
END:VEVENT
END:VCALENDAR