BEGIN:VCALENDAR
VERSION:2.0
PRODID:-//Church on the Rock - ECPv6.15.20//NONSGML v1.0//EN
CALSCALE:GREGORIAN
METHOD:PUBLISH
X-WR-CALNAME:Church on the Rock
X-ORIGINAL-URL:https://cotrgtwn.org
X-WR-CALDESC:Events for Church on the Rock
REFRESH-INTERVAL;VALUE=DURATION:PT1H
X-Robots-Tag:noindex
X-PUBLISHED-TTL:PT1H
BEGIN:VTIMEZONE
TZID:America/Chicago
BEGIN:DAYLIGHT
TZOFFSETFROM:-0600
TZOFFSETTO:-0500
TZNAME:CDT
DTSTART:20250309T080000
END:DAYLIGHT
BEGIN:STANDARD
TZOFFSETFROM:-0500
TZOFFSETTO:-0600
TZNAME:CST
DTSTART:20251102T070000
END:STANDARD
BEGIN:DAYLIGHT
TZOFFSETFROM:-0600
TZOFFSETTO:-0500
TZNAME:CDT
DTSTART:20260308T080000
END:DAYLIGHT
BEGIN:STANDARD
TZOFFSETFROM:-0500
TZOFFSETTO:-0600
TZNAME:CST
DTSTART:20261101T070000
END:STANDARD
BEGIN:DAYLIGHT
TZOFFSETFROM:-0600
TZOFFSETTO:-0500
TZNAME:CDT
DTSTART:20270314T080000
END:DAYLIGHT
BEGIN:STANDARD
TZOFFSETFROM:-0500
TZOFFSETTO:-0600
TZNAME:CST
DTSTART:20271107T070000
END:STANDARD
END:VTIMEZONE
BEGIN:VEVENT
DTSTART;TZID=America/Chicago:20260517T140000
DTEND;TZID=America/Chicago:20260517T170000
DTSTAMP:20260422T014316
CREATED:20251113T192707Z
LAST-MODIFIED:20260402T144521Z
UID:46726-1779026400-1779037200@cotrgtwn.org
SUMMARY:Family Sunday
DESCRIPTION:Group: Our Church \nDetails to come. \n  \nREGISTER Here
URL:https://cotrgtwn.org/calendar-event/family-sunday-14/
LOCATION:TX
END:VEVENT
BEGIN:VEVENT
DTSTART;TZID=America/Chicago:20260520T190000
DTEND;TZID=America/Chicago:20260520T210000
DTSTAMP:20260422T014316
CREATED:20251113T192710Z
LAST-MODIFIED:20260402T155618Z
UID:46748-1779303600-1779310800@cotrgtwn.org
SUMMARY:Wednesday Night Service
DESCRIPTION:Group: Our Church
URL:https://cotrgtwn.org/calendar-event/wednesday-night-service-25/
LOCATION:Church on the Rock\, 925 Golden Oaks Dr\, Georgetown\, TX\, 78626\, United States
END:VEVENT
BEGIN:VEVENT
DTSTART;TZID=America/Chicago:20260521T160000
DTEND;TZID=America/Chicago:20260521T180000
DTSTAMP:20260422T014316
CREATED:20251113T192711Z
LAST-MODIFIED:20260402T174650Z
UID:46749-1779379200-1779386400@cotrgtwn.org
SUMMARY:FCA Graduation Rehearsal
DESCRIPTION:Group: FCA Staff\, Parents\, & Students
URL:https://cotrgtwn.org/calendar-event/fca-graduation-rehearsal/
LOCATION:Church on the Rock\, 925 Golden Oaks Dr\, Georgetown\, TX\, 78626\, United States
END:VEVENT
BEGIN:VEVENT
DTSTART;TZID=America/Chicago:20260522T190000
DTEND;TZID=America/Chicago:20260522T210000
DTSTAMP:20260422T014316
CREATED:20251113T192711Z
LAST-MODIFIED:20260413T191124Z
UID:46750-1779476400-1779483600@cotrgtwn.org
SUMMARY:FCA Graduation
DESCRIPTION:Group: FCA Staff\, Parents\, & Students \n  \nPlease join us to celebrate our 2026 graduates of Faith Christian Academy on Friday evening\, May 22\, at 7:00 in the Church sanctuary. There will be light refreshments and fellowship immediately following the ceremony.
URL:https://cotrgtwn.org/calendar-event/fca-graduation-2/
LOCATION:Church on the Rock\, 925 Golden Oaks Dr\, Georgetown\, TX\, 78626\, United States
END:VEVENT
BEGIN:VEVENT
DTSTART;TZID=America/Chicago:20260523T100000
DTEND;TZID=America/Chicago:20260523T180000
DTSTAMP:20260422T014316
CREATED:20260404T195003Z
LAST-MODIFIED:20260404T195014Z
UID:169503-1779530400-1779559200@cotrgtwn.org
SUMMARY:VBS Workday (If Necessary)
DESCRIPTION:Group: VBS 2026: Emerald Crossing
URL:https://cotrgtwn.org/calendar-event/vbs-workday-if-necessary/
LOCATION:Church on the Rock\, 925 Golden Oaks Dr\, Georgetown\, TX\, 78626\, United States
END:VEVENT
BEGIN:VEVENT
DTSTART;TZID=America/Chicago:20260524T081500
DTEND;TZID=America/Chicago:20260524T084500
DTSTAMP:20260422T014316
CREATED:20251113T192711Z
LAST-MODIFIED:20251206T221629Z
UID:46752-1779610500-1779612300@cotrgtwn.org
SUMMARY:Pre-Service Prayer
DESCRIPTION:Group: Our Church
URL:https://cotrgtwn.org/calendar-event/pre-service-prayer-37/
LOCATION:Church on the Rock\, 925 Golden Oaks Dr\, Georgetown\, TX\, 78626\, United States
END:VEVENT
BEGIN:VEVENT
DTSTART;TZID=America/Chicago:20260524T100000
DTEND;TZID=America/Chicago:20260524T120000
DTSTAMP:20260422T014316
CREATED:20251113T192711Z
LAST-MODIFIED:20251113T213513Z
UID:46756-1779616800-1779624000@cotrgtwn.org
SUMMARY:Sunday Morning Service
DESCRIPTION:Group: Our Church
URL:https://cotrgtwn.org/calendar-event/sunday-morning-service-27/
LOCATION:Church on the Rock\, 925 Golden Oaks Dr\, Georgetown\, TX\, 78626\, United States
END:VEVENT
BEGIN:VEVENT
DTSTART;TZID=America/Chicago:20260524T180000
DTEND;TZID=America/Chicago:20260524T190000
DTSTAMP:20260422T014316
CREATED:20260106T200519Z
LAST-MODIFIED:20260106T200519Z
UID:166904-1779645600-1779649200@cotrgtwn.org
SUMMARY:Growing In God Class
DESCRIPTION:Group: Our Church
URL:https://cotrgtwn.org/calendar-event/growing-in-god-class-8/
LOCATION:TX
END:VEVENT
BEGIN:VEVENT
DTSTART;TZID=America/Chicago:20260527T190000
DTEND;TZID=America/Chicago:20260527T210000
DTSTAMP:20260422T014316
CREATED:20251113T192712Z
LAST-MODIFIED:20260402T155700Z
UID:46758-1779908400-1779915600@cotrgtwn.org
SUMMARY:Wednesday Night Service
DESCRIPTION:Group: Our Church
URL:https://cotrgtwn.org/calendar-event/wednesday-night-service-26/
LOCATION:Church on the Rock\, 925 Golden Oaks Dr\, Georgetown\, TX\, 78626\, United States
END:VEVENT
BEGIN:VEVENT
DTSTART;TZID=America/Chicago:20260531T081500
DTEND;TZID=America/Chicago:20260531T084500
DTSTAMP:20260422T014316
CREATED:20251113T192712Z
LAST-MODIFIED:20251206T221642Z
UID:46760-1780215300-1780217100@cotrgtwn.org
SUMMARY:Pre-Service Prayer
DESCRIPTION:Group: Our Church
URL:https://cotrgtwn.org/calendar-event/pre-service-prayer-38/
LOCATION:Church on the Rock\, 925 Golden Oaks Dr\, Georgetown\, TX\, 78626\, United States
END:VEVENT
BEGIN:VEVENT
DTSTART;TZID=America/Chicago:20260531T100000
DTEND;TZID=America/Chicago:20260531T120000
DTSTAMP:20260422T014316
CREATED:20251113T192712Z
LAST-MODIFIED:20251113T213513Z
UID:46761-1780221600-1780228800@cotrgtwn.org
SUMMARY:Sunday Morning Service
DESCRIPTION:Group: Our Church
URL:https://cotrgtwn.org/calendar-event/sunday-morning-service-28/
LOCATION:Church on the Rock\, 925 Golden Oaks Dr\, Georgetown\, TX\, 78626\, United States
END:VEVENT
BEGIN:VEVENT
DTSTART;TZID=America/Chicago:20260531T120000
DTEND;TZID=America/Chicago:20260531T123000
DTSTAMP:20260422T014316
CREATED:20251113T192705Z
LAST-MODIFIED:20260402T133020Z
UID:46714-1780228800-1780230600@cotrgtwn.org
SUMMARY:Housekeeping Team Meeting
DESCRIPTION:Group: Housekeeping \nMeet in Sanctuary.
URL:https://cotrgtwn.org/calendar-event/housekeeping-team-meeting-4/
LOCATION:Church on the Rock\, 925 Golden Oaks Dr\, Georgetown\, TX\, 78626\, United States
END:VEVENT
BEGIN:VEVENT
DTSTART;TZID=America/Chicago:20260531T120000
DTEND;TZID=America/Chicago:20260531T123000
DTSTAMP:20260422T014316
CREATED:20251113T192710Z
LAST-MODIFIED:20260402T165116Z
UID:46742-1780228800-1780230600@cotrgtwn.org
SUMMARY:Event Crew Meeting
DESCRIPTION:Group: Event Set Up & Tear Down Crew \nMeet in Sanctuary
URL:https://cotrgtwn.org/calendar-event/event-crew-meeting-5/
LOCATION:Church on the Rock\, 925 Golden Oaks Dr\, Georgetown\, TX\, 78626\, United States
END:VEVENT
BEGIN:VEVENT
DTSTART;TZID=America/Chicago:20260531T150000
DTEND;TZID=America/Chicago:20260531T163000
DTSTAMP:20260422T014316
CREATED:20251113T192712Z
LAST-MODIFIED:20251206T221647Z
UID:46763-1780239600-1780245000@cotrgtwn.org
SUMMARY:Praise Team Practice
DESCRIPTION:Group: Praise Team \nMeet in Sanctuary
URL:https://cotrgtwn.org/calendar-event/praise-team-practice-13/
LOCATION:Church on the Rock\, 925 Golden Oaks Dr\, Georgetown\, TX\, 78626\, United States
END:VEVENT
BEGIN:VEVENT
DTSTART;TZID=America/Chicago:20260603T190000
DTEND;TZID=America/Chicago:20260603T210000
DTSTAMP:20260422T014316
CREATED:20251113T192713Z
LAST-MODIFIED:20260402T155742Z
UID:46765-1780513200-1780520400@cotrgtwn.org
SUMMARY:Wednesday Night Service
DESCRIPTION:Group: Our Church
URL:https://cotrgtwn.org/calendar-event/wednesday-night-service-27/
LOCATION:Church on the Rock\, 925 Golden Oaks Dr\, Georgetown\, TX\, 78626\, United States
END:VEVENT
BEGIN:VEVENT
DTSTART;VALUE=DATE:20260605
DTEND;VALUE=DATE:20260607
DTSTAMP:20260422T014316
CREATED:20260404T195224Z
LAST-MODIFIED:20260404T195224Z
UID:169508-1780617600-1780790399@cotrgtwn.org
SUMMARY:VBS Snack Shopping
DESCRIPTION:Group: VBS 2026: Emerald Crossing
URL:https://cotrgtwn.org/calendar-event/vbs-snack-shopping/
LOCATION:Church on the Rock\, 925 Golden Oaks Dr\, Georgetown\, TX\, 78626\, United States
END:VEVENT
BEGIN:VEVENT
DTSTART;TZID=America/Chicago:20260607T081500
DTEND;TZID=America/Chicago:20260607T084500
DTSTAMP:20260422T014316
CREATED:20251113T192713Z
LAST-MODIFIED:20251206T221655Z
UID:46767-1780820100-1780821900@cotrgtwn.org
SUMMARY:Pre-Service Prayer
DESCRIPTION:Group: Our Church
URL:https://cotrgtwn.org/calendar-event/pre-service-prayer-39/
LOCATION:Church on the Rock\, 925 Golden Oaks Dr\, Georgetown\, TX\, 78626\, United States
END:VEVENT
BEGIN:VEVENT
DTSTART;TZID=America/Chicago:20260607T100000
DTEND;TZID=America/Chicago:20260607T120000
DTSTAMP:20260422T014316
CREATED:20251113T192713Z
LAST-MODIFIED:20251113T213514Z
UID:46768-1780826400-1780833600@cotrgtwn.org
SUMMARY:Sunday Morning Service
DESCRIPTION:Group: Our Church
URL:https://cotrgtwn.org/calendar-event/sunday-morning-service-29/
LOCATION:Church on the Rock\, 925 Golden Oaks Dr\, Georgetown\, TX\, 78626\, United States
END:VEVENT
BEGIN:VEVENT
DTSTART;TZID=America/Chicago:20260607T120000
DTEND;TZID=America/Chicago:20260607T123000
DTSTAMP:20260422T014316
CREATED:20251113T192711Z
LAST-MODIFIED:20260402T175020Z
UID:46754-1780833600-1780835400@cotrgtwn.org
SUMMARY:Audio/Visual Team Meeting
DESCRIPTION:Group: Audio/Visual \nMeet in Sanctuary
URL:https://cotrgtwn.org/calendar-event/audio-visual-team-meeting-2/
LOCATION:Church on the Rock\, 925 Golden Oaks Dr\, Georgetown\, TX\, 78626\, United States
END:VEVENT
BEGIN:VEVENT
DTSTART;TZID=America/Chicago:20260607T123000
DTEND;TZID=America/Chicago:20260607T143000
DTSTAMP:20260422T014316
CREATED:20260408T150128Z
LAST-MODIFIED:20260408T150128Z
UID:169733-1780835400-1780842600@cotrgtwn.org
SUMMARY:Water Baptism
DESCRIPTION:Group: Our Church \n  \nIf you are interested in taking part in our next Sunday Baptism\, please fill out this form. \nBaptism Interest Form
URL:https://cotrgtwn.org/calendar-event/water-baptism/
LOCATION:Church on the Rock\, 925 Golden Oaks Dr\, Georgetown\, TX\, 78626\, United States
END:VEVENT
BEGIN:VEVENT
DTSTART;TZID=America/Chicago:20260607T140000
DTEND;TZID=America/Chicago:20260607T200000
DTSTAMP:20260422T014316
CREATED:20251113T192713Z
LAST-MODIFIED:20251206T221702Z
UID:46770-1780840800-1780862400@cotrgtwn.org
SUMMARY:VBS Prep
DESCRIPTION:Group: Children’s Ministry Team \nDetails to come.
URL:https://cotrgtwn.org/calendar-event/vbs-prep-2/
LOCATION:Church on the Rock\, 925 Golden Oaks Dr\, Georgetown\, TX\, 78626\, United States
END:VEVENT
BEGIN:VEVENT
DTSTART;TZID=America/Chicago:20260608T183000
DTEND;TZID=America/Chicago:20260608T203000
DTSTAMP:20260422T014316
CREATED:20251113T192715Z
LAST-MODIFIED:20260413T161710Z
UID:46771-1780943400-1780950600@cotrgtwn.org
SUMMARY:Vacation Bible School
DESCRIPTION:Group: Our Church \nWho is ready for an Irish adventure?! If you’re between 4 and 11 years of age\, we invite you to this year’s VBS from 6:30 pm to 8:30 pm\, Monday through Friday\, June 8 through June 12. We’ll be diving into Psalm 23 and learning\, through the life of David\, that the Lord is our Shepherd and that He is there to guide\, protect\, and provide for us! You’ll leave this year’s VBS knowing who your Good Shepherd is and having had a blast journeying through Ireland’s lush landscapes. Please register online by May 25 so we know how many to expect. We’ll see you there! \n  \nREGISTER Here
URL:https://cotrgtwn.org/calendar-event/vacation-bible-school-3/
LOCATION:Church on the Rock\, 925 Golden Oaks Dr\, Georgetown\, TX\, 78626\, United States
END:VEVENT
BEGIN:VEVENT
DTSTART;TZID=America/Chicago:20260609T183000
DTEND;TZID=America/Chicago:20260609T203000
DTSTAMP:20260422T014316
CREATED:20251113T192715Z
LAST-MODIFIED:20260413T161814Z
UID:46773-1781029800-1781037000@cotrgtwn.org
SUMMARY:Vacation Bible School
DESCRIPTION:  \nGroup: Our Church \nWho is ready for an Irish adventure?! If you’re between 4 and 11 years of age\, we invite you to this year’s VBS from 6:30 pm to 8:30 pm\, Monday through Friday\, June 8 through June 12. We’ll be diving into Psalm 23 and learning\, through the life of David\, that the Lord is our Shepherd and that He is there to guide\, protect\, and provide for us! You’ll leave this year’s VBS knowing who your Good Shepherd is and having had a blast journeying through Ireland’s lush landscapes. Please register online by May 25 so we know how many to expect. We’ll see you there! \n  \nREGISTER Here
URL:https://cotrgtwn.org/calendar-event/vacation-bible-school-4/
LOCATION:Church on the Rock\, 925 Golden Oaks Dr\, Georgetown\, TX\, 78626\, United States
END:VEVENT
BEGIN:VEVENT
DTSTART;VALUE=DATE:20260610
DTEND;VALUE=DATE:20260611
DTSTAMP:20260422T014316
CREATED:20251113T192715Z
LAST-MODIFIED:20251206T221707Z
UID:46780-1781049600-1781135999@cotrgtwn.org
SUMMARY:No Midweek Service
DESCRIPTION:Group: Our Church
URL:https://cotrgtwn.org/calendar-event/no-midweek-service-8/
LOCATION:TX
END:VEVENT
BEGIN:VEVENT
DTSTART;TZID=America/Chicago:20260610T183000
DTEND;TZID=America/Chicago:20260610T203000
DTSTAMP:20260422T014316
CREATED:20251113T192715Z
LAST-MODIFIED:20260413T161850Z
UID:46777-1781116200-1781123400@cotrgtwn.org
SUMMARY:Vacation Bible School
DESCRIPTION:  \nGroup: Our Church \nWho is ready for an Irish adventure?! If you’re between 4 and 11 years of age\, we invite you to this year’s VBS from 6:30 pm to 8:30 pm\, Monday through Friday\, June 8 through June 12. We’ll be diving into Psalm 23 and learning\, through the life of David\, that the Lord is our Shepherd and that He is there to guide\, protect\, and provide for us! You’ll leave this year’s VBS knowing who your Good Shepherd is and having had a blast journeying through Ireland’s lush landscapes. Please register online by May 25 so we know how many to expect. We’ll see you there! \n  \nREGISTER Here
URL:https://cotrgtwn.org/calendar-event/vacation-bible-school-5/
LOCATION:Church on the Rock\, 925 Golden Oaks Dr\, Georgetown\, TX\, 78626\, United States
END:VEVENT
BEGIN:VEVENT
DTSTART;TZID=America/Chicago:20260611T183000
DTEND;TZID=America/Chicago:20260611T203000
DTSTAMP:20260422T014316
CREATED:20251113T192715Z
LAST-MODIFIED:20260413T161931Z
UID:46784-1781202600-1781209800@cotrgtwn.org
SUMMARY:Vacation Bible School
DESCRIPTION:  \nGroup: Our Church \nWho is ready for an Irish adventure?! If you’re between 4 and 11 years of age\, we invite you to this year’s VBS from 6:30 pm to 8:30 pm\, Monday through Friday\, June 8 through June 12. We’ll be diving into Psalm 23 and learning\, through the life of David\, that the Lord is our Shepherd and that He is there to guide\, protect\, and provide for us! You’ll leave this year’s VBS knowing who your Good Shepherd is and having had a blast journeying through Ireland’s lush landscapes. Please register online by May 25 so we know how many to expect. We’ll see you there! \n  \nREGISTER Here
URL:https://cotrgtwn.org/calendar-event/vacation-bible-school-6/
LOCATION:Church on the Rock\, 925 Golden Oaks Dr\, Georgetown\, TX\, 78626\, United States
END:VEVENT
BEGIN:VEVENT
DTSTART;TZID=America/Chicago:20260612T183000
DTEND;TZID=America/Chicago:20260612T203000
DTSTAMP:20260422T014316
CREATED:20251113T192716Z
LAST-MODIFIED:20260413T162021Z
UID:46787-1781289000-1781296200@cotrgtwn.org
SUMMARY:Vacation Bible School
DESCRIPTION:Group: Our Church \nWho is ready for an Irish adventure?! If you’re between 4 and 11 years of age\, we invite you to this year’s VBS from 6:30 pm to 8:30 pm\, Monday through Friday\, June 8 through June 12. We’ll be diving into Psalm 23 and learning\, through the life of David\, that the Lord is our Shepherd and that He is there to guide\, protect\, and provide for us! You’ll leave this year’s VBS knowing who your Good Shepherd is and having had a blast journeying through Ireland’s lush landscapes. Please register online by May 25 so we know how many to expect. We’ll see you there! \n  \nREGISTER Here
URL:https://cotrgtwn.org/calendar-event/vacation-bible-school-7/
LOCATION:Church on the Rock\, 925 Golden Oaks Dr\, Georgetown\, TX\, 78626\, United States
END:VEVENT
BEGIN:VEVENT
DTSTART;TZID=America/Chicago:20260612T203000
DTEND;TZID=America/Chicago:20260612T223000
DTSTAMP:20260422T014316
CREATED:20260404T195629Z
LAST-MODIFIED:20260404T195629Z
UID:169510-1781296200-1781303400@cotrgtwn.org
SUMMARY:VBS Teardown
DESCRIPTION:Group: VBS 2026: Emerald Crossing
URL:https://cotrgtwn.org/calendar-event/vbs-teardown/
LOCATION:Church on the Rock\, 925 Golden Oaks Dr\, Georgetown\, TX\, 78626\, United States
END:VEVENT
BEGIN:VEVENT
DTSTART;TZID=America/Chicago:20260614T081500
DTEND;TZID=America/Chicago:20260614T084500
DTSTAMP:20260422T014316
CREATED:20251113T192716Z
LAST-MODIFIED:20251206T221717Z
UID:46791-1781424900-1781426700@cotrgtwn.org
SUMMARY:Pre-Service Prayer
DESCRIPTION:Group: Our Church
URL:https://cotrgtwn.org/calendar-event/pre-service-prayer-40/
LOCATION:Church on the Rock\, 925 Golden Oaks Dr\, Georgetown\, TX\, 78626\, United States
END:VEVENT
BEGIN:VEVENT
DTSTART;TZID=America/Chicago:20260614T100000
DTEND;TZID=America/Chicago:20260614T120000
DTSTAMP:20260422T014316
CREATED:20251113T192716Z
LAST-MODIFIED:20251113T213515Z
UID:46793-1781431200-1781438400@cotrgtwn.org
SUMMARY:Sunday Morning Service
DESCRIPTION:Group: Our Church
URL:https://cotrgtwn.org/calendar-event/sunday-morning-service-30/
LOCATION:Church on the Rock\, 925 Golden Oaks Dr\, Georgetown\, TX\, 78626\, United States
END:VEVENT
END:VCALENDAR