BEGIN:VCALENDAR
VERSION:2.0
PRODID:-//Church on the Rock - ECPv6.15.20//NONSGML v1.0//EN
CALSCALE:GREGORIAN
METHOD:PUBLISH
X-ORIGINAL-URL:https://cotrgtwn.org
X-WR-CALDESC:Events for Church on the Rock
REFRESH-INTERVAL;VALUE=DURATION:PT1H
X-Robots-Tag:noindex
X-PUBLISHED-TTL:PT1H
BEGIN:VTIMEZONE
TZID:America/Chicago
BEGIN:DAYLIGHT
TZOFFSETFROM:-0600
TZOFFSETTO:-0500
TZNAME:CDT
DTSTART:20240310T080000
END:DAYLIGHT
BEGIN:STANDARD
TZOFFSETFROM:-0500
TZOFFSETTO:-0600
TZNAME:CST
DTSTART:20241103T070000
END:STANDARD
BEGIN:DAYLIGHT
TZOFFSETFROM:-0600
TZOFFSETTO:-0500
TZNAME:CDT
DTSTART:20250309T080000
END:DAYLIGHT
BEGIN:STANDARD
TZOFFSETFROM:-0500
TZOFFSETTO:-0600
TZNAME:CST
DTSTART:20251102T070000
END:STANDARD
BEGIN:DAYLIGHT
TZOFFSETFROM:-0600
TZOFFSETTO:-0500
TZNAME:CDT
DTSTART:20260308T080000
END:DAYLIGHT
BEGIN:STANDARD
TZOFFSETFROM:-0500
TZOFFSETTO:-0600
TZNAME:CST
DTSTART:20261101T070000
END:STANDARD
BEGIN:DAYLIGHT
TZOFFSETFROM:-0600
TZOFFSETTO:-0500
TZNAME:CDT
DTSTART:20270314T080000
END:DAYLIGHT
BEGIN:STANDARD
TZOFFSETFROM:-0500
TZOFFSETTO:-0600
TZNAME:CST
DTSTART:20271107T070000
END:STANDARD
END:VTIMEZONE
BEGIN:VEVENT
DTSTART;TZID=America/Chicago:20251217T190000
DTEND;TZID=America/Chicago:20251217T203000
DTSTAMP:20260422T063959
CREATED:20251113T192641Z
LAST-MODIFIED:20251210T140153Z
UID:46521-1765998000-1766003400@cotrgtwn.org
SUMMARY:Wednesday Night Service
DESCRIPTION:Group: Our Church
URL:https://cotrgtwn.org/calendar-event/wednesday-night-service-5/
LOCATION:Church on the Rock\, 925 Golden Oaks Dr\, Georgetown\, TX\, 78626\, United States
END:VEVENT
BEGIN:VEVENT
DTSTART;TZID=America/Chicago:20251218T113000
DTEND;TZID=America/Chicago:20251218T133000
DTSTAMP:20260422T063959
CREATED:20251113T192641Z
LAST-MODIFIED:20251210T140156Z
UID:46522-1766057400-1766064600@cotrgtwn.org
SUMMARY:COTR and FCA Staff Christmas Lunch
DESCRIPTION:Group: Church Staff \nDetails to come.
URL:https://cotrgtwn.org/calendar-event/cotr-and-fca-staff-christmas-lunch/
LOCATION:Church on the Rock\, 925 Golden Oaks Dr\, Georgetown\, TX\, 78626\, United States
END:VEVENT
BEGIN:VEVENT
DTSTART;TZID=America/Chicago:20251218T150000
DTEND;TZID=America/Chicago:20251218T203000
DTSTAMP:20260422T063959
CREATED:20251113T192641Z
LAST-MODIFIED:20251210T124211Z
UID:46523-1766070000-1766089800@cotrgtwn.org
SUMMARY:Christmas Musical Set Up/Rehearsals
DESCRIPTION:Group: Christmas Musical \nCast Needed: All Cast (Including Extras)
URL:https://cotrgtwn.org/calendar-event/christmas-musical-set-up-rehearsals/
LOCATION:Church on the Rock\, 925 Golden Oaks Dr\, Georgetown\, TX\, 78626\, United States
END:VEVENT
BEGIN:VEVENT
DTSTART;TZID=America/Chicago:20251219T183000
DTEND;TZID=America/Chicago:20251219T203000
DTSTAMP:20260422T063959
CREATED:20251113T192641Z
LAST-MODIFIED:20251210T124214Z
UID:46524-1766169000-1766176200@cotrgtwn.org
SUMMARY:Christmas Musical Dress Rehearsal
DESCRIPTION:Group: Christmas Musical \nCast Needed: All Cast (Including Extras)
URL:https://cotrgtwn.org/calendar-event/christmas-musical-dress-rehearsal/
LOCATION:Church on the Rock\, 925 Golden Oaks Dr\, Georgetown\, TX\, 78626\, United States
END:VEVENT
BEGIN:VEVENT
DTSTART;TZID=America/Chicago:20251220T180000
DTEND;TZID=America/Chicago:20251220T200000
DTSTAMP:20260422T063959
CREATED:20251113T192642Z
LAST-MODIFIED:20251210T124216Z
UID:46525-1766253600-1766260800@cotrgtwn.org
SUMMARY:Christmas Musical
DESCRIPTION:Group: Our Church \nWe invite you\, your family\, and your friends to join us for our first-ever Christmas musical on Saturday\, December 20\, at 6:00 pm. With music\, singing\, and a powerful story\, this is an event you don’t want to miss! Be sure to register and ask your family and friends to register online\, so we can add more seats if needed. \n \nREGISTER Here
URL:https://cotrgtwn.org/calendar-event/christmas-musical/
LOCATION:Church on the Rock\, 925 Golden Oaks Dr\, Georgetown\, TX\, 78626\, United States
END:VEVENT
BEGIN:VEVENT
DTSTART;TZID=America/Chicago:20251221T081500
DTEND;TZID=America/Chicago:20251221T084500
DTSTAMP:20260422T063959
CREATED:20251113T192642Z
LAST-MODIFIED:20251210T124219Z
UID:46527-1766304900-1766306700@cotrgtwn.org
SUMMARY:Pre-Service Prayer
DESCRIPTION:Group: Our Church
URL:https://cotrgtwn.org/calendar-event/pre-service-prayer-16/
LOCATION:Church on the Rock\, 925 Golden Oaks Dr\, Georgetown\, TX\, 78626\, United States
END:VEVENT
BEGIN:VEVENT
DTSTART;TZID=America/Chicago:20251221T100000
DTEND;TZID=America/Chicago:20251221T120000
DTSTAMP:20260422T063959
CREATED:20251113T192642Z
LAST-MODIFIED:20251113T213453Z
UID:46528-1766311200-1766318400@cotrgtwn.org
SUMMARY:Sunday Morning Service
DESCRIPTION:Group: Our Church
URL:https://cotrgtwn.org/calendar-event/sunday-morning-service-6/
LOCATION:Church on the Rock\, 925 Golden Oaks Dr\, Georgetown\, TX\, 78626\, United States
END:VEVENT
BEGIN:VEVENT
DTSTART;TZID=America/Chicago:20251221T100000
DTEND;TZID=America/Chicago:20251221T120000
DTSTAMP:20260422T063959
CREATED:20251113T223758Z
LAST-MODIFIED:20251210T124222Z
UID:47920-1766311200-1766318400@cotrgtwn.org
SUMMARY:Sunday Morning Service
DESCRIPTION:Group: Our Church
URL:https://cotrgtwn.org/calendar-event/sunday-morning-service-107/
LOCATION:Church on the Rock\, 925 Golden Oaks Dr\, Georgetown\, TX\, 78626\, United States
END:VEVENT
BEGIN:VEVENT
DTSTART;TZID=America/Chicago:20251221T170000
DTEND;TZID=America/Chicago:20251221T210000
DTSTAMP:20260422T063959
CREATED:20251113T192640Z
LAST-MODIFIED:20251210T124222Z
UID:46514-1766336400-1766350800@cotrgtwn.org
SUMMARY:Youth Christmas Party
DESCRIPTION:Group: Youth Leaders \nPastor’s will be hosting this year’s Youth Christmas Party at their house on Sunday\, December 21\, from 5:00 pm to 9:00 pm. Come dressed in your best Christmas pajamas\, as we enjoy some fun Christmas-themed games and activities. While pizza will be provided\, we ask that each youth bring their favorite snack and drink to share! We’ll end the night with a delicious cup of hot chocolate and fellowship. We look forward to seeing everyone there! \n \nREGISTER Here
URL:https://cotrgtwn.org/calendar-event/youth-christmas-party/
LOCATION:Pastor’s Home
END:VEVENT
BEGIN:VEVENT
DTSTART;VALUE=DATE:20251222
DTEND;VALUE=DATE:20251223
DTSTAMP:20260422T063959
CREATED:20251113T192642Z
LAST-MODIFIED:20251210T060220Z
UID:46530-1766361600-1766447999@cotrgtwn.org
SUMMARY:COTR Christmas Break
DESCRIPTION:Group: Our Church
URL:https://cotrgtwn.org/calendar-event/cotr-christmas-break/
LOCATION:Church on the Rock\, 925 Golden Oaks Dr\, Georgetown\, TX\, 78626\, United States
END:VEVENT
BEGIN:VEVENT
DTSTART;VALUE=DATE:20251223
DTEND;VALUE=DATE:20251224
DTSTAMP:20260422T063959
CREATED:20251113T192643Z
LAST-MODIFIED:20251210T060228Z
UID:46532-1766448000-1766534399@cotrgtwn.org
SUMMARY:COTR Christmas Break
DESCRIPTION:Group: Our Church
URL:https://cotrgtwn.org/calendar-event/cotr-christmas-break-2/
LOCATION:Church on the Rock\, 925 Golden Oaks Dr\, Georgetown\, TX\, 78626\, United States
END:VEVENT
BEGIN:VEVENT
DTSTART;VALUE=DATE:20251224
DTEND;VALUE=DATE:20251225
DTSTAMP:20260422T063959
CREATED:20251113T192642Z
LAST-MODIFIED:20251210T060226Z
UID:46531-1766534400-1766620799@cotrgtwn.org
SUMMARY:No Midweek Service
DESCRIPTION:Group: Our Church
URL:https://cotrgtwn.org/calendar-event/no-midweek-service-6/
LOCATION:Church on the Rock\, 925 Golden Oaks Dr\, Georgetown\, TX\, 78626\, United States
END:VEVENT
BEGIN:VEVENT
DTSTART;VALUE=DATE:20251224
DTEND;VALUE=DATE:20251225
DTSTAMP:20260422T063959
CREATED:20251113T192643Z
LAST-MODIFIED:20251210T060223Z
UID:46535-1766534400-1766620799@cotrgtwn.org
SUMMARY:COTR Christmas Break
DESCRIPTION:Group: Our Church
URL:https://cotrgtwn.org/calendar-event/cotr-christmas-break-5/
LOCATION:Church on the Rock\, 925 Golden Oaks Dr\, Georgetown\, TX\, 78626\, United States
END:VEVENT
BEGIN:VEVENT
DTSTART;VALUE=DATE:20251225
DTEND;VALUE=DATE:20251226
DTSTAMP:20260422T063959
CREATED:20251113T192643Z
LAST-MODIFIED:20251210T060241Z
UID:46534-1766620800-1766707199@cotrgtwn.org
SUMMARY:COTR Christmas Break
DESCRIPTION:Group: Our Church
URL:https://cotrgtwn.org/calendar-event/cotr-christmas-break-4/
LOCATION:Church on the Rock\, 925 Golden Oaks Dr\, Georgetown\, TX\, 78626\, United States
END:VEVENT
BEGIN:VEVENT
DTSTART;VALUE=DATE:20251226
DTEND;VALUE=DATE:20251227
DTSTAMP:20260422T063959
CREATED:20251113T192643Z
LAST-MODIFIED:20251210T060238Z
UID:46533-1766707200-1766793599@cotrgtwn.org
SUMMARY:COTR Christmas Break
DESCRIPTION:Group: Our Church
URL:https://cotrgtwn.org/calendar-event/cotr-christmas-break-3/
LOCATION:Church on the Rock\, 925 Golden Oaks Dr\, Georgetown\, TX\, 78626\, United States
END:VEVENT
BEGIN:VEVENT
DTSTART;VALUE=DATE:20251227
DTEND;VALUE=DATE:20251228
DTSTAMP:20260422T063959
CREATED:20251113T192643Z
LAST-MODIFIED:20251210T060235Z
UID:46536-1766793600-1766879999@cotrgtwn.org
SUMMARY:COTR Christmas Break
DESCRIPTION:Group: Our Church
URL:https://cotrgtwn.org/calendar-event/cotr-christmas-break-6/
LOCATION:Church on the Rock\, 925 Golden Oaks Dr\, Georgetown\, TX\, 78626\, United States
END:VEVENT
BEGIN:VEVENT
DTSTART;VALUE=DATE:20251228
DTEND;VALUE=DATE:20251229
DTSTAMP:20260422T063959
CREATED:20251113T192643Z
LAST-MODIFIED:20251210T060231Z
UID:46537-1766880000-1766966399@cotrgtwn.org
SUMMARY:COTR Christmas Break
DESCRIPTION:Group: Our Church
URL:https://cotrgtwn.org/calendar-event/cotr-christmas-break-7/
LOCATION:Church on the Rock\, 925 Golden Oaks Dr\, Georgetown\, TX\, 78626\, United States
END:VEVENT
BEGIN:VEVENT
DTSTART;VALUE=DATE:20251228
DTEND;VALUE=DATE:20251229
DTSTAMP:20260422T063959
CREATED:20251113T192644Z
LAST-MODIFIED:20251210T060244Z
UID:46538-1766880000-1766966399@cotrgtwn.org
SUMMARY:No Sunday Services
DESCRIPTION:Group: Our Church
URL:https://cotrgtwn.org/calendar-event/no-sunday-services-2/
LOCATION:Church on the Rock\, 925 Golden Oaks Dr\, Georgetown\, TX\, 78626\, United States
END:VEVENT
BEGIN:VEVENT
DTSTART;TZID=America/Chicago:20251229T190000
DTEND;TZID=America/Chicago:20251229T210000
DTSTAMP:20260422T063959
CREATED:20251113T192644Z
LAST-MODIFIED:20251210T060246Z
UID:46539-1767034800-1767042000@cotrgtwn.org
SUMMARY:End of Year Meetings
DESCRIPTION:Group: Our Church \nIf you are a five-fold minister and would like to join us for our End-of-Year Meetings with Dr. Hattabaugh and Pastor Angie\, please click here to REGISTER so we can properly prepare. Please contact the church office if you have any questions or need any assistance.
URL:https://cotrgtwn.org/calendar-event/end-of-year-meetings/
LOCATION:Church on the Rock\, 925 Golden Oaks Dr\, Georgetown\, TX\, 78626\, United States
END:VEVENT
BEGIN:VEVENT
DTSTART;TZID=America/Chicago:20251230T190000
DTEND;TZID=America/Chicago:20251230T210000
DTSTAMP:20260422T063959
CREATED:20251113T192644Z
LAST-MODIFIED:20251209T203749Z
UID:46540-1767121200-1767128400@cotrgtwn.org
SUMMARY:End of Year Meetings
DESCRIPTION:Group: Our Church \nIf you are a five-fold minister and would like to join us for our End-of-Year Meetings with Dr. Hattabaugh and Pastor Angie\, please click here to REGISTER so we can properly prepare. Please contact the church office if you have any questions or need any assistance.
URL:https://cotrgtwn.org/calendar-event/end-of-year-meetings-2/
LOCATION:Church on the Rock\, 925 Golden Oaks Dr\, Georgetown\, TX\, 78626\, United States
END:VEVENT
BEGIN:VEVENT
DTSTART;TZID=America/Chicago:20251231T190000
DTEND;TZID=America/Chicago:20251231T203000
DTSTAMP:20260422T063959
CREATED:20251113T192644Z
LAST-MODIFIED:20251208T070149Z
UID:46542-1767207600-1767213000@cotrgtwn.org
SUMMARY:Wednesday Night Service
DESCRIPTION:Group: Our Church
URL:https://cotrgtwn.org/calendar-event/wednesday-night-service-6/
LOCATION:Church on the Rock\, 925 Golden Oaks Dr\, Georgetown\, TX\, 78626\, United States
END:VEVENT
BEGIN:VEVENT
DTSTART;TZID=America/Chicago:20251231T190000
DTEND;TZID=America/Chicago:20251231T210000
DTSTAMP:20260422T063959
CREATED:20251113T192644Z
LAST-MODIFIED:20251208T070152Z
UID:46541-1767207600-1767214800@cotrgtwn.org
SUMMARY:End of Year Meetings
DESCRIPTION:Group: Our Church \nIf you are a five-fold minister and would like to join us for our End-of-Year Meetings with Dr. Hattabaugh and Pastor Angie\, please click here to REGISTER so we can properly prepare. Please contact the church office if you have any questions or need any assistance.
URL:https://cotrgtwn.org/calendar-event/end-of-year-meetings-3/
LOCATION:Church on the Rock\, 925 Golden Oaks Dr\, Georgetown\, TX\, 78626\, United States
END:VEVENT
BEGIN:VEVENT
DTSTART;TZID=America/Chicago:20260104T081500
DTEND;TZID=America/Chicago:20260104T084500
DTSTAMP:20260422T063959
CREATED:20251113T192644Z
LAST-MODIFIED:20251206T221129Z
UID:46544-1767514500-1767516300@cotrgtwn.org
SUMMARY:Pre-Service Prayer
DESCRIPTION:Group: Our Church
URL:https://cotrgtwn.org/calendar-event/pre-service-prayer-17/
LOCATION:Church on the Rock\, 925 Golden Oaks Dr\, Georgetown\, TX\, 78626\, United States
END:VEVENT
BEGIN:VEVENT
DTSTART;TZID=America/Chicago:20260104T100000
DTEND;TZID=America/Chicago:20260104T120000
DTSTAMP:20260422T063959
CREATED:20251113T192645Z
LAST-MODIFIED:20251113T213455Z
UID:46545-1767520800-1767528000@cotrgtwn.org
SUMMARY:Sunday Morning Service
DESCRIPTION:Group: Our Church
URL:https://cotrgtwn.org/calendar-event/sunday-morning-service-7/
LOCATION:Church on the Rock\, 925 Golden Oaks Dr\, Georgetown\, TX\, 78626\, United States
END:VEVENT
BEGIN:VEVENT
DTSTART;TZID=America/Chicago:20260104T140000
DTEND;TZID=America/Chicago:20260104T170000
DTSTAMP:20260422T063959
CREATED:20251113T192645Z
LAST-MODIFIED:20251202T144422Z
UID:46547-1767535200-1767546000@cotrgtwn.org
SUMMARY:Family Sunday
DESCRIPTION:Group: Our Church \nDetails to come. \n \nREGISTER Here
URL:https://cotrgtwn.org/calendar-event/family-sunday-2/
LOCATION:Church on the Rock\, 925 Golden Oaks Dr\, Georgetown\, TX\, 78626\, United States
END:VEVENT
BEGIN:VEVENT
DTSTART;TZID=America/Chicago:20260106T183000
DTEND;TZID=America/Chicago:20260106T203000
DTSTAMP:20260422T063959
CREATED:20251216T180007Z
LAST-MODIFIED:20251216T180007Z
UID:165835-1767724200-1767731400@cotrgtwn.org
SUMMARY:Leadership Meeting (Staff & Team Leads)
DESCRIPTION:Group: Our Church
URL:https://cotrgtwn.org/calendar-event/leadership-meeting-staff-team-leads-6/
LOCATION:Church on the Rock\, 925 Golden Oaks Dr\, Georgetown\, TX\, 78626\, United States
END:VEVENT
BEGIN:VEVENT
DTSTART;TZID=America/Chicago:20260107T190000
DTEND;TZID=America/Chicago:20260107T203000
DTSTAMP:20260422T063959
CREATED:20251113T192645Z
LAST-MODIFIED:20251206T221134Z
UID:46548-1767812400-1767817800@cotrgtwn.org
SUMMARY:Wednesday Night Service
DESCRIPTION:Group: Our Church
URL:https://cotrgtwn.org/calendar-event/wednesday-night-service-7/
LOCATION:Church on the Rock\, 925 Golden Oaks Dr\, Georgetown\, TX\, 78626\, United States
END:VEVENT
BEGIN:VEVENT
DTSTART;TZID=America/Chicago:20260108T183000
DTEND;TZID=America/Chicago:20260108T203000
DTSTAMP:20260422T063959
CREATED:20251113T192645Z
LAST-MODIFIED:20251206T221135Z
UID:46549-1767897000-1767904200@cotrgtwn.org
SUMMARY:FCA NHS Induction
DESCRIPTION:Group: Our Church
URL:https://cotrgtwn.org/calendar-event/fca-nhs-induction/
LOCATION:TX
END:VEVENT
BEGIN:VEVENT
DTSTART;TZID=America/Chicago:20260109T190000
DTEND;TZID=America/Chicago:20260109T210000
DTSTAMP:20260422T063959
CREATED:20251113T192645Z
LAST-MODIFIED:20251206T221139Z
UID:46550-1767985200-1767992400@cotrgtwn.org
SUMMARY:LIFE Group
DESCRIPTION:Group: LIFE Group \nThe LIFE Group will host a New Year’s Trivia Night at the Church on Friday\, January 9\, at 7:00pm. Come ready to answer trivia questions about New Year’s traditions\, the Bible\, Church on the Rock history\, and our legacy of faith. Register online by Friday\, December 26\, and make sure to include the appetizer and drink you will bring to share! \n \nREGISTER Here
URL:https://cotrgtwn.org/calendar-event/life-group/
LOCATION:Church on the Rock\, 925 Golden Oaks Dr\, Georgetown\, TX\, 78626\, United States
END:VEVENT
BEGIN:VEVENT
DTSTART;TZID=America/Chicago:20260109T190000
DTEND;TZID=America/Chicago:20260109T210000
DTSTAMP:20260422T063959
CREATED:20251113T192645Z
LAST-MODIFIED:20251206T221142Z
UID:46551-1767985200-1767992400@cotrgtwn.org
SUMMARY:Young Adults
DESCRIPTION:Group: Young Adults \nJoin the Young Adults for a bonfire and s’mores at the Andrews residence on Friday\, January 9\, at 7:00 pm! We will fellowship and play a faith game\, while eating savory and sweet s’mores. Please bring a lawn chair\, register by December 26\, and be on the lookout for a SignUpGenius Link for the s’mores items. \n \nREGISTER Here
URL:https://cotrgtwn.org/calendar-event/young-adults-2/
LOCATION:Church on the Rock\, 925 Golden Oaks Dr\, Georgetown\, TX\, 78626\, United States
END:VEVENT
END:VCALENDAR