BEGIN:VCALENDAR
VERSION:2.0
PRODID:-//Church on the Rock - ECPv6.15.20//NONSGML v1.0//EN
CALSCALE:GREGORIAN
METHOD:PUBLISH
X-WR-CALNAME:Church on the Rock
X-ORIGINAL-URL:https://cotrgtwn.org
X-WR-CALDESC:Events for Church on the Rock
REFRESH-INTERVAL;VALUE=DURATION:PT1H
X-Robots-Tag:noindex
X-PUBLISHED-TTL:PT1H
BEGIN:VTIMEZONE
TZID:America/Chicago
BEGIN:DAYLIGHT
TZOFFSETFROM:-0600
TZOFFSETTO:-0500
TZNAME:CDT
DTSTART:20250309T080000
END:DAYLIGHT
BEGIN:STANDARD
TZOFFSETFROM:-0500
TZOFFSETTO:-0600
TZNAME:CST
DTSTART:20251102T070000
END:STANDARD
BEGIN:DAYLIGHT
TZOFFSETFROM:-0600
TZOFFSETTO:-0500
TZNAME:CDT
DTSTART:20260308T080000
END:DAYLIGHT
BEGIN:STANDARD
TZOFFSETFROM:-0500
TZOFFSETTO:-0600
TZNAME:CST
DTSTART:20261101T070000
END:STANDARD
BEGIN:DAYLIGHT
TZOFFSETFROM:-0600
TZOFFSETTO:-0500
TZNAME:CDT
DTSTART:20270314T080000
END:DAYLIGHT
BEGIN:STANDARD
TZOFFSETFROM:-0500
TZOFFSETTO:-0600
TZNAME:CST
DTSTART:20271107T070000
END:STANDARD
END:VTIMEZONE
BEGIN:VEVENT
DTSTART;TZID=America/Chicago:20261122T150000
DTEND;TZID=America/Chicago:20261122T163000
DTSTAMP:20260422T180822
CREATED:20251113T213555Z
LAST-MODIFIED:20251206T222250Z
UID:47580-1795359600-1795365000@cotrgtwn.org
SUMMARY:Praise Team Practice
DESCRIPTION:Group: Praise Team \nMeet in Sanctuary
URL:https://cotrgtwn.org/calendar-event/praise-team-practice-25/
LOCATION:Church on the Rock\, 925 Golden Oaks Dr\, Georgetown\, TX\, 78626\, United States
END:VEVENT
BEGIN:VEVENT
DTSTART;TZID=America/Chicago:20261122T100000
DTEND;TZID=America/Chicago:20261122T120000
DTSTAMP:20260422T180822
CREATED:20251113T213553Z
LAST-MODIFIED:20251113T213553Z
UID:47566-1795341600-1795348800@cotrgtwn.org
SUMMARY:Sunday Morning Service
DESCRIPTION:Group: Our Church
URL:https://cotrgtwn.org/calendar-event/sunday-morning-service-52/
LOCATION:Church on the Rock\, 925 Golden Oaks Dr\, Georgetown\, TX\, 78626\, United States
END:VEVENT
BEGIN:VEVENT
DTSTART;TZID=America/Chicago:20261122T081500
DTEND;TZID=America/Chicago:20261122T084500
DTSTAMP:20260422T180822
CREATED:20251113T213553Z
LAST-MODIFIED:20251206T222243Z
UID:47565-1795335300-1795337100@cotrgtwn.org
SUMMARY:Pre-Service Prayer
DESCRIPTION:Group: Our Church
URL:https://cotrgtwn.org/calendar-event/pre-service-prayer-62/
LOCATION:Church on the Rock\, 925 Golden Oaks Dr\, Georgetown\, TX\, 78626\, United States
END:VEVENT
BEGIN:VEVENT
DTSTART;VALUE=DATE:20261120
DTEND;VALUE=DATE:20261121
DTSTAMP:20260422T180822
CREATED:20251113T213553Z
LAST-MODIFIED:20251206T222240Z
UID:47562-1795132800-1795219199@cotrgtwn.org
SUMMARY:Christmas Décor
DESCRIPTION:Group: Our Church
URL:https://cotrgtwn.org/calendar-event/christmas-decor-4/
LOCATION:TX
END:VEVENT
BEGIN:VEVENT
DTSTART;TZID=America/Chicago:20261119T183000
DTEND;TZID=America/Chicago:20261119T203000
DTSTAMP:20260422T180822
CREATED:20251204T170324Z
LAST-MODIFIED:20260402T150021Z
UID:163375-1795113000-1795120200@cotrgtwn.org
SUMMARY:Youth Service
DESCRIPTION:Group: Youth Group
URL:https://cotrgtwn.org/calendar-event/youth-service-54/
LOCATION:TX
END:VEVENT
BEGIN:VEVENT
DTSTART;VALUE=DATE:20261119
DTEND;VALUE=DATE:20261120
DTSTAMP:20260422T180822
CREATED:20251113T213553Z
LAST-MODIFIED:20251206T222240Z
UID:47563-1795046400-1795132799@cotrgtwn.org
SUMMARY:Christmas Décor
DESCRIPTION:Group: Our Church
URL:https://cotrgtwn.org/calendar-event/christmas-decor-5/
LOCATION:TX
END:VEVENT
BEGIN:VEVENT
DTSTART;TZID=America/Chicago:20261118T190000
DTEND;TZID=America/Chicago:20261118T210000
DTSTAMP:20260422T180822
CREATED:20251113T213553Z
LAST-MODIFIED:20260402T163722Z
UID:47561-1795028400-1795035600@cotrgtwn.org
SUMMARY:Wednesday Night Service
DESCRIPTION:Group: Our Church
URL:https://cotrgtwn.org/calendar-event/wednesday-night-service-47/
LOCATION:Church on the Rock\, 925 Golden Oaks Dr\, Georgetown\, TX\, 78626\, United States
END:VEVENT
BEGIN:VEVENT
DTSTART;VALUE=DATE:20261118
DTEND;VALUE=DATE:20261119
DTSTAMP:20260422T180822
CREATED:20251113T213552Z
LAST-MODIFIED:20251206T222237Z
UID:47559-1794960000-1795046399@cotrgtwn.org
SUMMARY:Christmas Décor
DESCRIPTION:Group: Our Church
URL:https://cotrgtwn.org/calendar-event/christmas-decor-3/
LOCATION:TX
END:VEVENT
BEGIN:VEVENT
DTSTART;VALUE=DATE:20261117
DTEND;VALUE=DATE:20261118
DTSTAMP:20260422T180822
CREATED:20251113T213552Z
LAST-MODIFIED:20251206T222237Z
UID:47558-1794873600-1794959999@cotrgtwn.org
SUMMARY:Christmas Décor
DESCRIPTION:Group: Our Church
URL:https://cotrgtwn.org/calendar-event/christmas-decor-2/
LOCATION:TX
END:VEVENT
BEGIN:VEVENT
DTSTART;VALUE=DATE:20261116
DTEND;VALUE=DATE:20261117
DTSTAMP:20260422T180822
CREATED:20251113T213552Z
LAST-MODIFIED:20251206T222237Z
UID:47557-1794787200-1794873599@cotrgtwn.org
SUMMARY:Christmas Décor
DESCRIPTION:Group: Our Church
URL:https://cotrgtwn.org/calendar-event/christmas-decor/
LOCATION:TX
END:VEVENT
BEGIN:VEVENT
DTSTART;TZID=America/Chicago:20261115T120000
DTEND;TZID=America/Chicago:20261115T150000
DTSTAMP:20260422T180822
CREATED:20251113T213552Z
LAST-MODIFIED:20251206T222234Z
UID:47554-1794744000-1794754800@cotrgtwn.org
SUMMARY:Christmas Tree and Nativity Setup
DESCRIPTION:Group: Our Church \nFellowship Hall\, Sanctuary\, & Classrooms
URL:https://cotrgtwn.org/calendar-event/christmas-tree-and-nativity-setup/
LOCATION:Church on the Rock\, 925 Golden Oaks Dr\, Georgetown\, TX\, 78626\, United States
END:VEVENT
BEGIN:VEVENT
DTSTART;TZID=America/Chicago:20261115T100000
DTEND;TZID=America/Chicago:20261115T120000
DTSTAMP:20260422T180822
CREATED:20251113T213552Z
LAST-MODIFIED:20251113T213552Z
UID:47556-1794736800-1794744000@cotrgtwn.org
SUMMARY:Sunday Morning Service
DESCRIPTION:Group: Our Church
URL:https://cotrgtwn.org/calendar-event/sunday-morning-service-51/
LOCATION:Church on the Rock\, 925 Golden Oaks Dr\, Georgetown\, TX\, 78626\, United States
END:VEVENT
BEGIN:VEVENT
DTSTART;TZID=America/Chicago:20261115T081500
DTEND;TZID=America/Chicago:20261115T084500
DTSTAMP:20260422T180822
CREATED:20251113T213552Z
LAST-MODIFIED:20251206T222232Z
UID:47552-1794730500-1794732300@cotrgtwn.org
SUMMARY:Pre-Service Prayer
DESCRIPTION:Group: Our Church
URL:https://cotrgtwn.org/calendar-event/pre-service-prayer-61/
LOCATION:Church on the Rock\, 925 Golden Oaks Dr\, Georgetown\, TX\, 78626\, United States
END:VEVENT
BEGIN:VEVENT
DTSTART;TZID=America/Chicago:20261113T190000
DTEND;TZID=America/Chicago:20261113T210000
DTSTAMP:20260422T180822
CREATED:20251113T213551Z
LAST-MODIFIED:20251206T222229Z
UID:47548-1794596400-1794603600@cotrgtwn.org
SUMMARY:LIFE Group
DESCRIPTION:Group: LIFE Group \nDetails to come.
URL:https://cotrgtwn.org/calendar-event/life-group-6/
LOCATION:TX
END:VEVENT
BEGIN:VEVENT
DTSTART;TZID=America/Chicago:20261113T190000
DTEND;TZID=America/Chicago:20261113T210000
DTSTAMP:20260422T180822
CREATED:20251113T213551Z
LAST-MODIFIED:20251206T222229Z
UID:47549-1794596400-1794603600@cotrgtwn.org
SUMMARY:Young Adults
DESCRIPTION:Group: Young Adults \nDetails to come.
URL:https://cotrgtwn.org/calendar-event/young-adults-7/
LOCATION:TX
END:VEVENT
BEGIN:VEVENT
DTSTART;TZID=America/Chicago:20261112T183000
DTEND;TZID=America/Chicago:20261112T203000
DTSTAMP:20260422T180822
CREATED:20251204T170302Z
LAST-MODIFIED:20251206T222229Z
UID:163370-1794508200-1794515400@cotrgtwn.org
SUMMARY:Youth Service
DESCRIPTION:Group: Youth Group
URL:https://cotrgtwn.org/calendar-event/youth-service-53/
LOCATION:TX
END:VEVENT
BEGIN:VEVENT
DTSTART;TZID=America/Chicago:20261111T190000
DTEND;TZID=America/Chicago:20261111T210000
DTSTAMP:20260422T180822
CREATED:20251113T213551Z
LAST-MODIFIED:20260402T163655Z
UID:47547-1794423600-1794430800@cotrgtwn.org
SUMMARY:Wednesday Night Service
DESCRIPTION:Group: Our Church
URL:https://cotrgtwn.org/calendar-event/wednesday-night-service-46/
LOCATION:Church on the Rock\, 925 Golden Oaks Dr\, Georgetown\, TX\, 78626\, United States
END:VEVENT
BEGIN:VEVENT
DTSTART;TZID=America/Chicago:20261108T140000
DTEND;TZID=America/Chicago:20261108T170000
DTSTAMP:20260422T180822
CREATED:20251113T213551Z
LAST-MODIFIED:20251206T222225Z
UID:47545-1794146400-1794157200@cotrgtwn.org
SUMMARY:Family Sunday
DESCRIPTION:Group: Our Church \nDetails to come.
URL:https://cotrgtwn.org/calendar-event/family-sunday-16/
LOCATION:Church on the Rock\, 925 Golden Oaks Dr\, Georgetown\, TX\, 78626\, United States
END:VEVENT
BEGIN:VEVENT
DTSTART;TZID=America/Chicago:20261108T100000
DTEND;TZID=America/Chicago:20261108T120000
DTSTAMP:20260422T180822
CREATED:20251113T213551Z
LAST-MODIFIED:20251113T213551Z
UID:47544-1794132000-1794139200@cotrgtwn.org
SUMMARY:Sunday Morning Service
DESCRIPTION:Group: Our Church
URL:https://cotrgtwn.org/calendar-event/sunday-morning-service-50/
LOCATION:Church on the Rock\, 925 Golden Oaks Dr\, Georgetown\, TX\, 78626\, United States
END:VEVENT
BEGIN:VEVENT
DTSTART;TZID=America/Chicago:20261108T081500
DTEND;TZID=America/Chicago:20261108T084500
DTSTAMP:20260422T180822
CREATED:20251113T213550Z
LAST-MODIFIED:20251206T222220Z
UID:47543-1794125700-1794127500@cotrgtwn.org
SUMMARY:Pre-Service Prayer
DESCRIPTION:Group: Our Church
URL:https://cotrgtwn.org/calendar-event/pre-service-prayer-60/
LOCATION:Church on the Rock\, 925 Golden Oaks Dr\, Georgetown\, TX\, 78626\, United States
END:VEVENT
BEGIN:VEVENT
DTSTART;TZID=America/Chicago:20261106T190000
DTEND;TZID=America/Chicago:20261106T210000
DTSTAMP:20260422T180822
CREATED:20251113T213550Z
LAST-MODIFIED:20251206T222217Z
UID:47541-1793991600-1793998800@cotrgtwn.org
SUMMARY:New Group
DESCRIPTION:Group: NEW Group \nDetails to come.
URL:https://cotrgtwn.org/calendar-event/new-group-10/
LOCATION:TX
END:VEVENT
BEGIN:VEVENT
DTSTART;TZID=America/Chicago:20261106T180000
DTEND;TZID=America/Chicago:20261106T200000
DTSTAMP:20260422T180822
CREATED:20251113T213550Z
LAST-MODIFIED:20251206T222217Z
UID:47540-1793988000-1793995200@cotrgtwn.org
SUMMARY:JOY Group
DESCRIPTION:Group: JOY Group \nDetails to come.
URL:https://cotrgtwn.org/calendar-event/joy-group-15/
LOCATION:TX
END:VEVENT
BEGIN:VEVENT
DTSTART;TZID=America/Chicago:20261104T190000
DTEND;TZID=America/Chicago:20261104T210000
DTSTAMP:20260422T180822
CREATED:20251113T213550Z
LAST-MODIFIED:20260402T163626Z
UID:47539-1793818800-1793826000@cotrgtwn.org
SUMMARY:Wednesday Night Service
DESCRIPTION:Group: Our Church
URL:https://cotrgtwn.org/calendar-event/wednesday-night-service-45/
LOCATION:Church on the Rock\, 925 Golden Oaks Dr\, Georgetown\, TX\, 78626\, United States
END:VEVENT
BEGIN:VEVENT
DTSTART;TZID=America/Chicago:20261101T180000
DTEND;TZID=America/Chicago:20261101T190000
DTSTAMP:20260422T180822
CREATED:20260402T154045Z
LAST-MODIFIED:20260402T154045Z
UID:169314-1793556000-1793559600@cotrgtwn.org
SUMMARY:Growing In God Class
DESCRIPTION:Group: Our Church
URL:https://cotrgtwn.org/calendar-event/growing-in-god-class-17/
LOCATION:Church on the Rock\, 925 Golden Oaks Dr\, Georgetown\, TX\, 78626\, United States
END:VEVENT
BEGIN:VEVENT
DTSTART;TZID=America/Chicago:20261101T150000
DTEND;TZID=America/Chicago:20261101T163000
DTSTAMP:20260422T180822
CREATED:20251113T213549Z
LAST-MODIFIED:20251206T222212Z
UID:47536-1793545200-1793550600@cotrgtwn.org
SUMMARY:Praise Team Practice
DESCRIPTION:Group: Praise Team \nMeet in Sanctuary
URL:https://cotrgtwn.org/calendar-event/praise-team-practice-24/
LOCATION:TX
END:VEVENT
BEGIN:VEVENT
DTSTART;TZID=America/Chicago:20261101T100000
DTEND;TZID=America/Chicago:20261101T120000
DTSTAMP:20260422T180822
CREATED:20251113T213549Z
LAST-MODIFIED:20251113T213549Z
UID:47535-1793527200-1793534400@cotrgtwn.org
SUMMARY:Sunday Morning Service
DESCRIPTION:Group: Our Church
URL:https://cotrgtwn.org/calendar-event/sunday-morning-service-49/
LOCATION:Church on the Rock\, 925 Golden Oaks Dr\, Georgetown\, TX\, 78626\, United States
END:VEVENT
BEGIN:VEVENT
DTSTART;TZID=America/Chicago:20261101T081500
DTEND;TZID=America/Chicago:20261101T084500
DTSTAMP:20260422T180822
CREATED:20251113T213549Z
LAST-MODIFIED:20251206T222209Z
UID:47534-1793520900-1793522700@cotrgtwn.org
SUMMARY:Pre-Service Prayer
DESCRIPTION:Group: Our Church
URL:https://cotrgtwn.org/calendar-event/pre-service-prayer-59/
LOCATION:Church on the Rock\, 925 Golden Oaks Dr\, Georgetown\, TX\, 78626\, United States
END:VEVENT
BEGIN:VEVENT
DTSTART;VALUE=DATE:20261030
DTEND;VALUE=DATE:20261031
DTSTAMP:20260422T180822
CREATED:20251113T213549Z
LAST-MODIFIED:20251206T222207Z
UID:47533-1793318400-1793404799@cotrgtwn.org
SUMMARY:COTR Fall Break
DESCRIPTION:Group: Our Church
URL:https://cotrgtwn.org/calendar-event/church-on-the-rock-fall-break-5/
LOCATION:Church on the Rock\, 925 Golden Oaks Dr\, Georgetown\, TX\, 78626\, United States
END:VEVENT
BEGIN:VEVENT
DTSTART;VALUE=DATE:20261029
DTEND;VALUE=DATE:20261030
DTSTAMP:20260422T180822
CREATED:20251113T213548Z
LAST-MODIFIED:20251206T222203Z
UID:47530-1793232000-1793318399@cotrgtwn.org
SUMMARY:COTR Fall Break
DESCRIPTION:Group: Our Church
URL:https://cotrgtwn.org/calendar-event/church-on-the-rock-fall-break-3/
LOCATION:Church on the Rock\, 925 Golden Oaks Dr\, Georgetown\, TX\, 78626\, United States
END:VEVENT
BEGIN:VEVENT
DTSTART;VALUE=DATE:20261028
DTEND;VALUE=DATE:20261029
DTSTAMP:20260422T180822
CREATED:20251113T213549Z
LAST-MODIFIED:20251206T222157Z
UID:47532-1793145600-1793231999@cotrgtwn.org
SUMMARY:No Midweek Service
DESCRIPTION:Group: Our Church
URL:https://cotrgtwn.org/calendar-event/no-midweek-service-11/
LOCATION:Church on the Rock\, 925 Golden Oaks Dr\, Georgetown\, TX\, 78626\, United States
END:VEVENT
END:VCALENDAR