BEGIN:VCALENDAR
VERSION:2.0
PRODID:-//Church on the Rock - ECPv6.15.20//NONSGML v1.0//EN
CALSCALE:GREGORIAN
METHOD:PUBLISH
X-ORIGINAL-URL:https://cotrgtwn.org
X-WR-CALDESC:Events for Church on the Rock
REFRESH-INTERVAL;VALUE=DURATION:PT1H
X-Robots-Tag:noindex
X-PUBLISHED-TTL:PT1H
BEGIN:VTIMEZONE
TZID:America/Chicago
BEGIN:DAYLIGHT
TZOFFSETFROM:-0600
TZOFFSETTO:-0500
TZNAME:CDT
DTSTART:20250309T080000
END:DAYLIGHT
BEGIN:STANDARD
TZOFFSETFROM:-0500
TZOFFSETTO:-0600
TZNAME:CST
DTSTART:20251102T070000
END:STANDARD
BEGIN:DAYLIGHT
TZOFFSETFROM:-0600
TZOFFSETTO:-0500
TZNAME:CDT
DTSTART:20260308T080000
END:DAYLIGHT
BEGIN:STANDARD
TZOFFSETFROM:-0500
TZOFFSETTO:-0600
TZNAME:CST
DTSTART:20261101T070000
END:STANDARD
BEGIN:DAYLIGHT
TZOFFSETFROM:-0600
TZOFFSETTO:-0500
TZNAME:CDT
DTSTART:20270314T080000
END:DAYLIGHT
BEGIN:STANDARD
TZOFFSETFROM:-0500
TZOFFSETTO:-0600
TZNAME:CST
DTSTART:20271107T070000
END:STANDARD
END:VTIMEZONE
BEGIN:VEVENT
DTSTART;TZID=America/Chicago:20260115T183000
DTEND;TZID=America/Chicago:20260115T203000
DTSTAMP:20260422T171411
CREATED:20251203T224956Z
LAST-MODIFIED:20251206T221208Z
UID:162681-1768501800-1768509000@cotrgtwn.org
SUMMARY:Youth Service
DESCRIPTION:Group: Youth Group \nDetails to come!
URL:https://cotrgtwn.org/calendar-event/youth-service-14/
LOCATION:TX
END:VEVENT
BEGIN:VEVENT
DTSTART;TZID=America/Chicago:20260117T110000
DTEND;TZID=America/Chicago:20260117T130000
DTSTAMP:20260422T171411
CREATED:20251113T192647Z
LAST-MODIFIED:20251206T221208Z
UID:46565-1768647600-1768654800@cotrgtwn.org
SUMMARY:Men's Lucky Strike Bowling
DESCRIPTION:Group: Men’s Ministry \nThe Men’s Ministry will have a Bowling Event at Lucky Strike in Georgetown\, Texas\, on Saturday January 17 from 11:00 am to 1:00 pm. The cost of this event is $15 and includes 2 hours of bowling\, bowling shoes\, pizza\, and drinks. We know this is early for registration\, but the venue requires the Church to provide the number of men attending and pay the fees in early December. Please pay the event fee of $15 through the offering and register online by Monday\, December 8\, 2025. \n \nREGISTER Here
URL:https://cotrgtwn.org/calendar-event/mens-lucky-strike-bowling/
LOCATION:1010 N Austin Ave\, Georgetown\, TX\, United States
END:VEVENT
BEGIN:VEVENT
DTSTART;TZID=America/Chicago:20260118T081500
DTEND;TZID=America/Chicago:20260118T084500
DTSTAMP:20260422T171411
CREATED:20251113T192647Z
LAST-MODIFIED:20251206T221210Z
UID:46567-1768724100-1768725900@cotrgtwn.org
SUMMARY:Pre-Service Prayer
DESCRIPTION:Group: Our Church
URL:https://cotrgtwn.org/calendar-event/pre-service-prayer-19/
LOCATION:Church on the Rock\, 925 Golden Oaks Dr\, Georgetown\, TX\, 78626\, United States
END:VEVENT
BEGIN:VEVENT
DTSTART;TZID=America/Chicago:20260118T100000
DTEND;TZID=America/Chicago:20260118T120000
DTSTAMP:20260422T171411
CREATED:20251113T192648Z
LAST-MODIFIED:20251113T213457Z
UID:46572-1768730400-1768737600@cotrgtwn.org
SUMMARY:Sunday Morning Service
DESCRIPTION:Group: Our Church
URL:https://cotrgtwn.org/calendar-event/sunday-morning-service-9/
LOCATION:Church on the Rock\, 925 Golden Oaks Dr\, Georgetown\, TX\, 78626\, United States
END:VEVENT
BEGIN:VEVENT
DTSTART;TZID=America/Chicago:20260118T120000
DTEND;TZID=America/Chicago:20260118T123000
DTSTAMP:20260422T171411
CREATED:20251113T192647Z
LAST-MODIFIED:20251206T221218Z
UID:46569-1768737600-1768739400@cotrgtwn.org
SUMMARY:Welcome Team Meeting
DESCRIPTION:Group: Welcome Team \nMeet in Sanctuary
URL:https://cotrgtwn.org/calendar-event/welcome-team-meeting/
LOCATION:Church on the Rock\, 925 Golden Oaks Dr\, Georgetown\, TX\, 78626\, United States
END:VEVENT
BEGIN:VEVENT
DTSTART;TZID=America/Chicago:20260118T120000
DTEND;TZID=America/Chicago:20260118T123000
DTSTAMP:20260422T171411
CREATED:20251113T192647Z
LAST-MODIFIED:20251206T221216Z
UID:46570-1768737600-1768739400@cotrgtwn.org
SUMMARY:Event Crew Meeting
DESCRIPTION:Group: Event Set Up & Tear Down Crew \nMeet in Sanctuary
URL:https://cotrgtwn.org/calendar-event/event-crew-meeting/
LOCATION:Church on the Rock\, 925 Golden Oaks Dr\, Georgetown\, TX\, 78626\, United States
END:VEVENT
BEGIN:VEVENT
DTSTART;TZID=America/Chicago:20260121T190000
DTEND;TZID=America/Chicago:20260121T203000
DTSTAMP:20260422T171411
CREATED:20251113T192648Z
LAST-MODIFIED:20251206T221222Z
UID:46575-1769022000-1769027400@cotrgtwn.org
SUMMARY:Wednesday Night Service
DESCRIPTION:Group: Our Church
URL:https://cotrgtwn.org/calendar-event/wednesday-night-service-9/
LOCATION:Church on the Rock\, 925 Golden Oaks Dr\, Georgetown\, TX\, 78626\, United States
END:VEVENT
BEGIN:VEVENT
DTSTART;TZID=America/Chicago:20260122T183000
DTEND;TZID=America/Chicago:20260122T193000
DTSTAMP:20260422T171411
CREATED:20251210T152434Z
LAST-MODIFIED:20251210T152434Z
UID:165076-1769106600-1769110200@cotrgtwn.org
SUMMARY:FCA Information Night
DESCRIPTION:Group: Our Church \nIf you are interested in your child attending FCA or would like to learn more about FCA\, join us on Thursday\, January 22\, at 6:30 pm for the FCA Information Night. The meeting will be held at the Church in the Building 2 Ignite Room. Please register online so we can prepare properly for the meeting. \n \nREGISTER Here
URL:https://cotrgtwn.org/calendar-event/fca-information-night/
LOCATION:Church on the Rock\, 925 Golden Oaks Dr\, Georgetown\, TX\, 78626\, United States
END:VEVENT
BEGIN:VEVENT
DTSTART;TZID=America/Chicago:20260123T183000
DTEND;TZID=America/Chicago:20260123T203000
DTSTAMP:20260422T171411
CREATED:20251113T192648Z
LAST-MODIFIED:20251206T221223Z
UID:46577-1769193000-1769200200@cotrgtwn.org
SUMMARY:JOY Group
DESCRIPTION:Group: JOY Group \nThe JOY Group will meet at Mary Delgado’s residence for a Winter Wonderland-themed dinner\, game night\, and time of heart-warming fellowship. Please register online by Friday\, January 9\, and include your favorite Winter entrée\, side dish\, or dessert you will bring. \n \nREGISTER Here
URL:https://cotrgtwn.org/calendar-event/joy-group-2/
LOCATION:Mary Delgado’s Residence
END:VEVENT
BEGIN:VEVENT
DTSTART;TZID=America/Chicago:20260123T190000
DTEND;TZID=America/Chicago:20260123T210000
DTSTAMP:20260422T171411
CREATED:20251113T192648Z
LAST-MODIFIED:20251206T221225Z
UID:46580-1769194800-1769202000@cotrgtwn.org
SUMMARY:New Group
DESCRIPTION:Group: NEW Group \nThe New Group will meet at the Gould’s residence for a night of food and fellowship to kick off the New Year! There will also be games available to play as we fellowship. Please register online by Friday\, January 9\, and include your favorite casserole dish and 2-liter drink you will bring. \n \nREGISTER Here
URL:https://cotrgtwn.org/calendar-event/new-group/
LOCATION:Church on the Rock\, 925 Golden Oaks Dr\, Georgetown\, TX\, 78626\, United States
END:VEVENT
BEGIN:VEVENT
DTSTART;TZID=America/Chicago:20260124T080000
DTEND;TZID=America/Chicago:20260124T110000
DTSTAMP:20260422T171411
CREATED:20251113T192648Z
LAST-MODIFIED:20251206T221225Z
UID:46582-1769241600-1769252400@cotrgtwn.org
SUMMARY:Safety Team Training
DESCRIPTION:Group: Safety
URL:https://cotrgtwn.org/calendar-event/safety-team-training-2/
LOCATION:TX
END:VEVENT
BEGIN:VEVENT
DTSTART;TZID=America/Chicago:20260125T081500
DTEND;TZID=America/Chicago:20260125T084500
DTSTAMP:20260422T171411
CREATED:20251113T192648Z
LAST-MODIFIED:20251206T221228Z
UID:46585-1769328900-1769330700@cotrgtwn.org
SUMMARY:Pre-Service Prayer
DESCRIPTION:Group: Our Church
URL:https://cotrgtwn.org/calendar-event/pre-service-prayer-20/
LOCATION:Church on the Rock\, 925 Golden Oaks Dr\, Georgetown\, TX\, 78626\, United States
END:VEVENT
BEGIN:VEVENT
DTSTART;TZID=America/Chicago:20260125T100000
DTEND;TZID=America/Chicago:20260125T120000
DTSTAMP:20260422T171411
CREATED:20251113T192649Z
LAST-MODIFIED:20251113T213458Z
UID:46588-1769335200-1769342400@cotrgtwn.org
SUMMARY:Sunday Morning Service
DESCRIPTION:Group: Our Church
URL:https://cotrgtwn.org/calendar-event/sunday-morning-service-10/
LOCATION:Church on the Rock\, 925 Golden Oaks Dr\, Georgetown\, TX\, 78626\, United States
END:VEVENT
BEGIN:VEVENT
DTSTART;TZID=America/Chicago:20260125T120000
DTEND;TZID=America/Chicago:20260125T130000
DTSTAMP:20260422T171411
CREATED:20251113T192649Z
LAST-MODIFIED:20251206T221233Z
UID:46591-1769342400-1769346000@cotrgtwn.org
SUMMARY:Children's Ministry Quarterly & Creativity Meeting
DESCRIPTION:Group: Children’s Ministry Team \nMeet in Sanctuary
URL:https://cotrgtwn.org/calendar-event/childrens-ministry-quarterly-creativity-meeting/
LOCATION:Church on the Rock\, 925 Golden Oaks Dr\, Georgetown\, TX\, 78626\, United States
END:VEVENT
BEGIN:VEVENT
DTSTART;TZID=America/Chicago:20260125T150000
DTEND;TZID=America/Chicago:20260125T163000
DTSTAMP:20260422T171411
CREATED:20251113T192649Z
LAST-MODIFIED:20251206T221236Z
UID:46593-1769353200-1769358600@cotrgtwn.org
SUMMARY:Praise Team Practice
DESCRIPTION:Group: Praise Team \nMeet in Sanctuary
URL:https://cotrgtwn.org/calendar-event/praise-team-practice-5/
LOCATION:Church on the Rock\, 925 Golden Oaks Dr\, Georgetown\, TX\, 78626\, United States
END:VEVENT
BEGIN:VEVENT
DTSTART;TZID=America/Chicago:20260125T180000
DTEND;TZID=America/Chicago:20260125T200000
DTSTAMP:20260422T171411
CREATED:20251113T192649Z
LAST-MODIFIED:20251206T221238Z
UID:46594-1769364000-1769371200@cotrgtwn.org
SUMMARY:Sunday Evening Service
DESCRIPTION:Group: Our Church
URL:https://cotrgtwn.org/calendar-event/sunday-evening-service-4/
LOCATION:Church on the Rock\, 925 Golden Oaks Dr\, Georgetown\, TX\, 78626\, United States
END:VEVENT
BEGIN:VEVENT
DTSTART;TZID=America/Chicago:20260128T190000
DTEND;TZID=America/Chicago:20260128T203000
DTSTAMP:20260422T171411
CREATED:20251113T192649Z
LAST-MODIFIED:20251206T221241Z
UID:46595-1769626800-1769632200@cotrgtwn.org
SUMMARY:Wednesday Night Service
DESCRIPTION:Group: Our Church
URL:https://cotrgtwn.org/calendar-event/wednesday-night-service-10/
LOCATION:Church on the Rock\, 925 Golden Oaks Dr\, Georgetown\, TX\, 78626\, United States
END:VEVENT
BEGIN:VEVENT
DTSTART;TZID=America/Chicago:20260129T183000
DTEND;TZID=America/Chicago:20260129T203000
DTSTAMP:20260422T171411
CREATED:20251204T001101Z
LAST-MODIFIED:20251206T221242Z
UID:162708-1769711400-1769718600@cotrgtwn.org
SUMMARY:Youth Service
DESCRIPTION:Group: Youth Group \nDetails to come!
URL:https://cotrgtwn.org/calendar-event/youth-service-15/
LOCATION:TX
END:VEVENT
BEGIN:VEVENT
DTSTART;TZID=America/Chicago:20260131T090000
DTEND;TZID=America/Chicago:20260131T110000
DTSTAMP:20260422T171411
CREATED:20251113T192650Z
LAST-MODIFIED:20251206T221245Z
UID:46597-1769850000-1769857200@cotrgtwn.org
SUMMARY:Private Event
DESCRIPTION:Group: Our Church
URL:https://cotrgtwn.org/calendar-event/private-event-3/
LOCATION:Church on the Rock\, 925 Golden Oaks Dr\, Georgetown\, TX\, 78626\, United States
END:VEVENT
BEGIN:VEVENT
DTSTART;TZID=America/Chicago:20260201T081500
DTEND;TZID=America/Chicago:20260201T084500
DTSTAMP:20260422T171411
CREATED:20251113T192650Z
LAST-MODIFIED:20251206T221248Z
UID:46598-1769933700-1769935500@cotrgtwn.org
SUMMARY:Pre-Service Prayer
DESCRIPTION:Group: Our Church
URL:https://cotrgtwn.org/calendar-event/pre-service-prayer-21/
LOCATION:Church on the Rock\, 925 Golden Oaks Dr\, Georgetown\, TX\, 78626\, United States
END:VEVENT
BEGIN:VEVENT
DTSTART;TZID=America/Chicago:20260201T100000
DTEND;TZID=America/Chicago:20260201T120000
DTSTAMP:20260422T171411
CREATED:20251113T192650Z
LAST-MODIFIED:20251113T213508Z
UID:46599-1769940000-1769947200@cotrgtwn.org
SUMMARY:Sunday Morning Service
DESCRIPTION:Group: Our Church
URL:https://cotrgtwn.org/calendar-event/sunday-morning-service-11/
LOCATION:Church on the Rock\, 925 Golden Oaks Dr\, Georgetown\, TX\, 78626\, United States
END:VEVENT
BEGIN:VEVENT
DTSTART;TZID=America/Chicago:20260201T100000
DTEND;TZID=America/Chicago:20260201T120000
DTSTAMP:20260422T171411
CREATED:20260106T200447Z
LAST-MODIFIED:20260106T200447Z
UID:166894-1769940000-1769947200@cotrgtwn.org
SUMMARY:Pastor Nancy Dufresne Ministering
DESCRIPTION:Group: Our Church
URL:https://cotrgtwn.org/calendar-event/pastor-nancy-dufresne-ministering/
LOCATION:Church on the Rock\, 925 Golden Oaks Dr\, Georgetown\, TX\, 78626\, United States
END:VEVENT
BEGIN:VEVENT
DTSTART;TZID=America/Chicago:20260201T140000
DTEND;TZID=America/Chicago:20260201T170000
DTSTAMP:20260422T171411
CREATED:20251113T192650Z
LAST-MODIFIED:20251206T221250Z
UID:46600-1769954400-1769965200@cotrgtwn.org
SUMMARY:Family Sunday
DESCRIPTION:Group: Our Church \nDetails to come.
URL:https://cotrgtwn.org/calendar-event/family-sunday-3/
LOCATION:TX
END:VEVENT
BEGIN:VEVENT
DTSTART;TZID=America/Chicago:20260201T180000
DTEND;TZID=America/Chicago:20260201T200000
DTSTAMP:20260422T171411
CREATED:20260106T200447Z
LAST-MODIFIED:20260106T200447Z
UID:166895-1769968800-1769976000@cotrgtwn.org
SUMMARY:Pastor Nancy Dufresne Ministering
DESCRIPTION:Group: Our Church
URL:https://cotrgtwn.org/calendar-event/pastor-nancy-dufresne-ministering-2/
LOCATION:TX
END:VEVENT
BEGIN:VEVENT
DTSTART;TZID=America/Chicago:20260202T190000
DTEND;TZID=America/Chicago:20260202T210000
DTSTAMP:20260422T171411
CREATED:20260106T200447Z
LAST-MODIFIED:20260106T200447Z
UID:166896-1770058800-1770066000@cotrgtwn.org
SUMMARY:Pastor Nancy Dufresne Ministering
DESCRIPTION:Group: Our Church
URL:https://cotrgtwn.org/calendar-event/pastor-nancy-dufresne-ministering-3/
LOCATION:TX
END:VEVENT
BEGIN:VEVENT
DTSTART;TZID=America/Chicago:20260203T183000
DTEND;TZID=America/Chicago:20260203T203000
DTSTAMP:20260422T171411
CREATED:20260122T211525Z
LAST-MODIFIED:20260122T211525Z
UID:167482-1770143400-1770150600@cotrgtwn.org
SUMMARY:Department Team Lead Meeting
DESCRIPTION:Group: Our Church
URL:https://cotrgtwn.org/calendar-event/department-team-lead-meeting/
LOCATION:TX
END:VEVENT
BEGIN:VEVENT
DTSTART;TZID=America/Chicago:20260204T190000
DTEND;TZID=America/Chicago:20260204T203000
DTSTAMP:20260422T171411
CREATED:20251113T192650Z
LAST-MODIFIED:20251206T221253Z
UID:46602-1770231600-1770237000@cotrgtwn.org
SUMMARY:Wednesday Night Service
DESCRIPTION:Group: Our Church
URL:https://cotrgtwn.org/calendar-event/wednesday-night-service-11/
LOCATION:Church on the Rock\, 925 Golden Oaks Dr\, Georgetown\, TX\, 78626\, United States
END:VEVENT
BEGIN:VEVENT
DTSTART;TZID=America/Chicago:20260205T180000
DTEND;TZID=America/Chicago:20260205T190000
DTSTAMP:20260422T171411
CREATED:20251113T192651Z
LAST-MODIFIED:20251206T221256Z
UID:46604-1770314400-1770318000@cotrgtwn.org
SUMMARY:Usher Team Cleaning
DESCRIPTION:Group: Ushers
URL:https://cotrgtwn.org/calendar-event/usher-team-cleaning/
LOCATION:Church on the Rock\, 925 Golden Oaks Dr\, Georgetown\, TX\, 78626\, United States
END:VEVENT
BEGIN:VEVENT
DTSTART;TZID=America/Chicago:20260205T190000
DTEND;TZID=America/Chicago:20260205T200000
DTSTAMP:20260422T171411
CREATED:20251113T192651Z
LAST-MODIFIED:20251206T221259Z
UID:46603-1770318000-1770321600@cotrgtwn.org
SUMMARY:Usher Training
DESCRIPTION:Group: Ushers
URL:https://cotrgtwn.org/calendar-event/usher-training/
LOCATION:Church on the Rock\, 925 Golden Oaks Dr\, Georgetown\, TX\, 78626\, United States
END:VEVENT
BEGIN:VEVENT
DTSTART;TZID=America/Chicago:20260206T190000
DTEND;TZID=America/Chicago:20260206T210000
DTSTAMP:20260422T171411
CREATED:20251113T192651Z
LAST-MODIFIED:20251206T221259Z
UID:46605-1770404400-1770411600@cotrgtwn.org
SUMMARY:Ladies Night
DESCRIPTION:Group: Ladies’ Ministry \nDetails to come.
URL:https://cotrgtwn.org/calendar-event/ladies-night-2/
LOCATION:TX
END:VEVENT
END:VCALENDAR