BEGIN:VCALENDAR
VERSION:2.0
PRODID:-//Church on the Rock - ECPv6.15.20//NONSGML v1.0//EN
CALSCALE:GREGORIAN
METHOD:PUBLISH
X-ORIGINAL-URL:https://cotrgtwn.org
X-WR-CALDESC:Events for Church on the Rock
REFRESH-INTERVAL;VALUE=DURATION:PT1H
X-Robots-Tag:noindex
X-PUBLISHED-TTL:PT1H
BEGIN:VTIMEZONE
TZID:America/Chicago
BEGIN:DAYLIGHT
TZOFFSETFROM:-0600
TZOFFSETTO:-0500
TZNAME:CDT
DTSTART:20250309T080000
END:DAYLIGHT
BEGIN:STANDARD
TZOFFSETFROM:-0500
TZOFFSETTO:-0600
TZNAME:CST
DTSTART:20251102T070000
END:STANDARD
BEGIN:DAYLIGHT
TZOFFSETFROM:-0600
TZOFFSETTO:-0500
TZNAME:CDT
DTSTART:20260308T080000
END:DAYLIGHT
BEGIN:STANDARD
TZOFFSETFROM:-0500
TZOFFSETTO:-0600
TZNAME:CST
DTSTART:20261101T070000
END:STANDARD
BEGIN:DAYLIGHT
TZOFFSETFROM:-0600
TZOFFSETTO:-0500
TZNAME:CDT
DTSTART:20270314T080000
END:DAYLIGHT
BEGIN:STANDARD
TZOFFSETFROM:-0500
TZOFFSETTO:-0600
TZNAME:CST
DTSTART:20271107T070000
END:STANDARD
END:VTIMEZONE
BEGIN:VEVENT
DTSTART;TZID=America/Chicago:20260501T180000
DTEND;TZID=America/Chicago:20260501T200000
DTSTAMP:20260421T205233
CREATED:20251113T192706Z
LAST-MODIFIED:20260402T144152Z
UID:46721-1777658400-1777665600@cotrgtwn.org
SUMMARY:JOY Group
DESCRIPTION:Group: JOY Group \nJoin the JOY Group for a Spring Potluck at Bro. James and Ms. Sylvia Leslie’s Residence on Friday\, May 1 from 6:00 pm to 8:00 pm. We will gather to enjoy each other’s favorite spring recipes and spend some time together. We will also have games\, so come ready to participate! The registration deadline is Friday\, April 17. \n  \nREGISTER Here
URL:https://cotrgtwn.org/calendar-event/joy-group-12/
END:VEVENT
BEGIN:VEVENT
DTSTART;TZID=America/Chicago:20260501T190000
DTEND;TZID=America/Chicago:20260501T210000
DTSTAMP:20260421T205233
CREATED:20251113T192707Z
LAST-MODIFIED:20260402T144304Z
UID:46722-1777662000-1777669200@cotrgtwn.org
SUMMARY:New Group
DESCRIPTION:Group: NEW Group \nJoin the NEW Group for an escape room at the Gould residence on Friday\, May 1\, at 7:00 pm. After the escape room\, we will enjoy some fellowship time and dessert. Please bring your favorite drink and dessert to share. The registration deadline is Friday\, April 17. \n  \nREGISTER Here
URL:https://cotrgtwn.org/calendar-event/new-group-7/
END:VEVENT
BEGIN:VEVENT
DTSTART;TZID=America/Chicago:20260502T100000
DTEND;TZID=America/Chicago:20260502T180000
DTSTAMP:20260421T205233
CREATED:20260404T194903Z
LAST-MODIFIED:20260404T194903Z
UID:169501-1777716000-1777744800@cotrgtwn.org
SUMMARY:VBS Prep/Work Day
DESCRIPTION:Group: VBS 2026: Emerald Crossing
URL:https://cotrgtwn.org/calendar-event/vbs-prep-work-day-2/
LOCATION:Church on the Rock\, 925 Golden Oaks Dr\, Georgetown\, TX\, 78626\, United States
END:VEVENT
BEGIN:VEVENT
DTSTART;TZID=America/Chicago:20260503T081500
DTEND;TZID=America/Chicago:20260503T084500
DTSTAMP:20260421T205233
CREATED:20251113T192707Z
LAST-MODIFIED:20251206T221543Z
UID:46724-1777796100-1777797900@cotrgtwn.org
SUMMARY:Pre-Service Prayer
DESCRIPTION:Group: Our Church
URL:https://cotrgtwn.org/calendar-event/pre-service-prayer-34/
LOCATION:Church on the Rock\, 925 Golden Oaks Dr\, Georgetown\, TX\, 78626\, United States
END:VEVENT
BEGIN:VEVENT
DTSTART;TZID=America/Chicago:20260503T100000
DTEND;TZID=America/Chicago:20260503T120000
DTSTAMP:20260421T205233
CREATED:20260115T215240Z
LAST-MODIFIED:20260115T215240Z
UID:167144-1777802400-1777809600@cotrgtwn.org
SUMMARY:Sunday Morning Service
DESCRIPTION:Group: Our Church
URL:https://cotrgtwn.org/calendar-event/sunday-morning-service-219/
LOCATION:Church on the Rock\, 925 Golden Oaks Dr\, Georgetown\, TX\, 78626\, United States
END:VEVENT
BEGIN:VEVENT
DTSTART;TZID=America/Chicago:20260503T153000
DTEND;TZID=America/Chicago:20260503T170000
DTSTAMP:20260421T205233
CREATED:20251113T192710Z
LAST-MODIFIED:20260402T164718Z
UID:46746-1777822200-1777827600@cotrgtwn.org
SUMMARY:Praise Team Practice
DESCRIPTION:Group: Praise Team \nMeet in Sanctuary
URL:https://cotrgtwn.org/calendar-event/praise-team-practice-12/
LOCATION:Church on the Rock\, 925 Golden Oaks Dr\, Georgetown\, TX\, 78626\, United States
END:VEVENT
BEGIN:VEVENT
DTSTART;TZID=America/Chicago:20260503T180000
DTEND;TZID=America/Chicago:20260503T190000
DTSTAMP:20260421T205233
CREATED:20260106T200519Z
LAST-MODIFIED:20260402T152043Z
UID:166903-1777831200-1777834800@cotrgtwn.org
SUMMARY:Growing In God Class
DESCRIPTION:Group: Our Church
URL:https://cotrgtwn.org/calendar-event/growing-in-god-class-7/
LOCATION:Church on the Rock\, 925 Golden Oaks Dr\, Georgetown\, TX\, 78626\, United States
END:VEVENT
BEGIN:VEVENT
DTSTART;TZID=America/Chicago:20260506T190000
DTEND;TZID=America/Chicago:20260506T210000
DTSTAMP:20260421T205233
CREATED:20251113T192707Z
LAST-MODIFIED:20260402T155524Z
UID:46728-1778094000-1778101200@cotrgtwn.org
SUMMARY:Wednesday Night Service
DESCRIPTION:Group: Our Church
URL:https://cotrgtwn.org/calendar-event/wednesday-night-service-23/
LOCATION:Church on the Rock\, 925 Golden Oaks Dr\, Georgetown\, TX\, 78626\, United States
END:VEVENT
BEGIN:VEVENT
DTSTART;TZID=America/Chicago:20260507T180000
DTEND;TZID=America/Chicago:20260507T190000
DTSTAMP:20260421T205233
CREATED:20251113T192708Z
LAST-MODIFIED:20251206T221551Z
UID:46729-1778176800-1778180400@cotrgtwn.org
SUMMARY:Usher Team Cleaning
DESCRIPTION:Group: Ushers
URL:https://cotrgtwn.org/calendar-event/usher-team-cleaning-2/
LOCATION:Church on the Rock\, 925 Golden Oaks Dr\, Georgetown\, TX\, 78626\, United States
END:VEVENT
BEGIN:VEVENT
DTSTART;TZID=America/Chicago:20260507T190000
DTEND;TZID=America/Chicago:20260507T200000
DTSTAMP:20260421T205233
CREATED:20251113T192708Z
LAST-MODIFIED:20251206T221553Z
UID:46730-1778180400-1778184000@cotrgtwn.org
SUMMARY:Usher Training
DESCRIPTION:Group: Ushers
URL:https://cotrgtwn.org/calendar-event/usher-training-2/
LOCATION:Church on the Rock\, 925 Golden Oaks Dr\, Georgetown\, TX\, 78626\, United States
END:VEVENT
BEGIN:VEVENT
DTSTART;TZID=America/Chicago:20260508T190000
DTEND;TZID=America/Chicago:20260508T210000
DTSTAMP:20260421T205233
CREATED:20251113T192708Z
LAST-MODIFIED:20260402T174043Z
UID:46732-1778266800-1778274000@cotrgtwn.org
SUMMARY:Young Adults
DESCRIPTION:Group: Young Adults \nJoin the Young Adults for a Fiesta Night on Friday\, May 8\, at 7:00 pm! We will eat walking tacos (similar to nachos)\, play Bible Loteria\, and enjoy our fellowship time together! Please watch for a SignUpGenius link to sign up to bring taco items. The registration deadline for this event is Friday\, April 24. \n  \nREGISTER Here
URL:https://cotrgtwn.org/calendar-event/young-adults-4/
END:VEVENT
BEGIN:VEVENT
DTSTART;TZID=America/Chicago:20260508T190000
DTEND;TZID=America/Chicago:20260508T210000
DTSTAMP:20260421T205233
CREATED:20251113T192708Z
LAST-MODIFIED:20260406T202543Z
UID:46731-1778266800-1778274000@cotrgtwn.org
SUMMARY:LIFE Group
DESCRIPTION:Group: LIFE Group \nJoin us on Friday\, May 8\, at the Mendoza residence for taco night and a little salsa competition\, and no\, we don’t mean dancing! We will have a salsa tasting competition\, so if you think you have the winning recipe\, let us know you will be participating by typing Salsa in the Items Bringing section. \nOnce the registration deadline has passed\, pay attention to your email notifications for a sign-up list for items to bring. Looking forward to great food\, fun\, and fellowship! Deadline to register is Friday\, April 24. \n  \nREGISTER Here
URL:https://cotrgtwn.org/calendar-event/life-group-3/
END:VEVENT
BEGIN:VEVENT
DTSTART;TZID=America/Chicago:20260510T081500
DTEND;TZID=America/Chicago:20260510T084500
DTSTAMP:20260421T205233
CREATED:20251113T192708Z
LAST-MODIFIED:20251206T221558Z
UID:46734-1778400900-1778402700@cotrgtwn.org
SUMMARY:Pre-Service Prayer
DESCRIPTION:Group: Our Church
URL:https://cotrgtwn.org/calendar-event/pre-service-prayer-35/
LOCATION:Church on the Rock\, 925 Golden Oaks Dr\, Georgetown\, TX\, 78626\, United States
END:VEVENT
BEGIN:VEVENT
DTSTART;TZID=America/Chicago:20260510T100000
DTEND;TZID=America/Chicago:20260510T120000
DTSTAMP:20260421T205233
CREATED:20251113T192709Z
LAST-MODIFIED:20251113T213511Z
UID:46735-1778407200-1778414400@cotrgtwn.org
SUMMARY:Sunday Morning Service
DESCRIPTION:Group: Our Church
URL:https://cotrgtwn.org/calendar-event/sunday-morning-service-25/
LOCATION:Church on the Rock\, 925 Golden Oaks Dr\, Georgetown\, TX\, 78626\, United States
END:VEVENT
BEGIN:VEVENT
DTSTART;TZID=America/Chicago:20260512T180000
DTEND;TZID=America/Chicago:20260512T190000
DTSTAMP:20260421T205233
CREATED:20251113T192716Z
LAST-MODIFIED:20260414T155912Z
UID:46795-1778608800-1778612400@cotrgtwn.org
SUMMARY:Leadership Meeting (Staff & Team Leads)
DESCRIPTION:Group: Our Church
URL:https://cotrgtwn.org/calendar-event/leadership-meeting-staff-team-leads-3/
END:VEVENT
BEGIN:VEVENT
DTSTART;TZID=America/Chicago:20260513T190000
DTEND;TZID=America/Chicago:20260513T210000
DTSTAMP:20260421T205233
CREATED:20251113T192709Z
LAST-MODIFIED:20260402T155552Z
UID:46737-1778698800-1778706000@cotrgtwn.org
SUMMARY:Wednesday Night Service
DESCRIPTION:Group: Our Church
URL:https://cotrgtwn.org/calendar-event/wednesday-night-service-24/
LOCATION:Church on the Rock\, 925 Golden Oaks Dr\, Georgetown\, TX\, 78626\, United States
END:VEVENT
BEGIN:VEVENT
DTSTART;TZID=America/Chicago:20260514T183000
DTEND;TZID=America/Chicago:20260514T203000
DTSTAMP:20260421T205233
CREATED:20251204T165625Z
LAST-MODIFIED:20251206T221603Z
UID:163298-1778783400-1778790600@cotrgtwn.org
SUMMARY:Youth Service
DESCRIPTION:Group: Youth Group
URL:https://cotrgtwn.org/calendar-event/youth-service-45/
END:VEVENT
BEGIN:VEVENT
DTSTART;TZID=America/Chicago:20260516T100000
DTEND;TZID=America/Chicago:20260516T120000
DTSTAMP:20260421T205233
CREATED:20251113T192709Z
LAST-MODIFIED:20260402T174448Z
UID:46738-1778925600-1778932800@cotrgtwn.org
SUMMARY:Preschool Outing
DESCRIPTION:Group: Children’s Ministry Team \nJoin the Preschool Classes for a day at Cedar Rock Railroad at 390 Borho in Round Rock\, Texas\, on Saturday\, May 16\, from 10:00 am to 12:00 pm. They have a playscape and train rides (train tickets are $3.95 and can be purchased upon arrival). They also have a locomotive chase for ages three and up (tickets are $3.50 and can be purchased upon arrival). Bring a picnic lunch\, drinks to stay hydrated\, and sunblock for your family. You may also purchase snacks at the Shady Oak Depot! The registration deadline is Saturday\, May 2. \n  \nREGISTER Here
URL:https://cotrgtwn.org/calendar-event/preschool-outing/
END:VEVENT
BEGIN:VEVENT
DTSTART;TZID=America/Chicago:20260517T081500
DTEND;TZID=America/Chicago:20260517T084500
DTSTAMP:20260421T205233
CREATED:20251113T192709Z
LAST-MODIFIED:20251206T221606Z
UID:46740-1779005700-1779007500@cotrgtwn.org
SUMMARY:Pre-Service Prayer
DESCRIPTION:Group: Our Church
URL:https://cotrgtwn.org/calendar-event/pre-service-prayer-36/
LOCATION:Church on the Rock\, 925 Golden Oaks Dr\, Georgetown\, TX\, 78626\, United States
END:VEVENT
BEGIN:VEVENT
DTSTART;TZID=America/Chicago:20260517T100000
DTEND;TZID=America/Chicago:20260517T120000
DTSTAMP:20260421T205233
CREATED:20251113T192710Z
LAST-MODIFIED:20251113T213512Z
UID:46744-1779012000-1779019200@cotrgtwn.org
SUMMARY:Sunday Morning Service
DESCRIPTION:Group: Our Church
URL:https://cotrgtwn.org/calendar-event/sunday-morning-service-26/
LOCATION:Church on the Rock\, 925 Golden Oaks Dr\, Georgetown\, TX\, 78626\, United States
END:VEVENT
BEGIN:VEVENT
DTSTART;TZID=America/Chicago:20260517T140000
DTEND;TZID=America/Chicago:20260517T170000
DTSTAMP:20260421T205233
CREATED:20251113T192707Z
LAST-MODIFIED:20260402T144521Z
UID:46726-1779026400-1779037200@cotrgtwn.org
SUMMARY:Family Sunday
DESCRIPTION:Group: Our Church \nDetails to come. \n  \nREGISTER Here
URL:https://cotrgtwn.org/calendar-event/family-sunday-14/
END:VEVENT
BEGIN:VEVENT
DTSTART;TZID=America/Chicago:20260520T190000
DTEND;TZID=America/Chicago:20260520T210000
DTSTAMP:20260421T205233
CREATED:20251113T192710Z
LAST-MODIFIED:20260402T155618Z
UID:46748-1779303600-1779310800@cotrgtwn.org
SUMMARY:Wednesday Night Service
DESCRIPTION:Group: Our Church
URL:https://cotrgtwn.org/calendar-event/wednesday-night-service-25/
LOCATION:Church on the Rock\, 925 Golden Oaks Dr\, Georgetown\, TX\, 78626\, United States
END:VEVENT
BEGIN:VEVENT
DTSTART;TZID=America/Chicago:20260521T160000
DTEND;TZID=America/Chicago:20260521T180000
DTSTAMP:20260421T205233
CREATED:20251113T192711Z
LAST-MODIFIED:20260402T174650Z
UID:46749-1779379200-1779386400@cotrgtwn.org
SUMMARY:FCA Graduation Rehearsal
DESCRIPTION:Group: FCA Staff\, Parents\, & Students
URL:https://cotrgtwn.org/calendar-event/fca-graduation-rehearsal/
LOCATION:Church on the Rock\, 925 Golden Oaks Dr\, Georgetown\, TX\, 78626\, United States
END:VEVENT
BEGIN:VEVENT
DTSTART;TZID=America/Chicago:20260522T190000
DTEND;TZID=America/Chicago:20260522T210000
DTSTAMP:20260421T205233
CREATED:20251113T192711Z
LAST-MODIFIED:20260413T191124Z
UID:46750-1779476400-1779483600@cotrgtwn.org
SUMMARY:FCA Graduation
DESCRIPTION:Group: FCA Staff\, Parents\, & Students \n  \nPlease join us to celebrate our 2026 graduates of Faith Christian Academy on Friday evening\, May 22\, at 7:00 in the Church sanctuary. There will be light refreshments and fellowship immediately following the ceremony.
URL:https://cotrgtwn.org/calendar-event/fca-graduation-2/
LOCATION:Church on the Rock\, 925 Golden Oaks Dr\, Georgetown\, TX\, 78626\, United States
END:VEVENT
BEGIN:VEVENT
DTSTART;TZID=America/Chicago:20260523T100000
DTEND;TZID=America/Chicago:20260523T180000
DTSTAMP:20260421T205233
CREATED:20260404T195003Z
LAST-MODIFIED:20260404T195014Z
UID:169503-1779530400-1779559200@cotrgtwn.org
SUMMARY:VBS Workday (If Necessary)
DESCRIPTION:Group: VBS 2026: Emerald Crossing
URL:https://cotrgtwn.org/calendar-event/vbs-workday-if-necessary/
LOCATION:Church on the Rock\, 925 Golden Oaks Dr\, Georgetown\, TX\, 78626\, United States
END:VEVENT
BEGIN:VEVENT
DTSTART;TZID=America/Chicago:20260524T081500
DTEND;TZID=America/Chicago:20260524T084500
DTSTAMP:20260421T205233
CREATED:20251113T192711Z
LAST-MODIFIED:20251206T221629Z
UID:46752-1779610500-1779612300@cotrgtwn.org
SUMMARY:Pre-Service Prayer
DESCRIPTION:Group: Our Church
URL:https://cotrgtwn.org/calendar-event/pre-service-prayer-37/
LOCATION:Church on the Rock\, 925 Golden Oaks Dr\, Georgetown\, TX\, 78626\, United States
END:VEVENT
BEGIN:VEVENT
DTSTART;TZID=America/Chicago:20260524T100000
DTEND;TZID=America/Chicago:20260524T120000
DTSTAMP:20260421T205233
CREATED:20251113T192711Z
LAST-MODIFIED:20251113T213513Z
UID:46756-1779616800-1779624000@cotrgtwn.org
SUMMARY:Sunday Morning Service
DESCRIPTION:Group: Our Church
URL:https://cotrgtwn.org/calendar-event/sunday-morning-service-27/
LOCATION:Church on the Rock\, 925 Golden Oaks Dr\, Georgetown\, TX\, 78626\, United States
END:VEVENT
BEGIN:VEVENT
DTSTART;TZID=America/Chicago:20260524T180000
DTEND;TZID=America/Chicago:20260524T190000
DTSTAMP:20260421T205233
CREATED:20260106T200519Z
LAST-MODIFIED:20260106T200519Z
UID:166904-1779645600-1779649200@cotrgtwn.org
SUMMARY:Growing In God Class
DESCRIPTION:Group: Our Church
URL:https://cotrgtwn.org/calendar-event/growing-in-god-class-8/
END:VEVENT
BEGIN:VEVENT
DTSTART;TZID=America/Chicago:20260527T190000
DTEND;TZID=America/Chicago:20260527T210000
DTSTAMP:20260421T205233
CREATED:20251113T192712Z
LAST-MODIFIED:20260402T155700Z
UID:46758-1779908400-1779915600@cotrgtwn.org
SUMMARY:Wednesday Night Service
DESCRIPTION:Group: Our Church
URL:https://cotrgtwn.org/calendar-event/wednesday-night-service-26/
LOCATION:Church on the Rock\, 925 Golden Oaks Dr\, Georgetown\, TX\, 78626\, United States
END:VEVENT
BEGIN:VEVENT
DTSTART;TZID=America/Chicago:20260531T081500
DTEND;TZID=America/Chicago:20260531T084500
DTSTAMP:20260421T205233
CREATED:20251113T192712Z
LAST-MODIFIED:20251206T221642Z
UID:46760-1780215300-1780217100@cotrgtwn.org
SUMMARY:Pre-Service Prayer
DESCRIPTION:Group: Our Church
URL:https://cotrgtwn.org/calendar-event/pre-service-prayer-38/
LOCATION:Church on the Rock\, 925 Golden Oaks Dr\, Georgetown\, TX\, 78626\, United States
END:VEVENT
END:VCALENDAR