BEGIN:VCALENDAR
VERSION:2.0
PRODID:-//Church on the Rock - ECPv6.15.20//NONSGML v1.0//EN
CALSCALE:GREGORIAN
METHOD:PUBLISH
X-ORIGINAL-URL:https://cotrgtwn.org
X-WR-CALDESC:Events for Church on the Rock
REFRESH-INTERVAL;VALUE=DURATION:PT1H
X-Robots-Tag:noindex
X-PUBLISHED-TTL:PT1H
BEGIN:VTIMEZONE
TZID:America/Chicago
BEGIN:DAYLIGHT
TZOFFSETFROM:-0600
TZOFFSETTO:-0500
TZNAME:CDT
DTSTART:20250309T080000
END:DAYLIGHT
BEGIN:STANDARD
TZOFFSETFROM:-0500
TZOFFSETTO:-0600
TZNAME:CST
DTSTART:20251102T070000
END:STANDARD
BEGIN:DAYLIGHT
TZOFFSETFROM:-0600
TZOFFSETTO:-0500
TZNAME:CDT
DTSTART:20260308T080000
END:DAYLIGHT
BEGIN:STANDARD
TZOFFSETFROM:-0500
TZOFFSETTO:-0600
TZNAME:CST
DTSTART:20261101T070000
END:STANDARD
BEGIN:DAYLIGHT
TZOFFSETFROM:-0600
TZOFFSETTO:-0500
TZNAME:CDT
DTSTART:20270314T080000
END:DAYLIGHT
BEGIN:STANDARD
TZOFFSETFROM:-0500
TZOFFSETTO:-0600
TZNAME:CST
DTSTART:20271107T070000
END:STANDARD
END:VTIMEZONE
BEGIN:VEVENT
DTSTART;TZID=America/Chicago:20260801T100000
DTEND;TZID=America/Chicago:20260801T120000
DTSTAMP:20260422T014054
CREATED:20251113T192726Z
LAST-MODIFIED:20251206T221902Z
UID:46859-1785578400-1785585600@cotrgtwn.org
SUMMARY:Children's Ministry Classrooms Deep Clean
DESCRIPTION:Group: Children’s Ministry Team
URL:https://cotrgtwn.org/calendar-event/childrens-ministry-classrooms-deep-clean/
END:VEVENT
BEGIN:VEVENT
DTSTART;TZID=America/Chicago:20260802T081500
DTEND;TZID=America/Chicago:20260802T084500
DTSTAMP:20260422T014054
CREATED:20251113T192726Z
LAST-MODIFIED:20251206T221905Z
UID:46860-1785658500-1785660300@cotrgtwn.org
SUMMARY:Pre-Service Prayer
DESCRIPTION:Group: Our Church
URL:https://cotrgtwn.org/calendar-event/pre-service-prayer-46/
LOCATION:Church on the Rock\, 925 Golden Oaks Dr\, Georgetown\, TX\, 78626\, United States
END:VEVENT
BEGIN:VEVENT
DTSTART;TZID=America/Chicago:20260802T100000
DTEND;TZID=America/Chicago:20260802T120000
DTSTAMP:20260422T014054
CREATED:20251113T192726Z
LAST-MODIFIED:20251113T213521Z
UID:46864-1785664800-1785672000@cotrgtwn.org
SUMMARY:Sunday Morning Service
DESCRIPTION:Group: Our Church
URL:https://cotrgtwn.org/calendar-event/sunday-morning-service-36/
LOCATION:Church on the Rock\, 925 Golden Oaks Dr\, Georgetown\, TX\, 78626\, United States
END:VEVENT
BEGIN:VEVENT
DTSTART;TZID=America/Chicago:20260802T150000
DTEND;TZID=America/Chicago:20260802T163000
DTSTAMP:20260422T014054
CREATED:20251113T192727Z
LAST-MODIFIED:20251206T221913Z
UID:46866-1785682800-1785688200@cotrgtwn.org
SUMMARY:Praise Team Practice
DESCRIPTION:Group: Praise Team \nMeet in Sanctuary
URL:https://cotrgtwn.org/calendar-event/praise-team-practice-17/
LOCATION:Church on the Rock\, 925 Golden Oaks Dr\, Georgetown\, TX\, 78626\, United States
END:VEVENT
BEGIN:VEVENT
DTSTART;TZID=America/Chicago:20260802T180000
DTEND;TZID=America/Chicago:20260802T200000
DTSTAMP:20260422T014054
CREATED:20260106T200520Z
LAST-MODIFIED:20260106T200520Z
UID:166906-1785693600-1785700800@cotrgtwn.org
SUMMARY:Growing In God Class
DESCRIPTION:Group: Our Church
URL:https://cotrgtwn.org/calendar-event/growing-in-god-class-10/
LOCATION:Church on the Rock\, 925 Golden Oaks Dr\, Georgetown\, TX\, 78626\, United States
END:VEVENT
BEGIN:VEVENT
DTSTART;VALUE=DATE:20260804
DTEND;VALUE=DATE:20260805
DTSTAMP:20260422T014054
CREATED:20251113T192727Z
LAST-MODIFIED:20251206T221916Z
UID:46869-1785801600-1785887999@cotrgtwn.org
SUMMARY:Ladies' Retreat
DESCRIPTION:Group: Ladies’ Ministry \nDetails to come
URL:https://cotrgtwn.org/calendar-event/ladies-retreat-4/
END:VEVENT
BEGIN:VEVENT
DTSTART;VALUE=DATE:20260805
DTEND;VALUE=DATE:20260806
DTSTAMP:20260422T014054
CREATED:20251113T192727Z
LAST-MODIFIED:20251206T221918Z
UID:46868-1785888000-1785974399@cotrgtwn.org
SUMMARY:Ladies' Retreat
DESCRIPTION:Group: Ladies’ Ministry \nDetails to come
URL:https://cotrgtwn.org/calendar-event/ladies-retreat-3/
END:VEVENT
BEGIN:VEVENT
DTSTART;TZID=America/Chicago:20260805T190000
DTEND;TZID=America/Chicago:20260805T210000
DTSTAMP:20260422T014054
CREATED:20251113T192727Z
LAST-MODIFIED:20260402T162419Z
UID:46871-1785956400-1785963600@cotrgtwn.org
SUMMARY:Wednesday Night Service
DESCRIPTION:Group: Our Church
URL:https://cotrgtwn.org/calendar-event/wednesday-night-service-33/
LOCATION:Church on the Rock\, 925 Golden Oaks Dr\, Georgetown\, TX\, 78626\, United States
END:VEVENT
BEGIN:VEVENT
DTSTART;VALUE=DATE:20260806
DTEND;VALUE=DATE:20260807
DTSTAMP:20260422T014054
CREATED:20251113T192727Z
LAST-MODIFIED:20251206T221916Z
UID:46870-1785974400-1786060799@cotrgtwn.org
SUMMARY:Ladies' Retreat
DESCRIPTION:Group: Ladies’ Ministry \nDetails to come
URL:https://cotrgtwn.org/calendar-event/ladies-retreat-5/
END:VEVENT
BEGIN:VEVENT
DTSTART;VALUE=DATE:20260807
DTEND;VALUE=DATE:20260808
DTSTAMP:20260422T014054
CREATED:20251113T192728Z
LAST-MODIFIED:20251206T221919Z
UID:46875-1786060800-1786147199@cotrgtwn.org
SUMMARY:Ladies' Retreat
DESCRIPTION:Group: Ladies’ Ministry \nDetails to come
URL:https://cotrgtwn.org/calendar-event/ladies-retreat-6/
END:VEVENT
BEGIN:VEVENT
DTSTART;TZID=America/Chicago:20260809T081500
DTEND;TZID=America/Chicago:20260809T084500
DTSTAMP:20260422T014054
CREATED:20251113T192728Z
LAST-MODIFIED:20251206T221921Z
UID:46881-1786263300-1786265100@cotrgtwn.org
SUMMARY:Pre-Service Prayer
DESCRIPTION:Group: Our Church
URL:https://cotrgtwn.org/calendar-event/pre-service-prayer-47/
LOCATION:Church on the Rock\, 925 Golden Oaks Dr\, Georgetown\, TX\, 78626\, United States
END:VEVENT
BEGIN:VEVENT
DTSTART;TZID=America/Chicago:20260809T100000
DTEND;TZID=America/Chicago:20260809T120000
DTSTAMP:20260422T014054
CREATED:20251113T192728Z
LAST-MODIFIED:20251113T213523Z
UID:46885-1786269600-1786276800@cotrgtwn.org
SUMMARY:Sunday Morning Service
DESCRIPTION:Group: Our Church
URL:https://cotrgtwn.org/calendar-event/sunday-morning-service-37/
LOCATION:Church on the Rock\, 925 Golden Oaks Dr\, Georgetown\, TX\, 78626\, United States
END:VEVENT
BEGIN:VEVENT
DTSTART;TZID=America/Chicago:20260809T120000
DTEND;TZID=America/Chicago:20260809T123000
DTSTAMP:20260422T014054
CREATED:20251113T192721Z
LAST-MODIFIED:20260402T202456Z
UID:46831-1786276800-1786278600@cotrgtwn.org
SUMMARY:Children's Ministry Quarterly & Creativity Meeting
DESCRIPTION:Group: Children’s Ministry Team \nMeet in Sanctuary
URL:https://cotrgtwn.org/calendar-event/childrens-ministry-quarterly-creativity-meeting-3/
LOCATION:Church on the Rock\, 925 Golden Oaks Dr\, Georgetown\, TX\, 78626\, United States
END:VEVENT
BEGIN:VEVENT
DTSTART;VALUE=DATE:20260811
DTEND;VALUE=DATE:20260812
DTSTAMP:20260422T014054
CREATED:20251113T192729Z
LAST-MODIFIED:20251206T221924Z
UID:46888-1786406400-1786492799@cotrgtwn.org
SUMMARY:FCA First Day of School
DESCRIPTION:Group: Our Church
URL:https://cotrgtwn.org/calendar-event/fca-first-day-of-school/
END:VEVENT
BEGIN:VEVENT
DTSTART;TZID=America/Chicago:20260812T190000
DTEND;TZID=America/Chicago:20260812T210000
DTSTAMP:20260422T014054
CREATED:20251113T192729Z
LAST-MODIFIED:20260402T162448Z
UID:46891-1786561200-1786568400@cotrgtwn.org
SUMMARY:Wednesday Night Service
DESCRIPTION:Group: Our Church
URL:https://cotrgtwn.org/calendar-event/wednesday-night-service-34/
LOCATION:Church on the Rock\, 925 Golden Oaks Dr\, Georgetown\, TX\, 78626\, United States
END:VEVENT
BEGIN:VEVENT
DTSTART;TZID=America/Chicago:20260813T183000
DTEND;TZID=America/Chicago:20260813T203000
DTSTAMP:20260422T014054
CREATED:20251204T165956Z
LAST-MODIFIED:20251206T221927Z
UID:163328-1786645800-1786653000@cotrgtwn.org
SUMMARY:Youth Back to School Event
DESCRIPTION:Group: Youth Group \nDetails to come!
URL:https://cotrgtwn.org/calendar-event/youth-back-to-school-event-3/
END:VEVENT
BEGIN:VEVENT
DTSTART;TZID=America/Chicago:20260814T183000
DTEND;TZID=America/Chicago:20260814T203000
DTSTAMP:20260422T014054
CREATED:20251204T165956Z
LAST-MODIFIED:20251206T221927Z
UID:163329-1786732200-1786739400@cotrgtwn.org
SUMMARY:Youth Back to School Event
DESCRIPTION:Group: Youth Group \nDetails to come!
URL:https://cotrgtwn.org/calendar-event/youth-back-to-school-event-4/
END:VEVENT
BEGIN:VEVENT
DTSTART;TZID=America/Chicago:20260816T081500
DTEND;TZID=America/Chicago:20260816T084500
DTSTAMP:20260422T014054
CREATED:20251113T192730Z
LAST-MODIFIED:20251206T221930Z
UID:46896-1786868100-1786869900@cotrgtwn.org
SUMMARY:Pre-Service Prayer
DESCRIPTION:Group: Our Church
URL:https://cotrgtwn.org/calendar-event/pre-service-prayer-48/
LOCATION:Church on the Rock\, 925 Golden Oaks Dr\, Georgetown\, TX\, 78626\, United States
END:VEVENT
BEGIN:VEVENT
DTSTART;TZID=America/Chicago:20260816T100000
DTEND;TZID=America/Chicago:20260816T120000
DTSTAMP:20260422T014054
CREATED:20251113T192730Z
LAST-MODIFIED:20251113T213524Z
UID:46897-1786874400-1786881600@cotrgtwn.org
SUMMARY:Sunday Morning Service
DESCRIPTION:Group: Our Church
URL:https://cotrgtwn.org/calendar-event/sunday-morning-service-38/
LOCATION:Church on the Rock\, 925 Golden Oaks Dr\, Georgetown\, TX\, 78626\, United States
END:VEVENT
BEGIN:VEVENT
DTSTART;TZID=America/Chicago:20260816T120000
DTEND;TZID=America/Chicago:20260816T123000
DTSTAMP:20260422T014054
CREATED:20251113T192730Z
LAST-MODIFIED:20251206T221933Z
UID:46899-1786881600-1786883400@cotrgtwn.org
SUMMARY:Audio/Visual Team Meeting
DESCRIPTION:Group: Audio/Visual \nMeet in Sanctuary
URL:https://cotrgtwn.org/calendar-event/audio-visual-team-meeting-3/
LOCATION:Church on the Rock\, 925 Golden Oaks Dr\, Georgetown\, TX\, 78626\, United States
END:VEVENT
BEGIN:VEVENT
DTSTART;TZID=America/Chicago:20260816T120000
DTEND;TZID=America/Chicago:20260816T123000
DTSTAMP:20260422T014054
CREATED:20251113T192730Z
LAST-MODIFIED:20251206T221936Z
UID:46900-1786881600-1786883400@cotrgtwn.org
SUMMARY:Medical Response Team Meeting
DESCRIPTION:Group: Medical Response \nMeet in Sanctuary
URL:https://cotrgtwn.org/calendar-event/medical-response-team-meeting-2/
LOCATION:Church on the Rock\, 925 Golden Oaks Dr\, Georgetown\, TX\, 78626\, United States
END:VEVENT
BEGIN:VEVENT
DTSTART;TZID=America/Chicago:20260819T190000
DTEND;TZID=America/Chicago:20260819T210000
DTSTAMP:20260422T014054
CREATED:20251113T192731Z
LAST-MODIFIED:20260402T162545Z
UID:46902-1787166000-1787173200@cotrgtwn.org
SUMMARY:Wednesday Night Service
DESCRIPTION:Group: Our Church
URL:https://cotrgtwn.org/calendar-event/wednesday-night-service-35/
LOCATION:Church on the Rock\, 925 Golden Oaks Dr\, Georgetown\, TX\, 78626\, United States
END:VEVENT
BEGIN:VEVENT
DTSTART;TZID=America/Chicago:20260820T180000
DTEND;TZID=America/Chicago:20260820T190000
DTSTAMP:20260422T014054
CREATED:20251113T192729Z
LAST-MODIFIED:20251206T221946Z
UID:46893-1787248800-1787252400@cotrgtwn.org
SUMMARY:Usher Team Cleaning
DESCRIPTION:Group: Ushers
URL:https://cotrgtwn.org/calendar-event/usher-team-cleaning-3/
LOCATION:Church on the Rock\, 925 Golden Oaks Dr\, Georgetown\, TX\, 78626\, United States
END:VEVENT
BEGIN:VEVENT
DTSTART;TZID=America/Chicago:20260820T190000
DTEND;TZID=America/Chicago:20260820T200000
DTSTAMP:20260422T014054
CREATED:20251113T192729Z
LAST-MODIFIED:20251206T221943Z
UID:46894-1787252400-1787256000@cotrgtwn.org
SUMMARY:Usher Team Meeting
DESCRIPTION:Group: Ushers
URL:https://cotrgtwn.org/calendar-event/usher-team-meeting/
LOCATION:Church on the Rock\, 925 Golden Oaks Dr\, Georgetown\, TX\, 78626\, United States
END:VEVENT
BEGIN:VEVENT
DTSTART;TZID=America/Chicago:20260822T100000
DTEND;TZID=America/Chicago:20260822T120000
DTSTAMP:20260422T014054
CREATED:20251113T192731Z
LAST-MODIFIED:20251206T221948Z
UID:46904-1787392800-1787400000@cotrgtwn.org
SUMMARY:Children's Ministry Family Outing
DESCRIPTION:Group: Children’s Ministry Team \nDetails to come.
URL:https://cotrgtwn.org/calendar-event/childrens-ministry-family-outing/
LOCATION:Church on the Rock\, 925 Golden Oaks Dr\, Georgetown\, TX\, 78626\, United States
END:VEVENT
BEGIN:VEVENT
DTSTART;TZID=America/Chicago:20260823T081500
DTEND;TZID=America/Chicago:20260823T084500
DTSTAMP:20260422T014054
CREATED:20251113T192731Z
LAST-MODIFIED:20251206T221951Z
UID:46905-1787472900-1787474700@cotrgtwn.org
SUMMARY:Pre-Service Prayer
DESCRIPTION:Group: Our Church
URL:https://cotrgtwn.org/calendar-event/pre-service-prayer-49/
LOCATION:Church on the Rock\, 925 Golden Oaks Dr\, Georgetown\, TX\, 78626\, United States
END:VEVENT
BEGIN:VEVENT
DTSTART;TZID=America/Chicago:20260823T100000
DTEND;TZID=America/Chicago:20260823T120000
DTSTAMP:20260422T014054
CREATED:20251113T192731Z
LAST-MODIFIED:20251113T213525Z
UID:46906-1787479200-1787486400@cotrgtwn.org
SUMMARY:Sunday Morning Service
DESCRIPTION:Group: Our Church
URL:https://cotrgtwn.org/calendar-event/sunday-morning-service-39/
LOCATION:Church on the Rock\, 925 Golden Oaks Dr\, Georgetown\, TX\, 78626\, United States
END:VEVENT
BEGIN:VEVENT
DTSTART;TZID=America/Chicago:20260823T150000
DTEND;TZID=America/Chicago:20260823T163000
DTSTAMP:20260422T014054
CREATED:20251113T192730Z
LAST-MODIFIED:20251206T221957Z
UID:46901-1787497200-1787502600@cotrgtwn.org
SUMMARY:Praise Team Practice
DESCRIPTION:Group: Praise Team \nMeet in Sanctuary
URL:https://cotrgtwn.org/calendar-event/praise-team-practice-18/
LOCATION:Church on the Rock\, 925 Golden Oaks Dr\, Georgetown\, TX\, 78626\, United States
END:VEVENT
BEGIN:VEVENT
DTSTART;TZID=America/Chicago:20260823T180000
DTEND;TZID=America/Chicago:20260823T200000
DTSTAMP:20260422T014054
CREATED:20260106T200520Z
LAST-MODIFIED:20260106T200520Z
UID:166907-1787508000-1787515200@cotrgtwn.org
SUMMARY:Growing In God Class
DESCRIPTION:Group: Our Church
URL:https://cotrgtwn.org/calendar-event/growing-in-god-class-11/
LOCATION:Church on the Rock\, 925 Golden Oaks Dr\, Georgetown\, TX\, 78626\, United States
END:VEVENT
BEGIN:VEVENT
DTSTART;TZID=America/Chicago:20260826T190000
DTEND;TZID=America/Chicago:20260826T210000
DTSTAMP:20260422T014054
CREATED:20251113T192732Z
LAST-MODIFIED:20260402T162611Z
UID:46909-1787770800-1787778000@cotrgtwn.org
SUMMARY:Wednesday Night Service
DESCRIPTION:Group: Our Church
URL:https://cotrgtwn.org/calendar-event/wednesday-night-service-36/
LOCATION:Church on the Rock\, 925 Golden Oaks Dr\, Georgetown\, TX\, 78626\, United States
END:VEVENT
END:VCALENDAR