BEGIN:VCALENDAR
VERSION:2.0
PRODID:-//Church on the Rock - ECPv6.15.20//NONSGML v1.0//EN
CALSCALE:GREGORIAN
METHOD:PUBLISH
X-ORIGINAL-URL:https://cotrgtwn.org
X-WR-CALDESC:Events for Church on the Rock
REFRESH-INTERVAL;VALUE=DURATION:PT1H
X-Robots-Tag:noindex
X-PUBLISHED-TTL:PT1H
BEGIN:VTIMEZONE
TZID:America/Chicago
BEGIN:DAYLIGHT
TZOFFSETFROM:-0600
TZOFFSETTO:-0500
TZNAME:CDT
DTSTART:20260308T080000
END:DAYLIGHT
BEGIN:STANDARD
TZOFFSETFROM:-0500
TZOFFSETTO:-0600
TZNAME:CST
DTSTART:20261101T070000
END:STANDARD
BEGIN:DAYLIGHT
TZOFFSETFROM:-0600
TZOFFSETTO:-0500
TZNAME:CDT
DTSTART:20270314T080000
END:DAYLIGHT
BEGIN:STANDARD
TZOFFSETFROM:-0500
TZOFFSETTO:-0600
TZNAME:CST
DTSTART:20271107T070000
END:STANDARD
BEGIN:DAYLIGHT
TZOFFSETFROM:-0600
TZOFFSETTO:-0500
TZNAME:CDT
DTSTART:20280312T080000
END:DAYLIGHT
BEGIN:STANDARD
TZOFFSETFROM:-0500
TZOFFSETTO:-0600
TZNAME:CST
DTSTART:20281105T070000
END:STANDARD
END:VTIMEZONE
BEGIN:VEVENT
DTSTART;TZID=America/Chicago:20270602T190000
DTEND;TZID=America/Chicago:20270602T203000
DTSTAMP:20260422T200829
CREATED:20251113T213625Z
LAST-MODIFIED:20251206T222808Z
UID:47753-1811962800-1811968200@cotrgtwn.org
SUMMARY:Wednesday Night Service
DESCRIPTION:Group: Our Church
URL:https://cotrgtwn.org/calendar-event/wednesday-night-service-73/
LOCATION:Church on the Rock\, 925 Golden Oaks Dr\, Georgetown\, TX\, 78626\, United States
END:VEVENT
BEGIN:VEVENT
DTSTART;TZID=America/Chicago:20270602T190000
DTEND;TZID=America/Chicago:20270602T203000
DTSTAMP:20260422T200829
CREATED:20260115T215426Z
LAST-MODIFIED:20260115T215426Z
UID:167249-1811962800-1811968200@cotrgtwn.org
SUMMARY:Wednesday Night Service
DESCRIPTION:Group: Our Church
URL:https://cotrgtwn.org/calendar-event/wednesday-night-service-163/
LOCATION:Church on the Rock\, 925 Golden Oaks Dr\, Georgetown\, TX\, 78626\, United States
END:VEVENT
BEGIN:VEVENT
DTSTART;TZID=America/Chicago:20270606T081500
DTEND;TZID=America/Chicago:20270606T084500
DTSTAMP:20260422T200829
CREATED:20251113T213625Z
LAST-MODIFIED:20251206T222811Z
UID:47755-1812269700-1812271500@cotrgtwn.org
SUMMARY:Pre-Service Prayer
DESCRIPTION:Group: Our Church
URL:https://cotrgtwn.org/calendar-event/pre-service-prayer-90/
LOCATION:Church on the Rock\, 925 Golden Oaks Dr\, Georgetown\, TX\, 78626\, United States
END:VEVENT
BEGIN:VEVENT
DTSTART;TZID=America/Chicago:20270606T100000
DTEND;TZID=America/Chicago:20270606T120000
DTSTAMP:20260422T200829
CREATED:20251113T213626Z
LAST-MODIFIED:20251113T213626Z
UID:47756-1812276000-1812283200@cotrgtwn.org
SUMMARY:Sunday Morning Service
DESCRIPTION:Group: Our Church
URL:https://cotrgtwn.org/calendar-event/sunday-morning-service-80/
LOCATION:Church on the Rock\, 925 Golden Oaks Dr\, Georgetown\, TX\, 78626\, United States
END:VEVENT
BEGIN:VEVENT
DTSTART;TZID=America/Chicago:20270606T100000
DTEND;TZID=America/Chicago:20270606T120000
DTSTAMP:20260422T200829
CREATED:20251113T224012Z
LAST-MODIFIED:20251206T222814Z
UID:48372-1812276000-1812283200@cotrgtwn.org
SUMMARY:Sunday Morning Service
DESCRIPTION:Group: Our Church
URL:https://cotrgtwn.org/calendar-event/sunday-morning-service-181/
LOCATION:Church on the Rock\, 925 Golden Oaks Dr\, Georgetown\, TX\, 78626\, United States
END:VEVENT
BEGIN:VEVENT
DTSTART;TZID=America/Chicago:20270606T100000
DTEND;TZID=America/Chicago:20270606T120000
DTSTAMP:20260422T200829
CREATED:20260115T215426Z
LAST-MODIFIED:20260115T215426Z
UID:167250-1812276000-1812283200@cotrgtwn.org
SUMMARY:Sunday Morning Service
DESCRIPTION:Group: Our Church
URL:https://cotrgtwn.org/calendar-event/sunday-morning-service-275/
LOCATION:Church on the Rock\, 925 Golden Oaks Dr\, Georgetown\, TX\, 78626\, United States
END:VEVENT
BEGIN:VEVENT
DTSTART;TZID=America/Chicago:20270606T180000
DTEND;TZID=America/Chicago:20270606T200000
DTSTAMP:20260422T200829
CREATED:20251113T213626Z
LAST-MODIFIED:20251206T222818Z
UID:47758-1812304800-1812312000@cotrgtwn.org
SUMMARY:Sunday Evening Service
DESCRIPTION:Group: Our Church
URL:https://cotrgtwn.org/calendar-event/sunday-evening-service-43/
LOCATION:Church on the Rock\, 925 Golden Oaks Dr\, Georgetown\, TX\, 78626\, United States
END:VEVENT
BEGIN:VEVENT
DTSTART;TZID=America/Chicago:20270609T190000
DTEND;TZID=America/Chicago:20270609T203000
DTSTAMP:20260422T200829
CREATED:20251113T213626Z
LAST-MODIFIED:20251206T222820Z
UID:47759-1812567600-1812573000@cotrgtwn.org
SUMMARY:Wednesday Night Service
DESCRIPTION:Group: Our Church
URL:https://cotrgtwn.org/calendar-event/wednesday-night-service-74/
LOCATION:Church on the Rock\, 925 Golden Oaks Dr\, Georgetown\, TX\, 78626\, United States
END:VEVENT
BEGIN:VEVENT
DTSTART;TZID=America/Chicago:20270609T190000
DTEND;TZID=America/Chicago:20270609T203000
DTSTAMP:20260422T200829
CREATED:20260115T215427Z
LAST-MODIFIED:20260115T215427Z
UID:167251-1812567600-1812573000@cotrgtwn.org
SUMMARY:Wednesday Night Service
DESCRIPTION:Group: Our Church
URL:https://cotrgtwn.org/calendar-event/wednesday-night-service-164/
LOCATION:Church on the Rock\, 925 Golden Oaks Dr\, Georgetown\, TX\, 78626\, United States
END:VEVENT
BEGIN:VEVENT
DTSTART;TZID=America/Chicago:20270613T081500
DTEND;TZID=America/Chicago:20270613T084500
DTSTAMP:20260422T200829
CREATED:20251113T213626Z
LAST-MODIFIED:20251206T222823Z
UID:47761-1812874500-1812876300@cotrgtwn.org
SUMMARY:Pre-Service Prayer
DESCRIPTION:Group: Our Church
URL:https://cotrgtwn.org/calendar-event/pre-service-prayer-91/
LOCATION:Church on the Rock\, 925 Golden Oaks Dr\, Georgetown\, TX\, 78626\, United States
END:VEVENT
BEGIN:VEVENT
DTSTART;TZID=America/Chicago:20270613T100000
DTEND;TZID=America/Chicago:20270613T120000
DTSTAMP:20260422T200829
CREATED:20251113T213627Z
LAST-MODIFIED:20251113T213627Z
UID:47762-1812880800-1812888000@cotrgtwn.org
SUMMARY:Sunday Morning Service
DESCRIPTION:Group: Our Church
URL:https://cotrgtwn.org/calendar-event/sunday-morning-service-81/
LOCATION:Church on the Rock\, 925 Golden Oaks Dr\, Georgetown\, TX\, 78626\, United States
END:VEVENT
BEGIN:VEVENT
DTSTART;TZID=America/Chicago:20270613T100000
DTEND;TZID=America/Chicago:20270613T120000
DTSTAMP:20260422T200829
CREATED:20251113T224012Z
LAST-MODIFIED:20251206T222825Z
UID:48378-1812880800-1812888000@cotrgtwn.org
SUMMARY:Sunday Morning Service
DESCRIPTION:Group: Our Church
URL:https://cotrgtwn.org/calendar-event/sunday-morning-service-182/
LOCATION:Church on the Rock\, 925 Golden Oaks Dr\, Georgetown\, TX\, 78626\, United States
END:VEVENT
BEGIN:VEVENT
DTSTART;TZID=America/Chicago:20270613T100000
DTEND;TZID=America/Chicago:20270613T120000
DTSTAMP:20260422T200829
CREATED:20260115T215427Z
LAST-MODIFIED:20260115T215427Z
UID:167252-1812880800-1812888000@cotrgtwn.org
SUMMARY:Sunday Morning Service
DESCRIPTION:Group: Our Church
URL:https://cotrgtwn.org/calendar-event/sunday-morning-service-276/
LOCATION:Church on the Rock\, 925 Golden Oaks Dr\, Georgetown\, TX\, 78626\, United States
END:VEVENT
BEGIN:VEVENT
DTSTART;TZID=America/Chicago:20270613T180000
DTEND;TZID=America/Chicago:20270613T200000
DTSTAMP:20260422T200829
CREATED:20251113T213627Z
LAST-MODIFIED:20251206T222828Z
UID:47764-1812909600-1812916800@cotrgtwn.org
SUMMARY:Sunday Evening Service
DESCRIPTION:Group: Our Church
URL:https://cotrgtwn.org/calendar-event/sunday-evening-service-44/
LOCATION:Church on the Rock\, 925 Golden Oaks Dr\, Georgetown\, TX\, 78626\, United States
END:VEVENT
BEGIN:VEVENT
DTSTART;TZID=America/Chicago:20270616T190000
DTEND;TZID=America/Chicago:20270616T203000
DTSTAMP:20260422T200829
CREATED:20251113T213627Z
LAST-MODIFIED:20251206T222831Z
UID:47765-1813172400-1813177800@cotrgtwn.org
SUMMARY:Wednesday Night Service
DESCRIPTION:Group: Our Church
URL:https://cotrgtwn.org/calendar-event/wednesday-night-service-75/
LOCATION:Church on the Rock\, 925 Golden Oaks Dr\, Georgetown\, TX\, 78626\, United States
END:VEVENT
BEGIN:VEVENT
DTSTART;TZID=America/Chicago:20270616T190000
DTEND;TZID=America/Chicago:20270616T203000
DTSTAMP:20260422T200829
CREATED:20260115T215427Z
LAST-MODIFIED:20260115T215427Z
UID:167253-1813172400-1813177800@cotrgtwn.org
SUMMARY:Wednesday Night Service
DESCRIPTION:Group: Our Church
URL:https://cotrgtwn.org/calendar-event/wednesday-night-service-165/
LOCATION:Church on the Rock\, 925 Golden Oaks Dr\, Georgetown\, TX\, 78626\, United States
END:VEVENT
BEGIN:VEVENT
DTSTART;TZID=America/Chicago:20270620T081500
DTEND;TZID=America/Chicago:20270620T084500
DTSTAMP:20260422T200829
CREATED:20251113T213627Z
LAST-MODIFIED:20251206T222833Z
UID:47767-1813479300-1813481100@cotrgtwn.org
SUMMARY:Pre-Service Prayer
DESCRIPTION:Group: Our Church
URL:https://cotrgtwn.org/calendar-event/pre-service-prayer-92/
LOCATION:Church on the Rock\, 925 Golden Oaks Dr\, Georgetown\, TX\, 78626\, United States
END:VEVENT
BEGIN:VEVENT
DTSTART;TZID=America/Chicago:20270620T100000
DTEND;TZID=America/Chicago:20270620T120000
DTSTAMP:20260422T200829
CREATED:20251113T213628Z
LAST-MODIFIED:20251113T213628Z
UID:47768-1813485600-1813492800@cotrgtwn.org
SUMMARY:Sunday Morning Service
DESCRIPTION:Group: Our Church
URL:https://cotrgtwn.org/calendar-event/sunday-morning-service-82/
LOCATION:Church on the Rock\, 925 Golden Oaks Dr\, Georgetown\, TX\, 78626\, United States
END:VEVENT
BEGIN:VEVENT
DTSTART;TZID=America/Chicago:20270620T100000
DTEND;TZID=America/Chicago:20270620T120000
DTSTAMP:20260422T200829
CREATED:20251113T224013Z
LAST-MODIFIED:20251206T222836Z
UID:48384-1813485600-1813492800@cotrgtwn.org
SUMMARY:Sunday Morning Service
DESCRIPTION:Group: Our Church
URL:https://cotrgtwn.org/calendar-event/sunday-morning-service-183/
LOCATION:Church on the Rock\, 925 Golden Oaks Dr\, Georgetown\, TX\, 78626\, United States
END:VEVENT
BEGIN:VEVENT
DTSTART;TZID=America/Chicago:20270620T100000
DTEND;TZID=America/Chicago:20270620T120000
DTSTAMP:20260422T200829
CREATED:20260115T215427Z
LAST-MODIFIED:20260115T215427Z
UID:167254-1813485600-1813492800@cotrgtwn.org
SUMMARY:Sunday Morning Service
DESCRIPTION:Group: Our Church
URL:https://cotrgtwn.org/calendar-event/sunday-morning-service-277/
LOCATION:Church on the Rock\, 925 Golden Oaks Dr\, Georgetown\, TX\, 78626\, United States
END:VEVENT
BEGIN:VEVENT
DTSTART;TZID=America/Chicago:20270620T180000
DTEND;TZID=America/Chicago:20270620T200000
DTSTAMP:20260422T200829
CREATED:20251113T213628Z
LAST-MODIFIED:20251206T222840Z
UID:47770-1813514400-1813521600@cotrgtwn.org
SUMMARY:Sunday Evening Service
DESCRIPTION:Group: Our Church
URL:https://cotrgtwn.org/calendar-event/sunday-evening-service-45/
LOCATION:Church on the Rock\, 925 Golden Oaks Dr\, Georgetown\, TX\, 78626\, United States
END:VEVENT
BEGIN:VEVENT
DTSTART;TZID=America/Chicago:20270623T190000
DTEND;TZID=America/Chicago:20270623T203000
DTSTAMP:20260422T200829
CREATED:20251113T213628Z
LAST-MODIFIED:20251206T222843Z
UID:47771-1813777200-1813782600@cotrgtwn.org
SUMMARY:Wednesday Night Service
DESCRIPTION:Group: Our Church
URL:https://cotrgtwn.org/calendar-event/wednesday-night-service-76/
LOCATION:Church on the Rock\, 925 Golden Oaks Dr\, Georgetown\, TX\, 78626\, United States
END:VEVENT
BEGIN:VEVENT
DTSTART;TZID=America/Chicago:20270623T190000
DTEND;TZID=America/Chicago:20270623T203000
DTSTAMP:20260422T200829
CREATED:20260115T215428Z
LAST-MODIFIED:20260115T215428Z
UID:167255-1813777200-1813782600@cotrgtwn.org
SUMMARY:Wednesday Night Service
DESCRIPTION:Group: Our Church
URL:https://cotrgtwn.org/calendar-event/wednesday-night-service-166/
LOCATION:Church on the Rock\, 925 Golden Oaks Dr\, Georgetown\, TX\, 78626\, United States
END:VEVENT
BEGIN:VEVENT
DTSTART;TZID=America/Chicago:20270627T081500
DTEND;TZID=America/Chicago:20270627T084500
DTSTAMP:20260422T200829
CREATED:20251113T213628Z
LAST-MODIFIED:20251206T222845Z
UID:47773-1814084100-1814085900@cotrgtwn.org
SUMMARY:Pre-Service Prayer
DESCRIPTION:Group: Our Church
URL:https://cotrgtwn.org/calendar-event/pre-service-prayer-93/
LOCATION:Church on the Rock\, 925 Golden Oaks Dr\, Georgetown\, TX\, 78626\, United States
END:VEVENT
BEGIN:VEVENT
DTSTART;TZID=America/Chicago:20270627T100000
DTEND;TZID=America/Chicago:20270627T120000
DTSTAMP:20260422T200829
CREATED:20251113T213629Z
LAST-MODIFIED:20251113T213629Z
UID:47774-1814090400-1814097600@cotrgtwn.org
SUMMARY:Sunday Morning Service
DESCRIPTION:Group: Our Church
URL:https://cotrgtwn.org/calendar-event/sunday-morning-service-83/
LOCATION:Church on the Rock\, 925 Golden Oaks Dr\, Georgetown\, TX\, 78626\, United States
END:VEVENT
BEGIN:VEVENT
DTSTART;TZID=America/Chicago:20270627T100000
DTEND;TZID=America/Chicago:20270627T120000
DTSTAMP:20260422T200829
CREATED:20251113T224014Z
LAST-MODIFIED:20251206T222848Z
UID:48390-1814090400-1814097600@cotrgtwn.org
SUMMARY:Sunday Morning Service
DESCRIPTION:Group: Our Church
URL:https://cotrgtwn.org/calendar-event/sunday-morning-service-184/
LOCATION:Church on the Rock\, 925 Golden Oaks Dr\, Georgetown\, TX\, 78626\, United States
END:VEVENT
BEGIN:VEVENT
DTSTART;TZID=America/Chicago:20270627T100000
DTEND;TZID=America/Chicago:20270627T120000
DTSTAMP:20260422T200829
CREATED:20260115T215428Z
LAST-MODIFIED:20260115T215428Z
UID:167256-1814090400-1814097600@cotrgtwn.org
SUMMARY:Sunday Morning Service
DESCRIPTION:Group: Our Church
URL:https://cotrgtwn.org/calendar-event/sunday-morning-service-278/
LOCATION:Church on the Rock\, 925 Golden Oaks Dr\, Georgetown\, TX\, 78626\, United States
END:VEVENT
BEGIN:VEVENT
DTSTART;TZID=America/Chicago:20270627T180000
DTEND;TZID=America/Chicago:20270627T200000
DTSTAMP:20260422T200829
CREATED:20251113T213629Z
LAST-MODIFIED:20251206T222850Z
UID:47776-1814119200-1814126400@cotrgtwn.org
SUMMARY:Sunday Evening Service
DESCRIPTION:Group: Our Church
URL:https://cotrgtwn.org/calendar-event/sunday-evening-service-46/
LOCATION:Church on the Rock\, 925 Golden Oaks Dr\, Georgetown\, TX\, 78626\, United States
END:VEVENT
BEGIN:VEVENT
DTSTART;TZID=America/Chicago:20270630T190000
DTEND;TZID=America/Chicago:20270630T203000
DTSTAMP:20260422T200829
CREATED:20251113T213629Z
LAST-MODIFIED:20251206T222853Z
UID:47777-1814382000-1814387400@cotrgtwn.org
SUMMARY:Wednesday Night Service
DESCRIPTION:Group: Our Church
URL:https://cotrgtwn.org/calendar-event/wednesday-night-service-77/
LOCATION:Church on the Rock\, 925 Golden Oaks Dr\, Georgetown\, TX\, 78626\, United States
END:VEVENT
BEGIN:VEVENT
DTSTART;TZID=America/Chicago:20270630T190000
DTEND;TZID=America/Chicago:20270630T203000
DTSTAMP:20260422T200829
CREATED:20260115T215428Z
LAST-MODIFIED:20260115T215428Z
UID:167257-1814382000-1814387400@cotrgtwn.org
SUMMARY:Wednesday Night Service
DESCRIPTION:Group: Our Church
URL:https://cotrgtwn.org/calendar-event/wednesday-night-service-167/
LOCATION:Church on the Rock\, 925 Golden Oaks Dr\, Georgetown\, TX\, 78626\, United States
END:VEVENT
END:VCALENDAR